BEGIN:VCALENDAR
VERSION:2.0
PRODID:-//PDDE - ECPv6.15.20//NONSGML v1.0//EN
CALSCALE:GREGORIAN
METHOD:PUBLISH
X-ORIGINAL-URL:https://pdde.org
X-WR-CALDESC:Events for PDDE
REFRESH-INTERVAL;VALUE=DURATION:PT1H
X-Robots-Tag:noindex
X-PUBLISHED-TTL:PT1H
BEGIN:VTIMEZONE
TZID:UTC
BEGIN:STANDARD
TZOFFSETFROM:+0000
TZOFFSETTO:+0000
TZNAME:UTC
DTSTART:20250101T000000
END:STANDARD
END:VTIMEZONE
BEGIN:VEVENT
DTSTART;TZID=UTC:20260909T110000
DTEND;TZID=UTC:20260909T120000
DTSTAMP:20260421T132513
CREATED:20240919T185452Z
LAST-MODIFIED:20240919T185452Z
UID:10001945-1788951600-1788955200@pdde.org
SUMMARY:Middletown YMCA - Pedaling for Parkinson's Powered by the Davis Phinney Foundation
DESCRIPTION:Learn how you can feel better and build community by joining a Pedaling for Parkinson’s class in your community! Learn more about the class here.
URL:https://pdde.org/event/middletown-ymca-pedaling-for-parkinsons-powered-by-the-davis-phinney-foundation/2026-09-09/
LOCATION:Middletown YMCA\, 202 E Cochbran St\, Middletown\, DE\, 19709\, United States
ATTACH;FMTTYPE=image/png:https://pdde.org/wp-content/uploads/2024/09/Pedaling-for-Parkinsons-logo-transp-300x300-1.png
ORGANIZER;CN="Davis Phinney Foundation":MAILTO:healthyliving@ymcade.org
END:VEVENT
BEGIN:VEVENT
DTSTART;TZID=UTC:20260911T110000
DTEND;TZID=UTC:20260911T120000
DTSTAMP:20260421T132513
CREATED:20240919T185452Z
LAST-MODIFIED:20240919T185452Z
UID:10001946-1789124400-1789128000@pdde.org
SUMMARY:Middletown YMCA - Pedaling for Parkinson's Powered by the Davis Phinney Foundation
DESCRIPTION:Learn how you can feel better and build community by joining a Pedaling for Parkinson’s class in your community! Learn more about the class here.
URL:https://pdde.org/event/middletown-ymca-pedaling-for-parkinsons-powered-by-the-davis-phinney-foundation/2026-09-11/
LOCATION:Middletown YMCA\, 202 E Cochbran St\, Middletown\, DE\, 19709\, United States
ATTACH;FMTTYPE=image/png:https://pdde.org/wp-content/uploads/2024/09/Pedaling-for-Parkinsons-logo-transp-300x300-1.png
ORGANIZER;CN="Davis Phinney Foundation":MAILTO:healthyliving@ymcade.org
END:VEVENT
BEGIN:VEVENT
DTSTART;TZID=UTC:20260914T110000
DTEND;TZID=UTC:20260914T120000
DTSTAMP:20260421T132513
CREATED:20240919T185452Z
LAST-MODIFIED:20240919T185452Z
UID:10001947-1789383600-1789387200@pdde.org
SUMMARY:Middletown YMCA - Pedaling for Parkinson's Powered by the Davis Phinney Foundation
DESCRIPTION:Learn how you can feel better and build community by joining a Pedaling for Parkinson’s class in your community! Learn more about the class here.
URL:https://pdde.org/event/middletown-ymca-pedaling-for-parkinsons-powered-by-the-davis-phinney-foundation/2026-09-14/
LOCATION:Middletown YMCA\, 202 E Cochbran St\, Middletown\, DE\, 19709\, United States
ATTACH;FMTTYPE=image/png:https://pdde.org/wp-content/uploads/2024/09/Pedaling-for-Parkinsons-logo-transp-300x300-1.png
ORGANIZER;CN="Davis Phinney Foundation":MAILTO:healthyliving@ymcade.org
END:VEVENT
BEGIN:VEVENT
DTSTART;TZID=UTC:20260916T110000
DTEND;TZID=UTC:20260916T120000
DTSTAMP:20260421T132513
CREATED:20240919T185452Z
LAST-MODIFIED:20240919T185452Z
UID:10001948-1789556400-1789560000@pdde.org
SUMMARY:Middletown YMCA - Pedaling for Parkinson's Powered by the Davis Phinney Foundation
DESCRIPTION:Learn how you can feel better and build community by joining a Pedaling for Parkinson’s class in your community! Learn more about the class here.
URL:https://pdde.org/event/middletown-ymca-pedaling-for-parkinsons-powered-by-the-davis-phinney-foundation/2026-09-16/
LOCATION:Middletown YMCA\, 202 E Cochbran St\, Middletown\, DE\, 19709\, United States
ATTACH;FMTTYPE=image/png:https://pdde.org/wp-content/uploads/2024/09/Pedaling-for-Parkinsons-logo-transp-300x300-1.png
ORGANIZER;CN="Davis Phinney Foundation":MAILTO:healthyliving@ymcade.org
END:VEVENT
BEGIN:VEVENT
DTSTART;TZID=UTC:20260918T110000
DTEND;TZID=UTC:20260918T120000
DTSTAMP:20260421T132513
CREATED:20240919T185452Z
LAST-MODIFIED:20240919T185452Z
UID:10001949-1789729200-1789732800@pdde.org
SUMMARY:Middletown YMCA - Pedaling for Parkinson's Powered by the Davis Phinney Foundation
DESCRIPTION:Learn how you can feel better and build community by joining a Pedaling for Parkinson’s class in your community! Learn more about the class here.
URL:https://pdde.org/event/middletown-ymca-pedaling-for-parkinsons-powered-by-the-davis-phinney-foundation/2026-09-18/
LOCATION:Middletown YMCA\, 202 E Cochbran St\, Middletown\, DE\, 19709\, United States
ATTACH;FMTTYPE=image/png:https://pdde.org/wp-content/uploads/2024/09/Pedaling-for-Parkinsons-logo-transp-300x300-1.png
ORGANIZER;CN="Davis Phinney Foundation":MAILTO:healthyliving@ymcade.org
END:VEVENT
BEGIN:VEVENT
DTSTART;TZID=UTC:20260921T110000
DTEND;TZID=UTC:20260921T120000
DTSTAMP:20260421T132513
CREATED:20240919T185452Z
LAST-MODIFIED:20240919T185452Z
UID:10001950-1789988400-1789992000@pdde.org
SUMMARY:Middletown YMCA - Pedaling for Parkinson's Powered by the Davis Phinney Foundation
DESCRIPTION:Learn how you can feel better and build community by joining a Pedaling for Parkinson’s class in your community! Learn more about the class here.
URL:https://pdde.org/event/middletown-ymca-pedaling-for-parkinsons-powered-by-the-davis-phinney-foundation/2026-09-21/
LOCATION:Middletown YMCA\, 202 E Cochbran St\, Middletown\, DE\, 19709\, United States
ATTACH;FMTTYPE=image/png:https://pdde.org/wp-content/uploads/2024/09/Pedaling-for-Parkinsons-logo-transp-300x300-1.png
ORGANIZER;CN="Davis Phinney Foundation":MAILTO:healthyliving@ymcade.org
END:VEVENT
BEGIN:VEVENT
DTSTART;TZID=UTC:20260923T110000
DTEND;TZID=UTC:20260923T120000
DTSTAMP:20260421T132513
CREATED:20240919T185452Z
LAST-MODIFIED:20240919T185452Z
UID:10001951-1790161200-1790164800@pdde.org
SUMMARY:Middletown YMCA - Pedaling for Parkinson's Powered by the Davis Phinney Foundation
DESCRIPTION:Learn how you can feel better and build community by joining a Pedaling for Parkinson’s class in your community! Learn more about the class here.
URL:https://pdde.org/event/middletown-ymca-pedaling-for-parkinsons-powered-by-the-davis-phinney-foundation/2026-09-23/
LOCATION:Middletown YMCA\, 202 E Cochbran St\, Middletown\, DE\, 19709\, United States
ATTACH;FMTTYPE=image/png:https://pdde.org/wp-content/uploads/2024/09/Pedaling-for-Parkinsons-logo-transp-300x300-1.png
ORGANIZER;CN="Davis Phinney Foundation":MAILTO:healthyliving@ymcade.org
END:VEVENT
BEGIN:VEVENT
DTSTART;TZID=UTC:20260925T110000
DTEND;TZID=UTC:20260925T120000
DTSTAMP:20260421T132513
CREATED:20240919T185452Z
LAST-MODIFIED:20240919T185452Z
UID:10001952-1790334000-1790337600@pdde.org
SUMMARY:Middletown YMCA - Pedaling for Parkinson's Powered by the Davis Phinney Foundation
DESCRIPTION:Learn how you can feel better and build community by joining a Pedaling for Parkinson’s class in your community! Learn more about the class here.
URL:https://pdde.org/event/middletown-ymca-pedaling-for-parkinsons-powered-by-the-davis-phinney-foundation/2026-09-25/
LOCATION:Middletown YMCA\, 202 E Cochbran St\, Middletown\, DE\, 19709\, United States
ATTACH;FMTTYPE=image/png:https://pdde.org/wp-content/uploads/2024/09/Pedaling-for-Parkinsons-logo-transp-300x300-1.png
ORGANIZER;CN="Davis Phinney Foundation":MAILTO:healthyliving@ymcade.org
END:VEVENT
BEGIN:VEVENT
DTSTART;TZID=UTC:20260928T110000
DTEND;TZID=UTC:20260928T120000
DTSTAMP:20260421T132513
CREATED:20240919T185452Z
LAST-MODIFIED:20240919T185452Z
UID:10001953-1790593200-1790596800@pdde.org
SUMMARY:Middletown YMCA - Pedaling for Parkinson's Powered by the Davis Phinney Foundation
DESCRIPTION:Learn how you can feel better and build community by joining a Pedaling for Parkinson’s class in your community! Learn more about the class here.
URL:https://pdde.org/event/middletown-ymca-pedaling-for-parkinsons-powered-by-the-davis-phinney-foundation/2026-09-28/
LOCATION:Middletown YMCA\, 202 E Cochbran St\, Middletown\, DE\, 19709\, United States
ATTACH;FMTTYPE=image/png:https://pdde.org/wp-content/uploads/2024/09/Pedaling-for-Parkinsons-logo-transp-300x300-1.png
ORGANIZER;CN="Davis Phinney Foundation":MAILTO:healthyliving@ymcade.org
END:VEVENT
BEGIN:VEVENT
DTSTART;TZID=UTC:20260930T110000
DTEND;TZID=UTC:20260930T120000
DTSTAMP:20260421T132513
CREATED:20240919T185452Z
LAST-MODIFIED:20240919T185452Z
UID:10001954-1790766000-1790769600@pdde.org
SUMMARY:Middletown YMCA - Pedaling for Parkinson's Powered by the Davis Phinney Foundation
DESCRIPTION:Learn how you can feel better and build community by joining a Pedaling for Parkinson’s class in your community! Learn more about the class here.
URL:https://pdde.org/event/middletown-ymca-pedaling-for-parkinsons-powered-by-the-davis-phinney-foundation/2026-09-30/
LOCATION:Middletown YMCA\, 202 E Cochbran St\, Middletown\, DE\, 19709\, United States
ATTACH;FMTTYPE=image/png:https://pdde.org/wp-content/uploads/2024/09/Pedaling-for-Parkinsons-logo-transp-300x300-1.png
ORGANIZER;CN="Davis Phinney Foundation":MAILTO:healthyliving@ymcade.org
END:VEVENT
BEGIN:VEVENT
DTSTART;TZID=UTC:20261002T110000
DTEND;TZID=UTC:20261002T120000
DTSTAMP:20260421T132513
CREATED:20240919T185452Z
LAST-MODIFIED:20240919T185452Z
UID:10001955-1790938800-1790942400@pdde.org
SUMMARY:Middletown YMCA - Pedaling for Parkinson's Powered by the Davis Phinney Foundation
DESCRIPTION:Learn how you can feel better and build community by joining a Pedaling for Parkinson’s class in your community! Learn more about the class here.
URL:https://pdde.org/event/middletown-ymca-pedaling-for-parkinsons-powered-by-the-davis-phinney-foundation/2026-10-02/
LOCATION:Middletown YMCA\, 202 E Cochbran St\, Middletown\, DE\, 19709\, United States
ATTACH;FMTTYPE=image/png:https://pdde.org/wp-content/uploads/2024/09/Pedaling-for-Parkinsons-logo-transp-300x300-1.png
ORGANIZER;CN="Davis Phinney Foundation":MAILTO:healthyliving@ymcade.org
END:VEVENT
BEGIN:VEVENT
DTSTART;TZID=UTC:20261005T110000
DTEND;TZID=UTC:20261005T120000
DTSTAMP:20260421T132513
CREATED:20240919T185452Z
LAST-MODIFIED:20240919T185452Z
UID:10001956-1791198000-1791201600@pdde.org
SUMMARY:Middletown YMCA - Pedaling for Parkinson's Powered by the Davis Phinney Foundation
DESCRIPTION:Learn how you can feel better and build community by joining a Pedaling for Parkinson’s class in your community! Learn more about the class here.
URL:https://pdde.org/event/middletown-ymca-pedaling-for-parkinsons-powered-by-the-davis-phinney-foundation/2026-10-05/
LOCATION:Middletown YMCA\, 202 E Cochbran St\, Middletown\, DE\, 19709\, United States
ATTACH;FMTTYPE=image/png:https://pdde.org/wp-content/uploads/2024/09/Pedaling-for-Parkinsons-logo-transp-300x300-1.png
ORGANIZER;CN="Davis Phinney Foundation":MAILTO:healthyliving@ymcade.org
END:VEVENT
BEGIN:VEVENT
DTSTART;TZID=UTC:20261007T110000
DTEND;TZID=UTC:20261007T120000
DTSTAMP:20260421T132513
CREATED:20240919T185452Z
LAST-MODIFIED:20240919T185452Z
UID:10001957-1791370800-1791374400@pdde.org
SUMMARY:Middletown YMCA - Pedaling for Parkinson's Powered by the Davis Phinney Foundation
DESCRIPTION:Learn how you can feel better and build community by joining a Pedaling for Parkinson’s class in your community! Learn more about the class here.
URL:https://pdde.org/event/middletown-ymca-pedaling-for-parkinsons-powered-by-the-davis-phinney-foundation/2026-10-07/
LOCATION:Middletown YMCA\, 202 E Cochbran St\, Middletown\, DE\, 19709\, United States
ATTACH;FMTTYPE=image/png:https://pdde.org/wp-content/uploads/2024/09/Pedaling-for-Parkinsons-logo-transp-300x300-1.png
ORGANIZER;CN="Davis Phinney Foundation":MAILTO:healthyliving@ymcade.org
END:VEVENT
BEGIN:VEVENT
DTSTART;TZID=UTC:20261009T110000
DTEND;TZID=UTC:20261009T120000
DTSTAMP:20260421T132513
CREATED:20240919T185452Z
LAST-MODIFIED:20240919T185452Z
UID:10001958-1791543600-1791547200@pdde.org
SUMMARY:Middletown YMCA - Pedaling for Parkinson's Powered by the Davis Phinney Foundation
DESCRIPTION:Learn how you can feel better and build community by joining a Pedaling for Parkinson’s class in your community! Learn more about the class here.
URL:https://pdde.org/event/middletown-ymca-pedaling-for-parkinsons-powered-by-the-davis-phinney-foundation/2026-10-09/
LOCATION:Middletown YMCA\, 202 E Cochbran St\, Middletown\, DE\, 19709\, United States
ATTACH;FMTTYPE=image/png:https://pdde.org/wp-content/uploads/2024/09/Pedaling-for-Parkinsons-logo-transp-300x300-1.png
ORGANIZER;CN="Davis Phinney Foundation":MAILTO:healthyliving@ymcade.org
END:VEVENT
BEGIN:VEVENT
DTSTART;TZID=UTC:20261012T110000
DTEND;TZID=UTC:20261012T120000
DTSTAMP:20260421T132513
CREATED:20240919T185452Z
LAST-MODIFIED:20240919T185452Z
UID:10001959-1791802800-1791806400@pdde.org
SUMMARY:Middletown YMCA - Pedaling for Parkinson's Powered by the Davis Phinney Foundation
DESCRIPTION:Learn how you can feel better and build community by joining a Pedaling for Parkinson’s class in your community! Learn more about the class here.
URL:https://pdde.org/event/middletown-ymca-pedaling-for-parkinsons-powered-by-the-davis-phinney-foundation/2026-10-12/
LOCATION:Middletown YMCA\, 202 E Cochbran St\, Middletown\, DE\, 19709\, United States
ATTACH;FMTTYPE=image/png:https://pdde.org/wp-content/uploads/2024/09/Pedaling-for-Parkinsons-logo-transp-300x300-1.png
ORGANIZER;CN="Davis Phinney Foundation":MAILTO:healthyliving@ymcade.org
END:VEVENT
BEGIN:VEVENT
DTSTART;TZID=UTC:20261014T110000
DTEND;TZID=UTC:20261014T120000
DTSTAMP:20260421T132513
CREATED:20240919T185452Z
LAST-MODIFIED:20240919T185452Z
UID:10001960-1791975600-1791979200@pdde.org
SUMMARY:Middletown YMCA - Pedaling for Parkinson's Powered by the Davis Phinney Foundation
DESCRIPTION:Learn how you can feel better and build community by joining a Pedaling for Parkinson’s class in your community! Learn more about the class here.
URL:https://pdde.org/event/middletown-ymca-pedaling-for-parkinsons-powered-by-the-davis-phinney-foundation/2026-10-14/
LOCATION:Middletown YMCA\, 202 E Cochbran St\, Middletown\, DE\, 19709\, United States
ATTACH;FMTTYPE=image/png:https://pdde.org/wp-content/uploads/2024/09/Pedaling-for-Parkinsons-logo-transp-300x300-1.png
ORGANIZER;CN="Davis Phinney Foundation":MAILTO:healthyliving@ymcade.org
END:VEVENT
BEGIN:VEVENT
DTSTART;TZID=UTC:20261016T110000
DTEND;TZID=UTC:20261016T120000
DTSTAMP:20260421T132513
CREATED:20240919T185452Z
LAST-MODIFIED:20240919T185452Z
UID:10001961-1792148400-1792152000@pdde.org
SUMMARY:Middletown YMCA - Pedaling for Parkinson's Powered by the Davis Phinney Foundation
DESCRIPTION:Learn how you can feel better and build community by joining a Pedaling for Parkinson’s class in your community! Learn more about the class here.
URL:https://pdde.org/event/middletown-ymca-pedaling-for-parkinsons-powered-by-the-davis-phinney-foundation/2026-10-16/
LOCATION:Middletown YMCA\, 202 E Cochbran St\, Middletown\, DE\, 19709\, United States
ATTACH;FMTTYPE=image/png:https://pdde.org/wp-content/uploads/2024/09/Pedaling-for-Parkinsons-logo-transp-300x300-1.png
ORGANIZER;CN="Davis Phinney Foundation":MAILTO:healthyliving@ymcade.org
END:VEVENT
BEGIN:VEVENT
DTSTART;TZID=UTC:20261019T110000
DTEND;TZID=UTC:20261019T120000
DTSTAMP:20260421T132513
CREATED:20240919T185452Z
LAST-MODIFIED:20240919T185452Z
UID:10001962-1792407600-1792411200@pdde.org
SUMMARY:Middletown YMCA - Pedaling for Parkinson's Powered by the Davis Phinney Foundation
DESCRIPTION:Learn how you can feel better and build community by joining a Pedaling for Parkinson’s class in your community! Learn more about the class here.
URL:https://pdde.org/event/middletown-ymca-pedaling-for-parkinsons-powered-by-the-davis-phinney-foundation/2026-10-19/
LOCATION:Middletown YMCA\, 202 E Cochbran St\, Middletown\, DE\, 19709\, United States
ATTACH;FMTTYPE=image/png:https://pdde.org/wp-content/uploads/2024/09/Pedaling-for-Parkinsons-logo-transp-300x300-1.png
ORGANIZER;CN="Davis Phinney Foundation":MAILTO:healthyliving@ymcade.org
END:VEVENT
BEGIN:VEVENT
DTSTART;TZID=UTC:20261021T110000
DTEND;TZID=UTC:20261021T120000
DTSTAMP:20260421T132513
CREATED:20240919T185452Z
LAST-MODIFIED:20240919T185452Z
UID:10001963-1792580400-1792584000@pdde.org
SUMMARY:Middletown YMCA - Pedaling for Parkinson's Powered by the Davis Phinney Foundation
DESCRIPTION:Learn how you can feel better and build community by joining a Pedaling for Parkinson’s class in your community! Learn more about the class here.
URL:https://pdde.org/event/middletown-ymca-pedaling-for-parkinsons-powered-by-the-davis-phinney-foundation/2026-10-21/
LOCATION:Middletown YMCA\, 202 E Cochbran St\, Middletown\, DE\, 19709\, United States
ATTACH;FMTTYPE=image/png:https://pdde.org/wp-content/uploads/2024/09/Pedaling-for-Parkinsons-logo-transp-300x300-1.png
ORGANIZER;CN="Davis Phinney Foundation":MAILTO:healthyliving@ymcade.org
END:VEVENT
BEGIN:VEVENT
DTSTART;TZID=UTC:20261023T110000
DTEND;TZID=UTC:20261023T120000
DTSTAMP:20260421T132513
CREATED:20240919T185452Z
LAST-MODIFIED:20240919T185452Z
UID:10001964-1792753200-1792756800@pdde.org
SUMMARY:Middletown YMCA - Pedaling for Parkinson's Powered by the Davis Phinney Foundation
DESCRIPTION:Learn how you can feel better and build community by joining a Pedaling for Parkinson’s class in your community! Learn more about the class here.
URL:https://pdde.org/event/middletown-ymca-pedaling-for-parkinsons-powered-by-the-davis-phinney-foundation/2026-10-23/
LOCATION:Middletown YMCA\, 202 E Cochbran St\, Middletown\, DE\, 19709\, United States
ATTACH;FMTTYPE=image/png:https://pdde.org/wp-content/uploads/2024/09/Pedaling-for-Parkinsons-logo-transp-300x300-1.png
ORGANIZER;CN="Davis Phinney Foundation":MAILTO:healthyliving@ymcade.org
END:VEVENT
BEGIN:VEVENT
DTSTART;TZID=UTC:20261026T110000
DTEND;TZID=UTC:20261026T120000
DTSTAMP:20260421T132513
CREATED:20240919T185452Z
LAST-MODIFIED:20240919T185452Z
UID:10001965-1793012400-1793016000@pdde.org
SUMMARY:Middletown YMCA - Pedaling for Parkinson's Powered by the Davis Phinney Foundation
DESCRIPTION:Learn how you can feel better and build community by joining a Pedaling for Parkinson’s class in your community! Learn more about the class here.
URL:https://pdde.org/event/middletown-ymca-pedaling-for-parkinsons-powered-by-the-davis-phinney-foundation/2026-10-26/
LOCATION:Middletown YMCA\, 202 E Cochbran St\, Middletown\, DE\, 19709\, United States
ATTACH;FMTTYPE=image/png:https://pdde.org/wp-content/uploads/2024/09/Pedaling-for-Parkinsons-logo-transp-300x300-1.png
ORGANIZER;CN="Davis Phinney Foundation":MAILTO:healthyliving@ymcade.org
END:VEVENT
BEGIN:VEVENT
DTSTART;TZID=UTC:20261028T110000
DTEND;TZID=UTC:20261028T120000
DTSTAMP:20260421T132513
CREATED:20240919T185452Z
LAST-MODIFIED:20240919T185452Z
UID:10001966-1793185200-1793188800@pdde.org
SUMMARY:Middletown YMCA - Pedaling for Parkinson's Powered by the Davis Phinney Foundation
DESCRIPTION:Learn how you can feel better and build community by joining a Pedaling for Parkinson’s class in your community! Learn more about the class here.
URL:https://pdde.org/event/middletown-ymca-pedaling-for-parkinsons-powered-by-the-davis-phinney-foundation/2026-10-28/
LOCATION:Middletown YMCA\, 202 E Cochbran St\, Middletown\, DE\, 19709\, United States
ATTACH;FMTTYPE=image/png:https://pdde.org/wp-content/uploads/2024/09/Pedaling-for-Parkinsons-logo-transp-300x300-1.png
ORGANIZER;CN="Davis Phinney Foundation":MAILTO:healthyliving@ymcade.org
END:VEVENT
BEGIN:VEVENT
DTSTART;TZID=UTC:20261030T110000
DTEND;TZID=UTC:20261030T120000
DTSTAMP:20260421T132513
CREATED:20240919T185452Z
LAST-MODIFIED:20240919T185452Z
UID:10001967-1793358000-1793361600@pdde.org
SUMMARY:Middletown YMCA - Pedaling for Parkinson's Powered by the Davis Phinney Foundation
DESCRIPTION:Learn how you can feel better and build community by joining a Pedaling for Parkinson’s class in your community! Learn more about the class here.
URL:https://pdde.org/event/middletown-ymca-pedaling-for-parkinsons-powered-by-the-davis-phinney-foundation/2026-10-30/
LOCATION:Middletown YMCA\, 202 E Cochbran St\, Middletown\, DE\, 19709\, United States
ATTACH;FMTTYPE=image/png:https://pdde.org/wp-content/uploads/2024/09/Pedaling-for-Parkinsons-logo-transp-300x300-1.png
ORGANIZER;CN="Davis Phinney Foundation":MAILTO:healthyliving@ymcade.org
END:VEVENT
BEGIN:VEVENT
DTSTART;TZID=UTC:20261102T110000
DTEND;TZID=UTC:20261102T120000
DTSTAMP:20260421T132513
CREATED:20240919T185452Z
LAST-MODIFIED:20240919T185452Z
UID:10001968-1793617200-1793620800@pdde.org
SUMMARY:Middletown YMCA - Pedaling for Parkinson's Powered by the Davis Phinney Foundation
DESCRIPTION:Learn how you can feel better and build community by joining a Pedaling for Parkinson’s class in your community! Learn more about the class here.
URL:https://pdde.org/event/middletown-ymca-pedaling-for-parkinsons-powered-by-the-davis-phinney-foundation/2026-11-02/
LOCATION:Middletown YMCA\, 202 E Cochbran St\, Middletown\, DE\, 19709\, United States
ATTACH;FMTTYPE=image/png:https://pdde.org/wp-content/uploads/2024/09/Pedaling-for-Parkinsons-logo-transp-300x300-1.png
ORGANIZER;CN="Davis Phinney Foundation":MAILTO:healthyliving@ymcade.org
END:VEVENT
BEGIN:VEVENT
DTSTART;TZID=UTC:20261104T110000
DTEND;TZID=UTC:20261104T120000
DTSTAMP:20260421T132513
CREATED:20240919T185452Z
LAST-MODIFIED:20240919T185452Z
UID:10001969-1793790000-1793793600@pdde.org
SUMMARY:Middletown YMCA - Pedaling for Parkinson's Powered by the Davis Phinney Foundation
DESCRIPTION:Learn how you can feel better and build community by joining a Pedaling for Parkinson’s class in your community! Learn more about the class here.
URL:https://pdde.org/event/middletown-ymca-pedaling-for-parkinsons-powered-by-the-davis-phinney-foundation/2026-11-04/
LOCATION:Middletown YMCA\, 202 E Cochbran St\, Middletown\, DE\, 19709\, United States
ATTACH;FMTTYPE=image/png:https://pdde.org/wp-content/uploads/2024/09/Pedaling-for-Parkinsons-logo-transp-300x300-1.png
ORGANIZER;CN="Davis Phinney Foundation":MAILTO:healthyliving@ymcade.org
END:VEVENT
BEGIN:VEVENT
DTSTART;TZID=UTC:20261106T110000
DTEND;TZID=UTC:20261106T120000
DTSTAMP:20260421T132513
CREATED:20240919T185452Z
LAST-MODIFIED:20240919T185452Z
UID:10001970-1793962800-1793966400@pdde.org
SUMMARY:Middletown YMCA - Pedaling for Parkinson's Powered by the Davis Phinney Foundation
DESCRIPTION:Learn how you can feel better and build community by joining a Pedaling for Parkinson’s class in your community! Learn more about the class here.
URL:https://pdde.org/event/middletown-ymca-pedaling-for-parkinsons-powered-by-the-davis-phinney-foundation/2026-11-06/
LOCATION:Middletown YMCA\, 202 E Cochbran St\, Middletown\, DE\, 19709\, United States
ATTACH;FMTTYPE=image/png:https://pdde.org/wp-content/uploads/2024/09/Pedaling-for-Parkinsons-logo-transp-300x300-1.png
ORGANIZER;CN="Davis Phinney Foundation":MAILTO:healthyliving@ymcade.org
END:VEVENT
BEGIN:VEVENT
DTSTART;TZID=UTC:20261109T110000
DTEND;TZID=UTC:20261109T120000
DTSTAMP:20260421T132513
CREATED:20240919T185452Z
LAST-MODIFIED:20240919T185452Z
UID:10001971-1794222000-1794225600@pdde.org
SUMMARY:Middletown YMCA - Pedaling for Parkinson's Powered by the Davis Phinney Foundation
DESCRIPTION:Learn how you can feel better and build community by joining a Pedaling for Parkinson’s class in your community! Learn more about the class here.
URL:https://pdde.org/event/middletown-ymca-pedaling-for-parkinsons-powered-by-the-davis-phinney-foundation/2026-11-09/
LOCATION:Middletown YMCA\, 202 E Cochbran St\, Middletown\, DE\, 19709\, United States
ATTACH;FMTTYPE=image/png:https://pdde.org/wp-content/uploads/2024/09/Pedaling-for-Parkinsons-logo-transp-300x300-1.png
ORGANIZER;CN="Davis Phinney Foundation":MAILTO:healthyliving@ymcade.org
END:VEVENT
BEGIN:VEVENT
DTSTART;TZID=UTC:20261111T110000
DTEND;TZID=UTC:20261111T120000
DTSTAMP:20260421T132513
CREATED:20240919T185452Z
LAST-MODIFIED:20240919T185452Z
UID:10001972-1794394800-1794398400@pdde.org
SUMMARY:Middletown YMCA - Pedaling for Parkinson's Powered by the Davis Phinney Foundation
DESCRIPTION:Learn how you can feel better and build community by joining a Pedaling for Parkinson’s class in your community! Learn more about the class here.
URL:https://pdde.org/event/middletown-ymca-pedaling-for-parkinsons-powered-by-the-davis-phinney-foundation/2026-11-11/
LOCATION:Middletown YMCA\, 202 E Cochbran St\, Middletown\, DE\, 19709\, United States
ATTACH;FMTTYPE=image/png:https://pdde.org/wp-content/uploads/2024/09/Pedaling-for-Parkinsons-logo-transp-300x300-1.png
ORGANIZER;CN="Davis Phinney Foundation":MAILTO:healthyliving@ymcade.org
END:VEVENT
BEGIN:VEVENT
DTSTART;TZID=UTC:20261113T110000
DTEND;TZID=UTC:20261113T120000
DTSTAMP:20260421T132513
CREATED:20240919T185452Z
LAST-MODIFIED:20240919T185452Z
UID:10001973-1794567600-1794571200@pdde.org
SUMMARY:Middletown YMCA - Pedaling for Parkinson's Powered by the Davis Phinney Foundation
DESCRIPTION:Learn how you can feel better and build community by joining a Pedaling for Parkinson’s class in your community! Learn more about the class here.
URL:https://pdde.org/event/middletown-ymca-pedaling-for-parkinsons-powered-by-the-davis-phinney-foundation/2026-11-13/
LOCATION:Middletown YMCA\, 202 E Cochbran St\, Middletown\, DE\, 19709\, United States
ATTACH;FMTTYPE=image/png:https://pdde.org/wp-content/uploads/2024/09/Pedaling-for-Parkinsons-logo-transp-300x300-1.png
ORGANIZER;CN="Davis Phinney Foundation":MAILTO:healthyliving@ymcade.org
END:VEVENT
BEGIN:VEVENT
DTSTART;TZID=UTC:20261116T110000
DTEND;TZID=UTC:20261116T120000
DTSTAMP:20260421T132513
CREATED:20240919T185452Z
LAST-MODIFIED:20240919T185452Z
UID:10001974-1794826800-1794830400@pdde.org
SUMMARY:Middletown YMCA - Pedaling for Parkinson's Powered by the Davis Phinney Foundation
DESCRIPTION:Learn how you can feel better and build community by joining a Pedaling for Parkinson’s class in your community! Learn more about the class here.
URL:https://pdde.org/event/middletown-ymca-pedaling-for-parkinsons-powered-by-the-davis-phinney-foundation/2026-11-16/
LOCATION:Middletown YMCA\, 202 E Cochbran St\, Middletown\, DE\, 19709\, United States
ATTACH;FMTTYPE=image/png:https://pdde.org/wp-content/uploads/2024/09/Pedaling-for-Parkinsons-logo-transp-300x300-1.png
ORGANIZER;CN="Davis Phinney Foundation":MAILTO:healthyliving@ymcade.org
END:VEVENT
END:VCALENDAR