BEGIN:VCALENDAR
VERSION:2.0
PRODID:-//PDDE - ECPv6.15.20//NONSGML v1.0//EN
CALSCALE:GREGORIAN
METHOD:PUBLISH
X-ORIGINAL-URL:https://pdde.org
X-WR-CALDESC:Events for PDDE
REFRESH-INTERVAL;VALUE=DURATION:PT1H
X-Robots-Tag:noindex
X-PUBLISHED-TTL:PT1H
BEGIN:VTIMEZONE
TZID:UTC
BEGIN:STANDARD
TZOFFSETFROM:+0000
TZOFFSETTO:+0000
TZNAME:UTC
DTSTART:20260101T000000
END:STANDARD
END:VTIMEZONE
BEGIN:VEVENT
DTSTART;TZID=UTC:20270521T123000
DTEND;TZID=UTC:20270521T133000
DTSTAMP:20260424T012259
CREATED:20240919T185517Z
LAST-MODIFIED:20240919T185517Z
UID:10002837-1810902600-1810906200@pdde.org
SUMMARY:Dover YMCA - Pedaling for Parkinson's Powered by the Davis Phinney Foundation
DESCRIPTION:Learn how you can feel better and build community by joining a Pedaling for Parkinson’s class in your community! Learn more about the class here.
URL:https://pdde.org/event/dover-ymca-pedaling-for-parkinsons-powered-by-the-davis-phinney-foundation/2027-05-21/
LOCATION:Dover YMCA\, 1137 S. State St\, Dover\, DE\, 19901\, United States
ATTACH;FMTTYPE=image/png:https://pdde.org/wp-content/uploads/2024/09/Pedaling-for-Parkinsons-logo-transp-300x300-1.png
ORGANIZER;CN="Davis Phinney Foundation":MAILTO:healthyliving@ymcade.org
END:VEVENT
BEGIN:VEVENT
DTSTART;TZID=UTC:20270524T123000
DTEND;TZID=UTC:20270524T133000
DTSTAMP:20260424T012259
CREATED:20240919T185517Z
LAST-MODIFIED:20240919T185517Z
UID:10002838-1811161800-1811165400@pdde.org
SUMMARY:Dover YMCA - Pedaling for Parkinson's Powered by the Davis Phinney Foundation
DESCRIPTION:Learn how you can feel better and build community by joining a Pedaling for Parkinson’s class in your community! Learn more about the class here.
URL:https://pdde.org/event/dover-ymca-pedaling-for-parkinsons-powered-by-the-davis-phinney-foundation/2027-05-24/
LOCATION:Dover YMCA\, 1137 S. State St\, Dover\, DE\, 19901\, United States
ATTACH;FMTTYPE=image/png:https://pdde.org/wp-content/uploads/2024/09/Pedaling-for-Parkinsons-logo-transp-300x300-1.png
ORGANIZER;CN="Davis Phinney Foundation":MAILTO:healthyliving@ymcade.org
END:VEVENT
BEGIN:VEVENT
DTSTART;TZID=UTC:20270526T123000
DTEND;TZID=UTC:20270526T133000
DTSTAMP:20260424T012259
CREATED:20240919T185517Z
LAST-MODIFIED:20240919T185517Z
UID:10002839-1811334600-1811338200@pdde.org
SUMMARY:Dover YMCA - Pedaling for Parkinson's Powered by the Davis Phinney Foundation
DESCRIPTION:Learn how you can feel better and build community by joining a Pedaling for Parkinson’s class in your community! Learn more about the class here.
URL:https://pdde.org/event/dover-ymca-pedaling-for-parkinsons-powered-by-the-davis-phinney-foundation/2027-05-26/
LOCATION:Dover YMCA\, 1137 S. State St\, Dover\, DE\, 19901\, United States
ATTACH;FMTTYPE=image/png:https://pdde.org/wp-content/uploads/2024/09/Pedaling-for-Parkinsons-logo-transp-300x300-1.png
ORGANIZER;CN="Davis Phinney Foundation":MAILTO:healthyliving@ymcade.org
END:VEVENT
BEGIN:VEVENT
DTSTART;TZID=UTC:20270528T123000
DTEND;TZID=UTC:20270528T133000
DTSTAMP:20260424T012259
CREATED:20240919T185517Z
LAST-MODIFIED:20240919T185517Z
UID:10002840-1811507400-1811511000@pdde.org
SUMMARY:Dover YMCA - Pedaling for Parkinson's Powered by the Davis Phinney Foundation
DESCRIPTION:Learn how you can feel better and build community by joining a Pedaling for Parkinson’s class in your community! Learn more about the class here.
URL:https://pdde.org/event/dover-ymca-pedaling-for-parkinsons-powered-by-the-davis-phinney-foundation/2027-05-28/
LOCATION:Dover YMCA\, 1137 S. State St\, Dover\, DE\, 19901\, United States
ATTACH;FMTTYPE=image/png:https://pdde.org/wp-content/uploads/2024/09/Pedaling-for-Parkinsons-logo-transp-300x300-1.png
ORGANIZER;CN="Davis Phinney Foundation":MAILTO:healthyliving@ymcade.org
END:VEVENT
BEGIN:VEVENT
DTSTART;TZID=UTC:20270531T123000
DTEND;TZID=UTC:20270531T133000
DTSTAMP:20260424T012259
CREATED:20240919T185517Z
LAST-MODIFIED:20240919T185517Z
UID:10002841-1811766600-1811770200@pdde.org
SUMMARY:Dover YMCA - Pedaling for Parkinson's Powered by the Davis Phinney Foundation
DESCRIPTION:Learn how you can feel better and build community by joining a Pedaling for Parkinson’s class in your community! Learn more about the class here.
URL:https://pdde.org/event/dover-ymca-pedaling-for-parkinsons-powered-by-the-davis-phinney-foundation/2027-05-31/
LOCATION:Dover YMCA\, 1137 S. State St\, Dover\, DE\, 19901\, United States
ATTACH;FMTTYPE=image/png:https://pdde.org/wp-content/uploads/2024/09/Pedaling-for-Parkinsons-logo-transp-300x300-1.png
ORGANIZER;CN="Davis Phinney Foundation":MAILTO:healthyliving@ymcade.org
END:VEVENT
BEGIN:VEVENT
DTSTART;TZID=UTC:20270602T123000
DTEND;TZID=UTC:20270602T133000
DTSTAMP:20260424T012259
CREATED:20240919T185517Z
LAST-MODIFIED:20240919T185517Z
UID:10002842-1811939400-1811943000@pdde.org
SUMMARY:Dover YMCA - Pedaling for Parkinson's Powered by the Davis Phinney Foundation
DESCRIPTION:Learn how you can feel better and build community by joining a Pedaling for Parkinson’s class in your community! Learn more about the class here.
URL:https://pdde.org/event/dover-ymca-pedaling-for-parkinsons-powered-by-the-davis-phinney-foundation/2027-06-02/
LOCATION:Dover YMCA\, 1137 S. State St\, Dover\, DE\, 19901\, United States
ATTACH;FMTTYPE=image/png:https://pdde.org/wp-content/uploads/2024/09/Pedaling-for-Parkinsons-logo-transp-300x300-1.png
ORGANIZER;CN="Davis Phinney Foundation":MAILTO:healthyliving@ymcade.org
END:VEVENT
BEGIN:VEVENT
DTSTART;TZID=UTC:20270604T123000
DTEND;TZID=UTC:20270604T133000
DTSTAMP:20260424T012259
CREATED:20240919T185517Z
LAST-MODIFIED:20240919T185517Z
UID:10002843-1812112200-1812115800@pdde.org
SUMMARY:Dover YMCA - Pedaling for Parkinson's Powered by the Davis Phinney Foundation
DESCRIPTION:Learn how you can feel better and build community by joining a Pedaling for Parkinson’s class in your community! Learn more about the class here.
URL:https://pdde.org/event/dover-ymca-pedaling-for-parkinsons-powered-by-the-davis-phinney-foundation/2027-06-04/
LOCATION:Dover YMCA\, 1137 S. State St\, Dover\, DE\, 19901\, United States
ATTACH;FMTTYPE=image/png:https://pdde.org/wp-content/uploads/2024/09/Pedaling-for-Parkinsons-logo-transp-300x300-1.png
ORGANIZER;CN="Davis Phinney Foundation":MAILTO:healthyliving@ymcade.org
END:VEVENT
BEGIN:VEVENT
DTSTART;TZID=UTC:20270607T123000
DTEND;TZID=UTC:20270607T133000
DTSTAMP:20260424T012259
CREATED:20240919T185517Z
LAST-MODIFIED:20240919T185517Z
UID:10002844-1812371400-1812375000@pdde.org
SUMMARY:Dover YMCA - Pedaling for Parkinson's Powered by the Davis Phinney Foundation
DESCRIPTION:Learn how you can feel better and build community by joining a Pedaling for Parkinson’s class in your community! Learn more about the class here.
URL:https://pdde.org/event/dover-ymca-pedaling-for-parkinsons-powered-by-the-davis-phinney-foundation/2027-06-07/
LOCATION:Dover YMCA\, 1137 S. State St\, Dover\, DE\, 19901\, United States
ATTACH;FMTTYPE=image/png:https://pdde.org/wp-content/uploads/2024/09/Pedaling-for-Parkinsons-logo-transp-300x300-1.png
ORGANIZER;CN="Davis Phinney Foundation":MAILTO:healthyliving@ymcade.org
END:VEVENT
BEGIN:VEVENT
DTSTART;TZID=UTC:20270609T123000
DTEND;TZID=UTC:20270609T133000
DTSTAMP:20260424T012259
CREATED:20240919T185517Z
LAST-MODIFIED:20240919T185517Z
UID:10002845-1812544200-1812547800@pdde.org
SUMMARY:Dover YMCA - Pedaling for Parkinson's Powered by the Davis Phinney Foundation
DESCRIPTION:Learn how you can feel better and build community by joining a Pedaling for Parkinson’s class in your community! Learn more about the class here.
URL:https://pdde.org/event/dover-ymca-pedaling-for-parkinsons-powered-by-the-davis-phinney-foundation/2027-06-09/
LOCATION:Dover YMCA\, 1137 S. State St\, Dover\, DE\, 19901\, United States
ATTACH;FMTTYPE=image/png:https://pdde.org/wp-content/uploads/2024/09/Pedaling-for-Parkinsons-logo-transp-300x300-1.png
ORGANIZER;CN="Davis Phinney Foundation":MAILTO:healthyliving@ymcade.org
END:VEVENT
BEGIN:VEVENT
DTSTART;TZID=UTC:20270611T123000
DTEND;TZID=UTC:20270611T133000
DTSTAMP:20260424T012259
CREATED:20240919T185517Z
LAST-MODIFIED:20240919T185517Z
UID:10002846-1812717000-1812720600@pdde.org
SUMMARY:Dover YMCA - Pedaling for Parkinson's Powered by the Davis Phinney Foundation
DESCRIPTION:Learn how you can feel better and build community by joining a Pedaling for Parkinson’s class in your community! Learn more about the class here.
URL:https://pdde.org/event/dover-ymca-pedaling-for-parkinsons-powered-by-the-davis-phinney-foundation/2027-06-11/
LOCATION:Dover YMCA\, 1137 S. State St\, Dover\, DE\, 19901\, United States
ATTACH;FMTTYPE=image/png:https://pdde.org/wp-content/uploads/2024/09/Pedaling-for-Parkinsons-logo-transp-300x300-1.png
ORGANIZER;CN="Davis Phinney Foundation":MAILTO:healthyliving@ymcade.org
END:VEVENT
BEGIN:VEVENT
DTSTART;TZID=UTC:20270614T123000
DTEND;TZID=UTC:20270614T133000
DTSTAMP:20260424T012259
CREATED:20240919T185517Z
LAST-MODIFIED:20240919T185517Z
UID:10002847-1812976200-1812979800@pdde.org
SUMMARY:Dover YMCA - Pedaling for Parkinson's Powered by the Davis Phinney Foundation
DESCRIPTION:Learn how you can feel better and build community by joining a Pedaling for Parkinson’s class in your community! Learn more about the class here.
URL:https://pdde.org/event/dover-ymca-pedaling-for-parkinsons-powered-by-the-davis-phinney-foundation/2027-06-14/
LOCATION:Dover YMCA\, 1137 S. State St\, Dover\, DE\, 19901\, United States
ATTACH;FMTTYPE=image/png:https://pdde.org/wp-content/uploads/2024/09/Pedaling-for-Parkinsons-logo-transp-300x300-1.png
ORGANIZER;CN="Davis Phinney Foundation":MAILTO:healthyliving@ymcade.org
END:VEVENT
BEGIN:VEVENT
DTSTART;TZID=UTC:20270616T123000
DTEND;TZID=UTC:20270616T133000
DTSTAMP:20260424T012259
CREATED:20240919T185517Z
LAST-MODIFIED:20240919T185517Z
UID:10002848-1813149000-1813152600@pdde.org
SUMMARY:Dover YMCA - Pedaling for Parkinson's Powered by the Davis Phinney Foundation
DESCRIPTION:Learn how you can feel better and build community by joining a Pedaling for Parkinson’s class in your community! Learn more about the class here.
URL:https://pdde.org/event/dover-ymca-pedaling-for-parkinsons-powered-by-the-davis-phinney-foundation/2027-06-16/
LOCATION:Dover YMCA\, 1137 S. State St\, Dover\, DE\, 19901\, United States
ATTACH;FMTTYPE=image/png:https://pdde.org/wp-content/uploads/2024/09/Pedaling-for-Parkinsons-logo-transp-300x300-1.png
ORGANIZER;CN="Davis Phinney Foundation":MAILTO:healthyliving@ymcade.org
END:VEVENT
BEGIN:VEVENT
DTSTART;TZID=UTC:20270618T123000
DTEND;TZID=UTC:20270618T133000
DTSTAMP:20260424T012259
CREATED:20240919T185517Z
LAST-MODIFIED:20240919T185517Z
UID:10002849-1813321800-1813325400@pdde.org
SUMMARY:Dover YMCA - Pedaling for Parkinson's Powered by the Davis Phinney Foundation
DESCRIPTION:Learn how you can feel better and build community by joining a Pedaling for Parkinson’s class in your community! Learn more about the class here.
URL:https://pdde.org/event/dover-ymca-pedaling-for-parkinsons-powered-by-the-davis-phinney-foundation/2027-06-18/
LOCATION:Dover YMCA\, 1137 S. State St\, Dover\, DE\, 19901\, United States
ATTACH;FMTTYPE=image/png:https://pdde.org/wp-content/uploads/2024/09/Pedaling-for-Parkinsons-logo-transp-300x300-1.png
ORGANIZER;CN="Davis Phinney Foundation":MAILTO:healthyliving@ymcade.org
END:VEVENT
BEGIN:VEVENT
DTSTART;TZID=UTC:20270621T123000
DTEND;TZID=UTC:20270621T133000
DTSTAMP:20260424T012259
CREATED:20240919T185517Z
LAST-MODIFIED:20240919T185517Z
UID:10002850-1813581000-1813584600@pdde.org
SUMMARY:Dover YMCA - Pedaling for Parkinson's Powered by the Davis Phinney Foundation
DESCRIPTION:Learn how you can feel better and build community by joining a Pedaling for Parkinson’s class in your community! Learn more about the class here.
URL:https://pdde.org/event/dover-ymca-pedaling-for-parkinsons-powered-by-the-davis-phinney-foundation/2027-06-21/
LOCATION:Dover YMCA\, 1137 S. State St\, Dover\, DE\, 19901\, United States
ATTACH;FMTTYPE=image/png:https://pdde.org/wp-content/uploads/2024/09/Pedaling-for-Parkinsons-logo-transp-300x300-1.png
ORGANIZER;CN="Davis Phinney Foundation":MAILTO:healthyliving@ymcade.org
END:VEVENT
BEGIN:VEVENT
DTSTART;TZID=UTC:20270623T123000
DTEND;TZID=UTC:20270623T133000
DTSTAMP:20260424T012259
CREATED:20240919T185517Z
LAST-MODIFIED:20240919T185517Z
UID:10002851-1813753800-1813757400@pdde.org
SUMMARY:Dover YMCA - Pedaling for Parkinson's Powered by the Davis Phinney Foundation
DESCRIPTION:Learn how you can feel better and build community by joining a Pedaling for Parkinson’s class in your community! Learn more about the class here.
URL:https://pdde.org/event/dover-ymca-pedaling-for-parkinsons-powered-by-the-davis-phinney-foundation/2027-06-23/
LOCATION:Dover YMCA\, 1137 S. State St\, Dover\, DE\, 19901\, United States
ATTACH;FMTTYPE=image/png:https://pdde.org/wp-content/uploads/2024/09/Pedaling-for-Parkinsons-logo-transp-300x300-1.png
ORGANIZER;CN="Davis Phinney Foundation":MAILTO:healthyliving@ymcade.org
END:VEVENT
BEGIN:VEVENT
DTSTART;TZID=UTC:20270625T123000
DTEND;TZID=UTC:20270625T133000
DTSTAMP:20260424T012259
CREATED:20240919T185517Z
LAST-MODIFIED:20240919T185517Z
UID:10002852-1813926600-1813930200@pdde.org
SUMMARY:Dover YMCA - Pedaling for Parkinson's Powered by the Davis Phinney Foundation
DESCRIPTION:Learn how you can feel better and build community by joining a Pedaling for Parkinson’s class in your community! Learn more about the class here.
URL:https://pdde.org/event/dover-ymca-pedaling-for-parkinsons-powered-by-the-davis-phinney-foundation/2027-06-25/
LOCATION:Dover YMCA\, 1137 S. State St\, Dover\, DE\, 19901\, United States
ATTACH;FMTTYPE=image/png:https://pdde.org/wp-content/uploads/2024/09/Pedaling-for-Parkinsons-logo-transp-300x300-1.png
ORGANIZER;CN="Davis Phinney Foundation":MAILTO:healthyliving@ymcade.org
END:VEVENT
BEGIN:VEVENT
DTSTART;TZID=UTC:20270628T123000
DTEND;TZID=UTC:20270628T133000
DTSTAMP:20260424T012259
CREATED:20240919T185517Z
LAST-MODIFIED:20240919T185517Z
UID:10002853-1814185800-1814189400@pdde.org
SUMMARY:Dover YMCA - Pedaling for Parkinson's Powered by the Davis Phinney Foundation
DESCRIPTION:Learn how you can feel better and build community by joining a Pedaling for Parkinson’s class in your community! Learn more about the class here.
URL:https://pdde.org/event/dover-ymca-pedaling-for-parkinsons-powered-by-the-davis-phinney-foundation/2027-06-28/
LOCATION:Dover YMCA\, 1137 S. State St\, Dover\, DE\, 19901\, United States
ATTACH;FMTTYPE=image/png:https://pdde.org/wp-content/uploads/2024/09/Pedaling-for-Parkinsons-logo-transp-300x300-1.png
ORGANIZER;CN="Davis Phinney Foundation":MAILTO:healthyliving@ymcade.org
END:VEVENT
BEGIN:VEVENT
DTSTART;TZID=UTC:20270630T123000
DTEND;TZID=UTC:20270630T133000
DTSTAMP:20260424T012259
CREATED:20240919T185517Z
LAST-MODIFIED:20240919T185517Z
UID:10002854-1814358600-1814362200@pdde.org
SUMMARY:Dover YMCA - Pedaling for Parkinson's Powered by the Davis Phinney Foundation
DESCRIPTION:Learn how you can feel better and build community by joining a Pedaling for Parkinson’s class in your community! Learn more about the class here.
URL:https://pdde.org/event/dover-ymca-pedaling-for-parkinsons-powered-by-the-davis-phinney-foundation/2027-06-30/
LOCATION:Dover YMCA\, 1137 S. State St\, Dover\, DE\, 19901\, United States
ATTACH;FMTTYPE=image/png:https://pdde.org/wp-content/uploads/2024/09/Pedaling-for-Parkinsons-logo-transp-300x300-1.png
ORGANIZER;CN="Davis Phinney Foundation":MAILTO:healthyliving@ymcade.org
END:VEVENT
BEGIN:VEVENT
DTSTART;TZID=UTC:20270702T123000
DTEND;TZID=UTC:20270702T133000
DTSTAMP:20260424T012259
CREATED:20240919T185517Z
LAST-MODIFIED:20240919T185517Z
UID:10002855-1814531400-1814535000@pdde.org
SUMMARY:Dover YMCA - Pedaling for Parkinson's Powered by the Davis Phinney Foundation
DESCRIPTION:Learn how you can feel better and build community by joining a Pedaling for Parkinson’s class in your community! Learn more about the class here.
URL:https://pdde.org/event/dover-ymca-pedaling-for-parkinsons-powered-by-the-davis-phinney-foundation/2027-07-02/
LOCATION:Dover YMCA\, 1137 S. State St\, Dover\, DE\, 19901\, United States
ATTACH;FMTTYPE=image/png:https://pdde.org/wp-content/uploads/2024/09/Pedaling-for-Parkinsons-logo-transp-300x300-1.png
ORGANIZER;CN="Davis Phinney Foundation":MAILTO:healthyliving@ymcade.org
END:VEVENT
BEGIN:VEVENT
DTSTART;TZID=UTC:20270705T123000
DTEND;TZID=UTC:20270705T133000
DTSTAMP:20260424T012259
CREATED:20240919T185517Z
LAST-MODIFIED:20240919T185517Z
UID:10002856-1814790600-1814794200@pdde.org
SUMMARY:Dover YMCA - Pedaling for Parkinson's Powered by the Davis Phinney Foundation
DESCRIPTION:Learn how you can feel better and build community by joining a Pedaling for Parkinson’s class in your community! Learn more about the class here.
URL:https://pdde.org/event/dover-ymca-pedaling-for-parkinsons-powered-by-the-davis-phinney-foundation/2027-07-05/
LOCATION:Dover YMCA\, 1137 S. State St\, Dover\, DE\, 19901\, United States
ATTACH;FMTTYPE=image/png:https://pdde.org/wp-content/uploads/2024/09/Pedaling-for-Parkinsons-logo-transp-300x300-1.png
ORGANIZER;CN="Davis Phinney Foundation":MAILTO:healthyliving@ymcade.org
END:VEVENT
BEGIN:VEVENT
DTSTART;TZID=UTC:20270707T123000
DTEND;TZID=UTC:20270707T133000
DTSTAMP:20260424T012259
CREATED:20240919T185517Z
LAST-MODIFIED:20240919T185517Z
UID:10002857-1814963400-1814967000@pdde.org
SUMMARY:Dover YMCA - Pedaling for Parkinson's Powered by the Davis Phinney Foundation
DESCRIPTION:Learn how you can feel better and build community by joining a Pedaling for Parkinson’s class in your community! Learn more about the class here.
URL:https://pdde.org/event/dover-ymca-pedaling-for-parkinsons-powered-by-the-davis-phinney-foundation/2027-07-07/
LOCATION:Dover YMCA\, 1137 S. State St\, Dover\, DE\, 19901\, United States
ATTACH;FMTTYPE=image/png:https://pdde.org/wp-content/uploads/2024/09/Pedaling-for-Parkinsons-logo-transp-300x300-1.png
ORGANIZER;CN="Davis Phinney Foundation":MAILTO:healthyliving@ymcade.org
END:VEVENT
BEGIN:VEVENT
DTSTART;TZID=UTC:20270709T123000
DTEND;TZID=UTC:20270709T133000
DTSTAMP:20260424T012259
CREATED:20240919T185517Z
LAST-MODIFIED:20240919T185517Z
UID:10002858-1815136200-1815139800@pdde.org
SUMMARY:Dover YMCA - Pedaling for Parkinson's Powered by the Davis Phinney Foundation
DESCRIPTION:Learn how you can feel better and build community by joining a Pedaling for Parkinson’s class in your community! Learn more about the class here.
URL:https://pdde.org/event/dover-ymca-pedaling-for-parkinsons-powered-by-the-davis-phinney-foundation/2027-07-09/
LOCATION:Dover YMCA\, 1137 S. State St\, Dover\, DE\, 19901\, United States
ATTACH;FMTTYPE=image/png:https://pdde.org/wp-content/uploads/2024/09/Pedaling-for-Parkinsons-logo-transp-300x300-1.png
ORGANIZER;CN="Davis Phinney Foundation":MAILTO:healthyliving@ymcade.org
END:VEVENT
BEGIN:VEVENT
DTSTART;TZID=UTC:20270712T123000
DTEND;TZID=UTC:20270712T133000
DTSTAMP:20260424T012259
CREATED:20240919T185517Z
LAST-MODIFIED:20240919T185517Z
UID:10002859-1815395400-1815399000@pdde.org
SUMMARY:Dover YMCA - Pedaling for Parkinson's Powered by the Davis Phinney Foundation
DESCRIPTION:Learn how you can feel better and build community by joining a Pedaling for Parkinson’s class in your community! Learn more about the class here.
URL:https://pdde.org/event/dover-ymca-pedaling-for-parkinsons-powered-by-the-davis-phinney-foundation/2027-07-12/
LOCATION:Dover YMCA\, 1137 S. State St\, Dover\, DE\, 19901\, United States
ATTACH;FMTTYPE=image/png:https://pdde.org/wp-content/uploads/2024/09/Pedaling-for-Parkinsons-logo-transp-300x300-1.png
ORGANIZER;CN="Davis Phinney Foundation":MAILTO:healthyliving@ymcade.org
END:VEVENT
BEGIN:VEVENT
DTSTART;TZID=UTC:20270714T123000
DTEND;TZID=UTC:20270714T133000
DTSTAMP:20260424T012259
CREATED:20240919T185517Z
LAST-MODIFIED:20240919T185517Z
UID:10002860-1815568200-1815571800@pdde.org
SUMMARY:Dover YMCA - Pedaling for Parkinson's Powered by the Davis Phinney Foundation
DESCRIPTION:Learn how you can feel better and build community by joining a Pedaling for Parkinson’s class in your community! Learn more about the class here.
URL:https://pdde.org/event/dover-ymca-pedaling-for-parkinsons-powered-by-the-davis-phinney-foundation/2027-07-14/
LOCATION:Dover YMCA\, 1137 S. State St\, Dover\, DE\, 19901\, United States
ATTACH;FMTTYPE=image/png:https://pdde.org/wp-content/uploads/2024/09/Pedaling-for-Parkinsons-logo-transp-300x300-1.png
ORGANIZER;CN="Davis Phinney Foundation":MAILTO:healthyliving@ymcade.org
END:VEVENT
BEGIN:VEVENT
DTSTART;TZID=UTC:20270716T123000
DTEND;TZID=UTC:20270716T133000
DTSTAMP:20260424T012259
CREATED:20240919T185517Z
LAST-MODIFIED:20240919T185517Z
UID:10002861-1815741000-1815744600@pdde.org
SUMMARY:Dover YMCA - Pedaling for Parkinson's Powered by the Davis Phinney Foundation
DESCRIPTION:Learn how you can feel better and build community by joining a Pedaling for Parkinson’s class in your community! Learn more about the class here.
URL:https://pdde.org/event/dover-ymca-pedaling-for-parkinsons-powered-by-the-davis-phinney-foundation/2027-07-16/
LOCATION:Dover YMCA\, 1137 S. State St\, Dover\, DE\, 19901\, United States
ATTACH;FMTTYPE=image/png:https://pdde.org/wp-content/uploads/2024/09/Pedaling-for-Parkinsons-logo-transp-300x300-1.png
ORGANIZER;CN="Davis Phinney Foundation":MAILTO:healthyliving@ymcade.org
END:VEVENT
BEGIN:VEVENT
DTSTART;TZID=UTC:20270719T123000
DTEND;TZID=UTC:20270719T133000
DTSTAMP:20260424T012259
CREATED:20240919T185517Z
LAST-MODIFIED:20240919T185517Z
UID:10002862-1816000200-1816003800@pdde.org
SUMMARY:Dover YMCA - Pedaling for Parkinson's Powered by the Davis Phinney Foundation
DESCRIPTION:Learn how you can feel better and build community by joining a Pedaling for Parkinson’s class in your community! Learn more about the class here.
URL:https://pdde.org/event/dover-ymca-pedaling-for-parkinsons-powered-by-the-davis-phinney-foundation/2027-07-19/
LOCATION:Dover YMCA\, 1137 S. State St\, Dover\, DE\, 19901\, United States
ATTACH;FMTTYPE=image/png:https://pdde.org/wp-content/uploads/2024/09/Pedaling-for-Parkinsons-logo-transp-300x300-1.png
ORGANIZER;CN="Davis Phinney Foundation":MAILTO:healthyliving@ymcade.org
END:VEVENT
BEGIN:VEVENT
DTSTART;TZID=UTC:20270721T123000
DTEND;TZID=UTC:20270721T133000
DTSTAMP:20260424T012259
CREATED:20240919T185517Z
LAST-MODIFIED:20240919T185517Z
UID:10002863-1816173000-1816176600@pdde.org
SUMMARY:Dover YMCA - Pedaling for Parkinson's Powered by the Davis Phinney Foundation
DESCRIPTION:Learn how you can feel better and build community by joining a Pedaling for Parkinson’s class in your community! Learn more about the class here.
URL:https://pdde.org/event/dover-ymca-pedaling-for-parkinsons-powered-by-the-davis-phinney-foundation/2027-07-21/
LOCATION:Dover YMCA\, 1137 S. State St\, Dover\, DE\, 19901\, United States
ATTACH;FMTTYPE=image/png:https://pdde.org/wp-content/uploads/2024/09/Pedaling-for-Parkinsons-logo-transp-300x300-1.png
ORGANIZER;CN="Davis Phinney Foundation":MAILTO:healthyliving@ymcade.org
END:VEVENT
BEGIN:VEVENT
DTSTART;TZID=UTC:20270723T123000
DTEND;TZID=UTC:20270723T133000
DTSTAMP:20260424T012259
CREATED:20240919T185517Z
LAST-MODIFIED:20240919T185517Z
UID:10002864-1816345800-1816349400@pdde.org
SUMMARY:Dover YMCA - Pedaling for Parkinson's Powered by the Davis Phinney Foundation
DESCRIPTION:Learn how you can feel better and build community by joining a Pedaling for Parkinson’s class in your community! Learn more about the class here.
URL:https://pdde.org/event/dover-ymca-pedaling-for-parkinsons-powered-by-the-davis-phinney-foundation/2027-07-23/
LOCATION:Dover YMCA\, 1137 S. State St\, Dover\, DE\, 19901\, United States
ATTACH;FMTTYPE=image/png:https://pdde.org/wp-content/uploads/2024/09/Pedaling-for-Parkinsons-logo-transp-300x300-1.png
ORGANIZER;CN="Davis Phinney Foundation":MAILTO:healthyliving@ymcade.org
END:VEVENT
BEGIN:VEVENT
DTSTART;TZID=UTC:20270726T123000
DTEND;TZID=UTC:20270726T133000
DTSTAMP:20260424T012259
CREATED:20240919T185517Z
LAST-MODIFIED:20240919T185517Z
UID:10002865-1816605000-1816608600@pdde.org
SUMMARY:Dover YMCA - Pedaling for Parkinson's Powered by the Davis Phinney Foundation
DESCRIPTION:Learn how you can feel better and build community by joining a Pedaling for Parkinson’s class in your community! Learn more about the class here.
URL:https://pdde.org/event/dover-ymca-pedaling-for-parkinsons-powered-by-the-davis-phinney-foundation/2027-07-26/
LOCATION:Dover YMCA\, 1137 S. State St\, Dover\, DE\, 19901\, United States
ATTACH;FMTTYPE=image/png:https://pdde.org/wp-content/uploads/2024/09/Pedaling-for-Parkinsons-logo-transp-300x300-1.png
ORGANIZER;CN="Davis Phinney Foundation":MAILTO:healthyliving@ymcade.org
END:VEVENT
BEGIN:VEVENT
DTSTART;TZID=UTC:20270728T123000
DTEND;TZID=UTC:20270728T133000
DTSTAMP:20260424T012259
CREATED:20240919T185517Z
LAST-MODIFIED:20240919T185517Z
UID:10002866-1816777800-1816781400@pdde.org
SUMMARY:Dover YMCA - Pedaling for Parkinson's Powered by the Davis Phinney Foundation
DESCRIPTION:Learn how you can feel better and build community by joining a Pedaling for Parkinson’s class in your community! Learn more about the class here.
URL:https://pdde.org/event/dover-ymca-pedaling-for-parkinsons-powered-by-the-davis-phinney-foundation/2027-07-28/
LOCATION:Dover YMCA\, 1137 S. State St\, Dover\, DE\, 19901\, United States
ATTACH;FMTTYPE=image/png:https://pdde.org/wp-content/uploads/2024/09/Pedaling-for-Parkinsons-logo-transp-300x300-1.png
ORGANIZER;CN="Davis Phinney Foundation":MAILTO:healthyliving@ymcade.org
END:VEVENT
END:VCALENDAR