BEGIN:VCALENDAR
VERSION:2.0
PRODID:-//PDDE - ECPv6.15.20//NONSGML v1.0//EN
CALSCALE:GREGORIAN
METHOD:PUBLISH
X-ORIGINAL-URL:https://pdde.org
X-WR-CALDESC:Events for PDDE
REFRESH-INTERVAL;VALUE=DURATION:PT1H
X-Robots-Tag:noindex
X-PUBLISHED-TTL:PT1H
BEGIN:VTIMEZONE
TZID:UTC
BEGIN:STANDARD
TZOFFSETFROM:+0000
TZOFFSETTO:+0000
TZNAME:UTC
DTSTART:20250101T000000
END:STANDARD
END:VTIMEZONE
BEGIN:VEVENT
DTSTART;TZID=UTC:20260422T123000
DTEND;TZID=UTC:20260422T133000
DTSTAMP:20260424T013031
CREATED:20240919T185517Z
LAST-MODIFIED:20240919T185517Z
UID:10002668-1776861000-1776864600@pdde.org
SUMMARY:Dover YMCA - Pedaling for Parkinson's Powered by the Davis Phinney Foundation
DESCRIPTION:Learn how you can feel better and build community by joining a Pedaling for Parkinson’s class in your community! Learn more about the class here.
URL:https://pdde.org/event/dover-ymca-pedaling-for-parkinsons-powered-by-the-davis-phinney-foundation/2026-04-22/
LOCATION:Dover YMCA\, 1137 S. State St\, Dover\, DE\, 19901\, United States
ATTACH;FMTTYPE=image/png:https://pdde.org/wp-content/uploads/2024/09/Pedaling-for-Parkinsons-logo-transp-300x300-1.png
ORGANIZER;CN="Davis Phinney Foundation":MAILTO:healthyliving@ymcade.org
END:VEVENT
BEGIN:VEVENT
DTSTART;TZID=UTC:20260420T123000
DTEND;TZID=UTC:20260420T133000
DTSTAMP:20260424T013031
CREATED:20240919T185517Z
LAST-MODIFIED:20240919T185517Z
UID:10002667-1776688200-1776691800@pdde.org
SUMMARY:Dover YMCA - Pedaling for Parkinson's Powered by the Davis Phinney Foundation
DESCRIPTION:Learn how you can feel better and build community by joining a Pedaling for Parkinson’s class in your community! Learn more about the class here.
URL:https://pdde.org/event/dover-ymca-pedaling-for-parkinsons-powered-by-the-davis-phinney-foundation/2026-04-20/
LOCATION:Dover YMCA\, 1137 S. State St\, Dover\, DE\, 19901\, United States
ATTACH;FMTTYPE=image/png:https://pdde.org/wp-content/uploads/2024/09/Pedaling-for-Parkinsons-logo-transp-300x300-1.png
ORGANIZER;CN="Davis Phinney Foundation":MAILTO:healthyliving@ymcade.org
END:VEVENT
BEGIN:VEVENT
DTSTART;TZID=UTC:20260417T123000
DTEND;TZID=UTC:20260417T133000
DTSTAMP:20260424T013031
CREATED:20240919T185517Z
LAST-MODIFIED:20240919T185517Z
UID:10002666-1776429000-1776432600@pdde.org
SUMMARY:Dover YMCA - Pedaling for Parkinson's Powered by the Davis Phinney Foundation
DESCRIPTION:Learn how you can feel better and build community by joining a Pedaling for Parkinson’s class in your community! Learn more about the class here.
URL:https://pdde.org/event/dover-ymca-pedaling-for-parkinsons-powered-by-the-davis-phinney-foundation/2026-04-17/
LOCATION:Dover YMCA\, 1137 S. State St\, Dover\, DE\, 19901\, United States
ATTACH;FMTTYPE=image/png:https://pdde.org/wp-content/uploads/2024/09/Pedaling-for-Parkinsons-logo-transp-300x300-1.png
ORGANIZER;CN="Davis Phinney Foundation":MAILTO:healthyliving@ymcade.org
END:VEVENT
BEGIN:VEVENT
DTSTART;TZID=UTC:20260415T123000
DTEND;TZID=UTC:20260415T133000
DTSTAMP:20260424T013031
CREATED:20240919T185517Z
LAST-MODIFIED:20240919T185517Z
UID:10002665-1776256200-1776259800@pdde.org
SUMMARY:Dover YMCA - Pedaling for Parkinson's Powered by the Davis Phinney Foundation
DESCRIPTION:Learn how you can feel better and build community by joining a Pedaling for Parkinson’s class in your community! Learn more about the class here.
URL:https://pdde.org/event/dover-ymca-pedaling-for-parkinsons-powered-by-the-davis-phinney-foundation/2026-04-15/
LOCATION:Dover YMCA\, 1137 S. State St\, Dover\, DE\, 19901\, United States
ATTACH;FMTTYPE=image/png:https://pdde.org/wp-content/uploads/2024/09/Pedaling-for-Parkinsons-logo-transp-300x300-1.png
ORGANIZER;CN="Davis Phinney Foundation":MAILTO:healthyliving@ymcade.org
END:VEVENT
BEGIN:VEVENT
DTSTART;TZID=UTC:20260413T123000
DTEND;TZID=UTC:20260413T133000
DTSTAMP:20260424T013031
CREATED:20240919T185517Z
LAST-MODIFIED:20240919T185517Z
UID:10002664-1776083400-1776087000@pdde.org
SUMMARY:Dover YMCA - Pedaling for Parkinson's Powered by the Davis Phinney Foundation
DESCRIPTION:Learn how you can feel better and build community by joining a Pedaling for Parkinson’s class in your community! Learn more about the class here.
URL:https://pdde.org/event/dover-ymca-pedaling-for-parkinsons-powered-by-the-davis-phinney-foundation/2026-04-13/
LOCATION:Dover YMCA\, 1137 S. State St\, Dover\, DE\, 19901\, United States
ATTACH;FMTTYPE=image/png:https://pdde.org/wp-content/uploads/2024/09/Pedaling-for-Parkinsons-logo-transp-300x300-1.png
ORGANIZER;CN="Davis Phinney Foundation":MAILTO:healthyliving@ymcade.org
END:VEVENT
BEGIN:VEVENT
DTSTART;TZID=UTC:20260410T123000
DTEND;TZID=UTC:20260410T133000
DTSTAMP:20260424T013031
CREATED:20240919T185517Z
LAST-MODIFIED:20240919T185517Z
UID:10002663-1775824200-1775827800@pdde.org
SUMMARY:Dover YMCA - Pedaling for Parkinson's Powered by the Davis Phinney Foundation
DESCRIPTION:Learn how you can feel better and build community by joining a Pedaling for Parkinson’s class in your community! Learn more about the class here.
URL:https://pdde.org/event/dover-ymca-pedaling-for-parkinsons-powered-by-the-davis-phinney-foundation/2026-04-10/
LOCATION:Dover YMCA\, 1137 S. State St\, Dover\, DE\, 19901\, United States
ATTACH;FMTTYPE=image/png:https://pdde.org/wp-content/uploads/2024/09/Pedaling-for-Parkinsons-logo-transp-300x300-1.png
ORGANIZER;CN="Davis Phinney Foundation":MAILTO:healthyliving@ymcade.org
END:VEVENT
BEGIN:VEVENT
DTSTART;TZID=UTC:20260408T123000
DTEND;TZID=UTC:20260408T133000
DTSTAMP:20260424T013031
CREATED:20240919T185517Z
LAST-MODIFIED:20240919T185517Z
UID:10002662-1775651400-1775655000@pdde.org
SUMMARY:Dover YMCA - Pedaling for Parkinson's Powered by the Davis Phinney Foundation
DESCRIPTION:Learn how you can feel better and build community by joining a Pedaling for Parkinson’s class in your community! Learn more about the class here.
URL:https://pdde.org/event/dover-ymca-pedaling-for-parkinsons-powered-by-the-davis-phinney-foundation/2026-04-08/
LOCATION:Dover YMCA\, 1137 S. State St\, Dover\, DE\, 19901\, United States
ATTACH;FMTTYPE=image/png:https://pdde.org/wp-content/uploads/2024/09/Pedaling-for-Parkinsons-logo-transp-300x300-1.png
ORGANIZER;CN="Davis Phinney Foundation":MAILTO:healthyliving@ymcade.org
END:VEVENT
BEGIN:VEVENT
DTSTART;TZID=UTC:20260406T123000
DTEND;TZID=UTC:20260406T133000
DTSTAMP:20260424T013031
CREATED:20240919T185517Z
LAST-MODIFIED:20240919T185517Z
UID:10002661-1775478600-1775482200@pdde.org
SUMMARY:Dover YMCA - Pedaling for Parkinson's Powered by the Davis Phinney Foundation
DESCRIPTION:Learn how you can feel better and build community by joining a Pedaling for Parkinson’s class in your community! Learn more about the class here.
URL:https://pdde.org/event/dover-ymca-pedaling-for-parkinsons-powered-by-the-davis-phinney-foundation/2026-04-06/
LOCATION:Dover YMCA\, 1137 S. State St\, Dover\, DE\, 19901\, United States
ATTACH;FMTTYPE=image/png:https://pdde.org/wp-content/uploads/2024/09/Pedaling-for-Parkinsons-logo-transp-300x300-1.png
ORGANIZER;CN="Davis Phinney Foundation":MAILTO:healthyliving@ymcade.org
END:VEVENT
BEGIN:VEVENT
DTSTART;TZID=UTC:20260403T123000
DTEND;TZID=UTC:20260403T133000
DTSTAMP:20260424T013031
CREATED:20240919T185517Z
LAST-MODIFIED:20240919T185517Z
UID:10002660-1775219400-1775223000@pdde.org
SUMMARY:Dover YMCA - Pedaling for Parkinson's Powered by the Davis Phinney Foundation
DESCRIPTION:Learn how you can feel better and build community by joining a Pedaling for Parkinson’s class in your community! Learn more about the class here.
URL:https://pdde.org/event/dover-ymca-pedaling-for-parkinsons-powered-by-the-davis-phinney-foundation/2026-04-03/
LOCATION:Dover YMCA\, 1137 S. State St\, Dover\, DE\, 19901\, United States
ATTACH;FMTTYPE=image/png:https://pdde.org/wp-content/uploads/2024/09/Pedaling-for-Parkinsons-logo-transp-300x300-1.png
ORGANIZER;CN="Davis Phinney Foundation":MAILTO:healthyliving@ymcade.org
END:VEVENT
BEGIN:VEVENT
DTSTART;TZID=UTC:20260401T123000
DTEND;TZID=UTC:20260401T133000
DTSTAMP:20260424T013031
CREATED:20240919T185517Z
LAST-MODIFIED:20240919T185517Z
UID:10002659-1775046600-1775050200@pdde.org
SUMMARY:Dover YMCA - Pedaling for Parkinson's Powered by the Davis Phinney Foundation
DESCRIPTION:Learn how you can feel better and build community by joining a Pedaling for Parkinson’s class in your community! Learn more about the class here.
URL:https://pdde.org/event/dover-ymca-pedaling-for-parkinsons-powered-by-the-davis-phinney-foundation/2026-04-01/
LOCATION:Dover YMCA\, 1137 S. State St\, Dover\, DE\, 19901\, United States
ATTACH;FMTTYPE=image/png:https://pdde.org/wp-content/uploads/2024/09/Pedaling-for-Parkinsons-logo-transp-300x300-1.png
ORGANIZER;CN="Davis Phinney Foundation":MAILTO:healthyliving@ymcade.org
END:VEVENT
BEGIN:VEVENT
DTSTART;TZID=UTC:20260330T123000
DTEND;TZID=UTC:20260330T133000
DTSTAMP:20260424T013031
CREATED:20240919T185517Z
LAST-MODIFIED:20240919T185517Z
UID:10002658-1774873800-1774877400@pdde.org
SUMMARY:Dover YMCA - Pedaling for Parkinson's Powered by the Davis Phinney Foundation
DESCRIPTION:Learn how you can feel better and build community by joining a Pedaling for Parkinson’s class in your community! Learn more about the class here.
URL:https://pdde.org/event/dover-ymca-pedaling-for-parkinsons-powered-by-the-davis-phinney-foundation/2026-03-30/
LOCATION:Dover YMCA\, 1137 S. State St\, Dover\, DE\, 19901\, United States
ATTACH;FMTTYPE=image/png:https://pdde.org/wp-content/uploads/2024/09/Pedaling-for-Parkinsons-logo-transp-300x300-1.png
ORGANIZER;CN="Davis Phinney Foundation":MAILTO:healthyliving@ymcade.org
END:VEVENT
BEGIN:VEVENT
DTSTART;TZID=UTC:20260327T123000
DTEND;TZID=UTC:20260327T133000
DTSTAMP:20260424T013031
CREATED:20240919T185517Z
LAST-MODIFIED:20240919T185517Z
UID:10002657-1774614600-1774618200@pdde.org
SUMMARY:Dover YMCA - Pedaling for Parkinson's Powered by the Davis Phinney Foundation
DESCRIPTION:Learn how you can feel better and build community by joining a Pedaling for Parkinson’s class in your community! Learn more about the class here.
URL:https://pdde.org/event/dover-ymca-pedaling-for-parkinsons-powered-by-the-davis-phinney-foundation/2026-03-27/
LOCATION:Dover YMCA\, 1137 S. State St\, Dover\, DE\, 19901\, United States
ATTACH;FMTTYPE=image/png:https://pdde.org/wp-content/uploads/2024/09/Pedaling-for-Parkinsons-logo-transp-300x300-1.png
ORGANIZER;CN="Davis Phinney Foundation":MAILTO:healthyliving@ymcade.org
END:VEVENT
BEGIN:VEVENT
DTSTART;TZID=UTC:20260325T123000
DTEND;TZID=UTC:20260325T133000
DTSTAMP:20260424T013031
CREATED:20240919T185517Z
LAST-MODIFIED:20240919T185517Z
UID:10002656-1774441800-1774445400@pdde.org
SUMMARY:Dover YMCA - Pedaling for Parkinson's Powered by the Davis Phinney Foundation
DESCRIPTION:Learn how you can feel better and build community by joining a Pedaling for Parkinson’s class in your community! Learn more about the class here.
URL:https://pdde.org/event/dover-ymca-pedaling-for-parkinsons-powered-by-the-davis-phinney-foundation/2026-03-25/
LOCATION:Dover YMCA\, 1137 S. State St\, Dover\, DE\, 19901\, United States
ATTACH;FMTTYPE=image/png:https://pdde.org/wp-content/uploads/2024/09/Pedaling-for-Parkinsons-logo-transp-300x300-1.png
ORGANIZER;CN="Davis Phinney Foundation":MAILTO:healthyliving@ymcade.org
END:VEVENT
BEGIN:VEVENT
DTSTART;TZID=UTC:20260323T123000
DTEND;TZID=UTC:20260323T133000
DTSTAMP:20260424T013031
CREATED:20240919T185517Z
LAST-MODIFIED:20240919T185517Z
UID:10002655-1774269000-1774272600@pdde.org
SUMMARY:Dover YMCA - Pedaling for Parkinson's Powered by the Davis Phinney Foundation
DESCRIPTION:Learn how you can feel better and build community by joining a Pedaling for Parkinson’s class in your community! Learn more about the class here.
URL:https://pdde.org/event/dover-ymca-pedaling-for-parkinsons-powered-by-the-davis-phinney-foundation/2026-03-23/
LOCATION:Dover YMCA\, 1137 S. State St\, Dover\, DE\, 19901\, United States
ATTACH;FMTTYPE=image/png:https://pdde.org/wp-content/uploads/2024/09/Pedaling-for-Parkinsons-logo-transp-300x300-1.png
ORGANIZER;CN="Davis Phinney Foundation":MAILTO:healthyliving@ymcade.org
END:VEVENT
BEGIN:VEVENT
DTSTART;TZID=UTC:20260320T123000
DTEND;TZID=UTC:20260320T133000
DTSTAMP:20260424T013031
CREATED:20240919T185517Z
LAST-MODIFIED:20240919T185517Z
UID:10002654-1774009800-1774013400@pdde.org
SUMMARY:Dover YMCA - Pedaling for Parkinson's Powered by the Davis Phinney Foundation
DESCRIPTION:Learn how you can feel better and build community by joining a Pedaling for Parkinson’s class in your community! Learn more about the class here.
URL:https://pdde.org/event/dover-ymca-pedaling-for-parkinsons-powered-by-the-davis-phinney-foundation/2026-03-20/
LOCATION:Dover YMCA\, 1137 S. State St\, Dover\, DE\, 19901\, United States
ATTACH;FMTTYPE=image/png:https://pdde.org/wp-content/uploads/2024/09/Pedaling-for-Parkinsons-logo-transp-300x300-1.png
ORGANIZER;CN="Davis Phinney Foundation":MAILTO:healthyliving@ymcade.org
END:VEVENT
BEGIN:VEVENT
DTSTART;TZID=UTC:20260318T123000
DTEND;TZID=UTC:20260318T133000
DTSTAMP:20260424T013031
CREATED:20240919T185517Z
LAST-MODIFIED:20240919T185517Z
UID:10002653-1773837000-1773840600@pdde.org
SUMMARY:Dover YMCA - Pedaling for Parkinson's Powered by the Davis Phinney Foundation
DESCRIPTION:Learn how you can feel better and build community by joining a Pedaling for Parkinson’s class in your community! Learn more about the class here.
URL:https://pdde.org/event/dover-ymca-pedaling-for-parkinsons-powered-by-the-davis-phinney-foundation/2026-03-18/
LOCATION:Dover YMCA\, 1137 S. State St\, Dover\, DE\, 19901\, United States
ATTACH;FMTTYPE=image/png:https://pdde.org/wp-content/uploads/2024/09/Pedaling-for-Parkinsons-logo-transp-300x300-1.png
ORGANIZER;CN="Davis Phinney Foundation":MAILTO:healthyliving@ymcade.org
END:VEVENT
BEGIN:VEVENT
DTSTART;TZID=UTC:20260316T123000
DTEND;TZID=UTC:20260316T133000
DTSTAMP:20260424T013031
CREATED:20240919T185517Z
LAST-MODIFIED:20240919T185517Z
UID:10002652-1773664200-1773667800@pdde.org
SUMMARY:Dover YMCA - Pedaling for Parkinson's Powered by the Davis Phinney Foundation
DESCRIPTION:Learn how you can feel better and build community by joining a Pedaling for Parkinson’s class in your community! Learn more about the class here.
URL:https://pdde.org/event/dover-ymca-pedaling-for-parkinsons-powered-by-the-davis-phinney-foundation/2026-03-16/
LOCATION:Dover YMCA\, 1137 S. State St\, Dover\, DE\, 19901\, United States
ATTACH;FMTTYPE=image/png:https://pdde.org/wp-content/uploads/2024/09/Pedaling-for-Parkinsons-logo-transp-300x300-1.png
ORGANIZER;CN="Davis Phinney Foundation":MAILTO:healthyliving@ymcade.org
END:VEVENT
BEGIN:VEVENT
DTSTART;TZID=UTC:20260313T123000
DTEND;TZID=UTC:20260313T133000
DTSTAMP:20260424T013031
CREATED:20240919T185517Z
LAST-MODIFIED:20240919T185517Z
UID:10002651-1773405000-1773408600@pdde.org
SUMMARY:Dover YMCA - Pedaling for Parkinson's Powered by the Davis Phinney Foundation
DESCRIPTION:Learn how you can feel better and build community by joining a Pedaling for Parkinson’s class in your community! Learn more about the class here.
URL:https://pdde.org/event/dover-ymca-pedaling-for-parkinsons-powered-by-the-davis-phinney-foundation/2026-03-13/
LOCATION:Dover YMCA\, 1137 S. State St\, Dover\, DE\, 19901\, United States
ATTACH;FMTTYPE=image/png:https://pdde.org/wp-content/uploads/2024/09/Pedaling-for-Parkinsons-logo-transp-300x300-1.png
ORGANIZER;CN="Davis Phinney Foundation":MAILTO:healthyliving@ymcade.org
END:VEVENT
BEGIN:VEVENT
DTSTART;TZID=UTC:20260311T123000
DTEND;TZID=UTC:20260311T133000
DTSTAMP:20260424T013031
CREATED:20240919T185517Z
LAST-MODIFIED:20240919T185517Z
UID:10002650-1773232200-1773235800@pdde.org
SUMMARY:Dover YMCA - Pedaling for Parkinson's Powered by the Davis Phinney Foundation
DESCRIPTION:Learn how you can feel better and build community by joining a Pedaling for Parkinson’s class in your community! Learn more about the class here.
URL:https://pdde.org/event/dover-ymca-pedaling-for-parkinsons-powered-by-the-davis-phinney-foundation/2026-03-11/
LOCATION:Dover YMCA\, 1137 S. State St\, Dover\, DE\, 19901\, United States
ATTACH;FMTTYPE=image/png:https://pdde.org/wp-content/uploads/2024/09/Pedaling-for-Parkinsons-logo-transp-300x300-1.png
ORGANIZER;CN="Davis Phinney Foundation":MAILTO:healthyliving@ymcade.org
END:VEVENT
BEGIN:VEVENT
DTSTART;TZID=UTC:20260309T123000
DTEND;TZID=UTC:20260309T133000
DTSTAMP:20260424T013031
CREATED:20240919T185517Z
LAST-MODIFIED:20240919T185517Z
UID:10002649-1773059400-1773063000@pdde.org
SUMMARY:Dover YMCA - Pedaling for Parkinson's Powered by the Davis Phinney Foundation
DESCRIPTION:Learn how you can feel better and build community by joining a Pedaling for Parkinson’s class in your community! Learn more about the class here.
URL:https://pdde.org/event/dover-ymca-pedaling-for-parkinsons-powered-by-the-davis-phinney-foundation/2026-03-09/
LOCATION:Dover YMCA\, 1137 S. State St\, Dover\, DE\, 19901\, United States
ATTACH;FMTTYPE=image/png:https://pdde.org/wp-content/uploads/2024/09/Pedaling-for-Parkinsons-logo-transp-300x300-1.png
ORGANIZER;CN="Davis Phinney Foundation":MAILTO:healthyliving@ymcade.org
END:VEVENT
BEGIN:VEVENT
DTSTART;TZID=UTC:20260306T123000
DTEND;TZID=UTC:20260306T133000
DTSTAMP:20260424T013031
CREATED:20240919T185517Z
LAST-MODIFIED:20240919T185517Z
UID:10002648-1772800200-1772803800@pdde.org
SUMMARY:Dover YMCA - Pedaling for Parkinson's Powered by the Davis Phinney Foundation
DESCRIPTION:Learn how you can feel better and build community by joining a Pedaling for Parkinson’s class in your community! Learn more about the class here.
URL:https://pdde.org/event/dover-ymca-pedaling-for-parkinsons-powered-by-the-davis-phinney-foundation/2026-03-06/
LOCATION:Dover YMCA\, 1137 S. State St\, Dover\, DE\, 19901\, United States
ATTACH;FMTTYPE=image/png:https://pdde.org/wp-content/uploads/2024/09/Pedaling-for-Parkinsons-logo-transp-300x300-1.png
ORGANIZER;CN="Davis Phinney Foundation":MAILTO:healthyliving@ymcade.org
END:VEVENT
BEGIN:VEVENT
DTSTART;TZID=UTC:20260304T123000
DTEND;TZID=UTC:20260304T133000
DTSTAMP:20260424T013031
CREATED:20240919T185517Z
LAST-MODIFIED:20240919T185517Z
UID:10002647-1772627400-1772631000@pdde.org
SUMMARY:Dover YMCA - Pedaling for Parkinson's Powered by the Davis Phinney Foundation
DESCRIPTION:Learn how you can feel better and build community by joining a Pedaling for Parkinson’s class in your community! Learn more about the class here.
URL:https://pdde.org/event/dover-ymca-pedaling-for-parkinsons-powered-by-the-davis-phinney-foundation/2026-03-04/
LOCATION:Dover YMCA\, 1137 S. State St\, Dover\, DE\, 19901\, United States
ATTACH;FMTTYPE=image/png:https://pdde.org/wp-content/uploads/2024/09/Pedaling-for-Parkinsons-logo-transp-300x300-1.png
ORGANIZER;CN="Davis Phinney Foundation":MAILTO:healthyliving@ymcade.org
END:VEVENT
BEGIN:VEVENT
DTSTART;TZID=UTC:20260302T123000
DTEND;TZID=UTC:20260302T133000
DTSTAMP:20260424T013031
CREATED:20240919T185517Z
LAST-MODIFIED:20240919T185517Z
UID:10002646-1772454600-1772458200@pdde.org
SUMMARY:Dover YMCA - Pedaling for Parkinson's Powered by the Davis Phinney Foundation
DESCRIPTION:Learn how you can feel better and build community by joining a Pedaling for Parkinson’s class in your community! Learn more about the class here.
URL:https://pdde.org/event/dover-ymca-pedaling-for-parkinsons-powered-by-the-davis-phinney-foundation/2026-03-02/
LOCATION:Dover YMCA\, 1137 S. State St\, Dover\, DE\, 19901\, United States
ATTACH;FMTTYPE=image/png:https://pdde.org/wp-content/uploads/2024/09/Pedaling-for-Parkinsons-logo-transp-300x300-1.png
ORGANIZER;CN="Davis Phinney Foundation":MAILTO:healthyliving@ymcade.org
END:VEVENT
BEGIN:VEVENT
DTSTART;TZID=UTC:20260227T123000
DTEND;TZID=UTC:20260227T133000
DTSTAMP:20260424T013031
CREATED:20240919T185517Z
LAST-MODIFIED:20240919T185517Z
UID:10002645-1772195400-1772199000@pdde.org
SUMMARY:Dover YMCA - Pedaling for Parkinson's Powered by the Davis Phinney Foundation
DESCRIPTION:Learn how you can feel better and build community by joining a Pedaling for Parkinson’s class in your community! Learn more about the class here.
URL:https://pdde.org/event/dover-ymca-pedaling-for-parkinsons-powered-by-the-davis-phinney-foundation/2026-02-27/
LOCATION:Dover YMCA\, 1137 S. State St\, Dover\, DE\, 19901\, United States
ATTACH;FMTTYPE=image/png:https://pdde.org/wp-content/uploads/2024/09/Pedaling-for-Parkinsons-logo-transp-300x300-1.png
ORGANIZER;CN="Davis Phinney Foundation":MAILTO:healthyliving@ymcade.org
END:VEVENT
BEGIN:VEVENT
DTSTART;TZID=UTC:20260225T123000
DTEND;TZID=UTC:20260225T133000
DTSTAMP:20260424T013031
CREATED:20240919T185517Z
LAST-MODIFIED:20240919T185517Z
UID:10002644-1772022600-1772026200@pdde.org
SUMMARY:Dover YMCA - Pedaling for Parkinson's Powered by the Davis Phinney Foundation
DESCRIPTION:Learn how you can feel better and build community by joining a Pedaling for Parkinson’s class in your community! Learn more about the class here.
URL:https://pdde.org/event/dover-ymca-pedaling-for-parkinsons-powered-by-the-davis-phinney-foundation/2026-02-25/
LOCATION:Dover YMCA\, 1137 S. State St\, Dover\, DE\, 19901\, United States
ATTACH;FMTTYPE=image/png:https://pdde.org/wp-content/uploads/2024/09/Pedaling-for-Parkinsons-logo-transp-300x300-1.png
ORGANIZER;CN="Davis Phinney Foundation":MAILTO:healthyliving@ymcade.org
END:VEVENT
BEGIN:VEVENT
DTSTART;TZID=UTC:20260223T123000
DTEND;TZID=UTC:20260223T133000
DTSTAMP:20260424T013031
CREATED:20240919T185517Z
LAST-MODIFIED:20240919T185517Z
UID:10002643-1771849800-1771853400@pdde.org
SUMMARY:Dover YMCA - Pedaling for Parkinson's Powered by the Davis Phinney Foundation
DESCRIPTION:Learn how you can feel better and build community by joining a Pedaling for Parkinson’s class in your community! Learn more about the class here.
URL:https://pdde.org/event/dover-ymca-pedaling-for-parkinsons-powered-by-the-davis-phinney-foundation/2026-02-23/
LOCATION:Dover YMCA\, 1137 S. State St\, Dover\, DE\, 19901\, United States
ATTACH;FMTTYPE=image/png:https://pdde.org/wp-content/uploads/2024/09/Pedaling-for-Parkinsons-logo-transp-300x300-1.png
ORGANIZER;CN="Davis Phinney Foundation":MAILTO:healthyliving@ymcade.org
END:VEVENT
BEGIN:VEVENT
DTSTART;TZID=UTC:20260220T123000
DTEND;TZID=UTC:20260220T133000
DTSTAMP:20260424T013031
CREATED:20240919T185517Z
LAST-MODIFIED:20240919T185517Z
UID:10002642-1771590600-1771594200@pdde.org
SUMMARY:Dover YMCA - Pedaling for Parkinson's Powered by the Davis Phinney Foundation
DESCRIPTION:Learn how you can feel better and build community by joining a Pedaling for Parkinson’s class in your community! Learn more about the class here.
URL:https://pdde.org/event/dover-ymca-pedaling-for-parkinsons-powered-by-the-davis-phinney-foundation/2026-02-20/
LOCATION:Dover YMCA\, 1137 S. State St\, Dover\, DE\, 19901\, United States
ATTACH;FMTTYPE=image/png:https://pdde.org/wp-content/uploads/2024/09/Pedaling-for-Parkinsons-logo-transp-300x300-1.png
ORGANIZER;CN="Davis Phinney Foundation":MAILTO:healthyliving@ymcade.org
END:VEVENT
BEGIN:VEVENT
DTSTART;TZID=UTC:20260218T123000
DTEND;TZID=UTC:20260218T133000
DTSTAMP:20260424T013031
CREATED:20240919T185517Z
LAST-MODIFIED:20240919T185517Z
UID:10002641-1771417800-1771421400@pdde.org
SUMMARY:Dover YMCA - Pedaling for Parkinson's Powered by the Davis Phinney Foundation
DESCRIPTION:Learn how you can feel better and build community by joining a Pedaling for Parkinson’s class in your community! Learn more about the class here.
URL:https://pdde.org/event/dover-ymca-pedaling-for-parkinsons-powered-by-the-davis-phinney-foundation/2026-02-18/
LOCATION:Dover YMCA\, 1137 S. State St\, Dover\, DE\, 19901\, United States
ATTACH;FMTTYPE=image/png:https://pdde.org/wp-content/uploads/2024/09/Pedaling-for-Parkinsons-logo-transp-300x300-1.png
ORGANIZER;CN="Davis Phinney Foundation":MAILTO:healthyliving@ymcade.org
END:VEVENT
BEGIN:VEVENT
DTSTART;TZID=UTC:20260216T123000
DTEND;TZID=UTC:20260216T133000
DTSTAMP:20260424T013031
CREATED:20240919T185517Z
LAST-MODIFIED:20240919T185517Z
UID:10002640-1771245000-1771248600@pdde.org
SUMMARY:Dover YMCA - Pedaling for Parkinson's Powered by the Davis Phinney Foundation
DESCRIPTION:Learn how you can feel better and build community by joining a Pedaling for Parkinson’s class in your community! Learn more about the class here.
URL:https://pdde.org/event/dover-ymca-pedaling-for-parkinsons-powered-by-the-davis-phinney-foundation/2026-02-16/
LOCATION:Dover YMCA\, 1137 S. State St\, Dover\, DE\, 19901\, United States
ATTACH;FMTTYPE=image/png:https://pdde.org/wp-content/uploads/2024/09/Pedaling-for-Parkinsons-logo-transp-300x300-1.png
ORGANIZER;CN="Davis Phinney Foundation":MAILTO:healthyliving@ymcade.org
END:VEVENT
BEGIN:VEVENT
DTSTART;TZID=UTC:20260213T123000
DTEND;TZID=UTC:20260213T133000
DTSTAMP:20260424T013031
CREATED:20240919T185517Z
LAST-MODIFIED:20240919T185517Z
UID:10002639-1770985800-1770989400@pdde.org
SUMMARY:Dover YMCA - Pedaling for Parkinson's Powered by the Davis Phinney Foundation
DESCRIPTION:Learn how you can feel better and build community by joining a Pedaling for Parkinson’s class in your community! Learn more about the class here.
URL:https://pdde.org/event/dover-ymca-pedaling-for-parkinsons-powered-by-the-davis-phinney-foundation/2026-02-13/
LOCATION:Dover YMCA\, 1137 S. State St\, Dover\, DE\, 19901\, United States
ATTACH;FMTTYPE=image/png:https://pdde.org/wp-content/uploads/2024/09/Pedaling-for-Parkinsons-logo-transp-300x300-1.png
ORGANIZER;CN="Davis Phinney Foundation":MAILTO:healthyliving@ymcade.org
END:VEVENT
END:VCALENDAR