BEGIN:VCALENDAR
VERSION:2.0
PRODID:-//PDDE - ECPv6.15.20//NONSGML v1.0//EN
CALSCALE:GREGORIAN
METHOD:PUBLISH
X-ORIGINAL-URL:https://pdde.org
X-WR-CALDESC:Events for PDDE
REFRESH-INTERVAL;VALUE=DURATION:PT1H
X-Robots-Tag:noindex
X-PUBLISHED-TTL:PT1H
BEGIN:VTIMEZONE
TZID:UTC
BEGIN:STANDARD
TZOFFSETFROM:+0000
TZOFFSETTO:+0000
TZNAME:UTC
DTSTART:20240101T000000
END:STANDARD
END:VTIMEZONE
BEGIN:VEVENT
DTSTART;TZID=UTC:20251002T191500
DTEND;TZID=UTC:20251002T201500
DTSTAMP:20260420T195928
CREATED:20240919T185547Z
LAST-MODIFIED:20240919T185547Z
UID:10003365-1759432500-1759436100@pdde.org
SUMMARY:Brandywine YMCA - Pedaling for Parkinson's Powered by the Davis Phinney Foundation
DESCRIPTION:Learn how you can feel better and build community by joining a Pedaling for Parkinson’s class in your community! Learn more about the class here.
URL:https://pdde.org/event/brandywine-ymca-pedaling-for-parkinsons-powered-by-the-davis-phinney-foundation/2025-10-02/
LOCATION:Brandywine YMCA\, 3 Mt Lebanon Rd\, Wilmington\, DE\, 19803\, United States
ATTACH;FMTTYPE=image/png:https://pdde.org/wp-content/uploads/2024/09/Pedaling-for-Parkinsons-logo-transp-300x300-1.png
ORGANIZER;CN="Davis Phinney Foundation":MAILTO:healthyliving@ymcade.org
END:VEVENT
BEGIN:VEVENT
DTSTART;TZID=UTC:20251001T191500
DTEND;TZID=UTC:20251001T201500
DTSTAMP:20260420T195928
CREATED:20240919T185547Z
LAST-MODIFIED:20240919T185547Z
UID:10003364-1759346100-1759349700@pdde.org
SUMMARY:Brandywine YMCA - Pedaling for Parkinson's Powered by the Davis Phinney Foundation
DESCRIPTION:Learn how you can feel better and build community by joining a Pedaling for Parkinson’s class in your community! Learn more about the class here.
URL:https://pdde.org/event/brandywine-ymca-pedaling-for-parkinsons-powered-by-the-davis-phinney-foundation/2025-10-01/
LOCATION:Brandywine YMCA\, 3 Mt Lebanon Rd\, Wilmington\, DE\, 19803\, United States
ATTACH;FMTTYPE=image/png:https://pdde.org/wp-content/uploads/2024/09/Pedaling-for-Parkinsons-logo-transp-300x300-1.png
ORGANIZER;CN="Davis Phinney Foundation":MAILTO:healthyliving@ymcade.org
END:VEVENT
BEGIN:VEVENT
DTSTART;TZID=UTC:20250929T191500
DTEND;TZID=UTC:20250929T201500
DTSTAMP:20260420T195928
CREATED:20240919T185547Z
LAST-MODIFIED:20240919T185547Z
UID:10003363-1759173300-1759176900@pdde.org
SUMMARY:Brandywine YMCA - Pedaling for Parkinson's Powered by the Davis Phinney Foundation
DESCRIPTION:Learn how you can feel better and build community by joining a Pedaling for Parkinson’s class in your community! Learn more about the class here.
URL:https://pdde.org/event/brandywine-ymca-pedaling-for-parkinsons-powered-by-the-davis-phinney-foundation/2025-09-29/
LOCATION:Brandywine YMCA\, 3 Mt Lebanon Rd\, Wilmington\, DE\, 19803\, United States
ATTACH;FMTTYPE=image/png:https://pdde.org/wp-content/uploads/2024/09/Pedaling-for-Parkinsons-logo-transp-300x300-1.png
ORGANIZER;CN="Davis Phinney Foundation":MAILTO:healthyliving@ymcade.org
END:VEVENT
BEGIN:VEVENT
DTSTART;TZID=UTC:20250925T191500
DTEND;TZID=UTC:20250925T201500
DTSTAMP:20260420T195928
CREATED:20240919T185547Z
LAST-MODIFIED:20240919T185547Z
UID:10003362-1758827700-1758831300@pdde.org
SUMMARY:Brandywine YMCA - Pedaling for Parkinson's Powered by the Davis Phinney Foundation
DESCRIPTION:Learn how you can feel better and build community by joining a Pedaling for Parkinson’s class in your community! Learn more about the class here.
URL:https://pdde.org/event/brandywine-ymca-pedaling-for-parkinsons-powered-by-the-davis-phinney-foundation/2025-09-25/
LOCATION:Brandywine YMCA\, 3 Mt Lebanon Rd\, Wilmington\, DE\, 19803\, United States
ATTACH;FMTTYPE=image/png:https://pdde.org/wp-content/uploads/2024/09/Pedaling-for-Parkinsons-logo-transp-300x300-1.png
ORGANIZER;CN="Davis Phinney Foundation":MAILTO:healthyliving@ymcade.org
END:VEVENT
BEGIN:VEVENT
DTSTART;TZID=UTC:20250924T191500
DTEND;TZID=UTC:20250924T201500
DTSTAMP:20260420T195928
CREATED:20240919T185547Z
LAST-MODIFIED:20240919T185547Z
UID:10003361-1758741300-1758744900@pdde.org
SUMMARY:Brandywine YMCA - Pedaling for Parkinson's Powered by the Davis Phinney Foundation
DESCRIPTION:Learn how you can feel better and build community by joining a Pedaling for Parkinson’s class in your community! Learn more about the class here.
URL:https://pdde.org/event/brandywine-ymca-pedaling-for-parkinsons-powered-by-the-davis-phinney-foundation/2025-09-24/
LOCATION:Brandywine YMCA\, 3 Mt Lebanon Rd\, Wilmington\, DE\, 19803\, United States
ATTACH;FMTTYPE=image/png:https://pdde.org/wp-content/uploads/2024/09/Pedaling-for-Parkinsons-logo-transp-300x300-1.png
ORGANIZER;CN="Davis Phinney Foundation":MAILTO:healthyliving@ymcade.org
END:VEVENT
BEGIN:VEVENT
DTSTART;TZID=UTC:20250922T191500
DTEND;TZID=UTC:20250922T201500
DTSTAMP:20260420T195928
CREATED:20240919T185547Z
LAST-MODIFIED:20240919T185547Z
UID:10003360-1758568500-1758572100@pdde.org
SUMMARY:Brandywine YMCA - Pedaling for Parkinson's Powered by the Davis Phinney Foundation
DESCRIPTION:Learn how you can feel better and build community by joining a Pedaling for Parkinson’s class in your community! Learn more about the class here.
URL:https://pdde.org/event/brandywine-ymca-pedaling-for-parkinsons-powered-by-the-davis-phinney-foundation/2025-09-22/
LOCATION:Brandywine YMCA\, 3 Mt Lebanon Rd\, Wilmington\, DE\, 19803\, United States
ATTACH;FMTTYPE=image/png:https://pdde.org/wp-content/uploads/2024/09/Pedaling-for-Parkinsons-logo-transp-300x300-1.png
ORGANIZER;CN="Davis Phinney Foundation":MAILTO:healthyliving@ymcade.org
END:VEVENT
BEGIN:VEVENT
DTSTART;TZID=UTC:20250918T191500
DTEND;TZID=UTC:20250918T201500
DTSTAMP:20260420T195928
CREATED:20240919T185547Z
LAST-MODIFIED:20240919T185547Z
UID:10003359-1758222900-1758226500@pdde.org
SUMMARY:Brandywine YMCA - Pedaling for Parkinson's Powered by the Davis Phinney Foundation
DESCRIPTION:Learn how you can feel better and build community by joining a Pedaling for Parkinson’s class in your community! Learn more about the class here.
URL:https://pdde.org/event/brandywine-ymca-pedaling-for-parkinsons-powered-by-the-davis-phinney-foundation/2025-09-18/
LOCATION:Brandywine YMCA\, 3 Mt Lebanon Rd\, Wilmington\, DE\, 19803\, United States
ATTACH;FMTTYPE=image/png:https://pdde.org/wp-content/uploads/2024/09/Pedaling-for-Parkinsons-logo-transp-300x300-1.png
ORGANIZER;CN="Davis Phinney Foundation":MAILTO:healthyliving@ymcade.org
END:VEVENT
BEGIN:VEVENT
DTSTART;TZID=UTC:20250917T191500
DTEND;TZID=UTC:20250917T201500
DTSTAMP:20260420T195928
CREATED:20240919T185547Z
LAST-MODIFIED:20240919T185547Z
UID:10003358-1758136500-1758140100@pdde.org
SUMMARY:Brandywine YMCA - Pedaling for Parkinson's Powered by the Davis Phinney Foundation
DESCRIPTION:Learn how you can feel better and build community by joining a Pedaling for Parkinson’s class in your community! Learn more about the class here.
URL:https://pdde.org/event/brandywine-ymca-pedaling-for-parkinsons-powered-by-the-davis-phinney-foundation/2025-09-17/
LOCATION:Brandywine YMCA\, 3 Mt Lebanon Rd\, Wilmington\, DE\, 19803\, United States
ATTACH;FMTTYPE=image/png:https://pdde.org/wp-content/uploads/2024/09/Pedaling-for-Parkinsons-logo-transp-300x300-1.png
ORGANIZER;CN="Davis Phinney Foundation":MAILTO:healthyliving@ymcade.org
END:VEVENT
BEGIN:VEVENT
DTSTART;TZID=UTC:20250915T191500
DTEND;TZID=UTC:20250915T201500
DTSTAMP:20260420T195928
CREATED:20240919T185547Z
LAST-MODIFIED:20240919T185547Z
UID:10003357-1757963700-1757967300@pdde.org
SUMMARY:Brandywine YMCA - Pedaling for Parkinson's Powered by the Davis Phinney Foundation
DESCRIPTION:Learn how you can feel better and build community by joining a Pedaling for Parkinson’s class in your community! Learn more about the class here.
URL:https://pdde.org/event/brandywine-ymca-pedaling-for-parkinsons-powered-by-the-davis-phinney-foundation/2025-09-15/
LOCATION:Brandywine YMCA\, 3 Mt Lebanon Rd\, Wilmington\, DE\, 19803\, United States
ATTACH;FMTTYPE=image/png:https://pdde.org/wp-content/uploads/2024/09/Pedaling-for-Parkinsons-logo-transp-300x300-1.png
ORGANIZER;CN="Davis Phinney Foundation":MAILTO:healthyliving@ymcade.org
END:VEVENT
BEGIN:VEVENT
DTSTART;TZID=UTC:20250911T191500
DTEND;TZID=UTC:20250911T201500
DTSTAMP:20260420T195928
CREATED:20240919T185547Z
LAST-MODIFIED:20240919T185547Z
UID:10003356-1757618100-1757621700@pdde.org
SUMMARY:Brandywine YMCA - Pedaling for Parkinson's Powered by the Davis Phinney Foundation
DESCRIPTION:Learn how you can feel better and build community by joining a Pedaling for Parkinson’s class in your community! Learn more about the class here.
URL:https://pdde.org/event/brandywine-ymca-pedaling-for-parkinsons-powered-by-the-davis-phinney-foundation/2025-09-11/
LOCATION:Brandywine YMCA\, 3 Mt Lebanon Rd\, Wilmington\, DE\, 19803\, United States
ATTACH;FMTTYPE=image/png:https://pdde.org/wp-content/uploads/2024/09/Pedaling-for-Parkinsons-logo-transp-300x300-1.png
ORGANIZER;CN="Davis Phinney Foundation":MAILTO:healthyliving@ymcade.org
END:VEVENT
BEGIN:VEVENT
DTSTART;TZID=UTC:20250910T191500
DTEND;TZID=UTC:20250910T201500
DTSTAMP:20260420T195928
CREATED:20240919T185547Z
LAST-MODIFIED:20240919T185547Z
UID:10003355-1757531700-1757535300@pdde.org
SUMMARY:Brandywine YMCA - Pedaling for Parkinson's Powered by the Davis Phinney Foundation
DESCRIPTION:Learn how you can feel better and build community by joining a Pedaling for Parkinson’s class in your community! Learn more about the class here.
URL:https://pdde.org/event/brandywine-ymca-pedaling-for-parkinsons-powered-by-the-davis-phinney-foundation/2025-09-10/
LOCATION:Brandywine YMCA\, 3 Mt Lebanon Rd\, Wilmington\, DE\, 19803\, United States
ATTACH;FMTTYPE=image/png:https://pdde.org/wp-content/uploads/2024/09/Pedaling-for-Parkinsons-logo-transp-300x300-1.png
ORGANIZER;CN="Davis Phinney Foundation":MAILTO:healthyliving@ymcade.org
END:VEVENT
BEGIN:VEVENT
DTSTART;TZID=UTC:20250908T191500
DTEND;TZID=UTC:20250908T201500
DTSTAMP:20260420T195928
CREATED:20240919T185547Z
LAST-MODIFIED:20240919T185547Z
UID:10003354-1757358900-1757362500@pdde.org
SUMMARY:Brandywine YMCA - Pedaling for Parkinson's Powered by the Davis Phinney Foundation
DESCRIPTION:Learn how you can feel better and build community by joining a Pedaling for Parkinson’s class in your community! Learn more about the class here.
URL:https://pdde.org/event/brandywine-ymca-pedaling-for-parkinsons-powered-by-the-davis-phinney-foundation/2025-09-08/
LOCATION:Brandywine YMCA\, 3 Mt Lebanon Rd\, Wilmington\, DE\, 19803\, United States
ATTACH;FMTTYPE=image/png:https://pdde.org/wp-content/uploads/2024/09/Pedaling-for-Parkinsons-logo-transp-300x300-1.png
ORGANIZER;CN="Davis Phinney Foundation":MAILTO:healthyliving@ymcade.org
END:VEVENT
BEGIN:VEVENT
DTSTART;TZID=UTC:20250904T191500
DTEND;TZID=UTC:20250904T201500
DTSTAMP:20260420T195928
CREATED:20240919T185547Z
LAST-MODIFIED:20240919T185547Z
UID:10003353-1757013300-1757016900@pdde.org
SUMMARY:Brandywine YMCA - Pedaling for Parkinson's Powered by the Davis Phinney Foundation
DESCRIPTION:Learn how you can feel better and build community by joining a Pedaling for Parkinson’s class in your community! Learn more about the class here.
URL:https://pdde.org/event/brandywine-ymca-pedaling-for-parkinsons-powered-by-the-davis-phinney-foundation/2025-09-04/
LOCATION:Brandywine YMCA\, 3 Mt Lebanon Rd\, Wilmington\, DE\, 19803\, United States
ATTACH;FMTTYPE=image/png:https://pdde.org/wp-content/uploads/2024/09/Pedaling-for-Parkinsons-logo-transp-300x300-1.png
ORGANIZER;CN="Davis Phinney Foundation":MAILTO:healthyliving@ymcade.org
END:VEVENT
BEGIN:VEVENT
DTSTART;TZID=UTC:20250903T191500
DTEND;TZID=UTC:20250903T201500
DTSTAMP:20260420T195928
CREATED:20240919T185547Z
LAST-MODIFIED:20240919T185547Z
UID:10003352-1756926900-1756930500@pdde.org
SUMMARY:Brandywine YMCA - Pedaling for Parkinson's Powered by the Davis Phinney Foundation
DESCRIPTION:Learn how you can feel better and build community by joining a Pedaling for Parkinson’s class in your community! Learn more about the class here.
URL:https://pdde.org/event/brandywine-ymca-pedaling-for-parkinsons-powered-by-the-davis-phinney-foundation/2025-09-03/
LOCATION:Brandywine YMCA\, 3 Mt Lebanon Rd\, Wilmington\, DE\, 19803\, United States
ATTACH;FMTTYPE=image/png:https://pdde.org/wp-content/uploads/2024/09/Pedaling-for-Parkinsons-logo-transp-300x300-1.png
ORGANIZER;CN="Davis Phinney Foundation":MAILTO:healthyliving@ymcade.org
END:VEVENT
BEGIN:VEVENT
DTSTART;TZID=UTC:20250901T191500
DTEND;TZID=UTC:20250901T201500
DTSTAMP:20260420T195928
CREATED:20240919T185547Z
LAST-MODIFIED:20240919T185547Z
UID:10003351-1756754100-1756757700@pdde.org
SUMMARY:Brandywine YMCA - Pedaling for Parkinson's Powered by the Davis Phinney Foundation
DESCRIPTION:Learn how you can feel better and build community by joining a Pedaling for Parkinson’s class in your community! Learn more about the class here.
URL:https://pdde.org/event/brandywine-ymca-pedaling-for-parkinsons-powered-by-the-davis-phinney-foundation/2025-09-01/
LOCATION:Brandywine YMCA\, 3 Mt Lebanon Rd\, Wilmington\, DE\, 19803\, United States
ATTACH;FMTTYPE=image/png:https://pdde.org/wp-content/uploads/2024/09/Pedaling-for-Parkinsons-logo-transp-300x300-1.png
ORGANIZER;CN="Davis Phinney Foundation":MAILTO:healthyliving@ymcade.org
END:VEVENT
BEGIN:VEVENT
DTSTART;TZID=UTC:20250828T191500
DTEND;TZID=UTC:20250828T201500
DTSTAMP:20260420T195928
CREATED:20240919T185547Z
LAST-MODIFIED:20240919T185547Z
UID:10003350-1756408500-1756412100@pdde.org
SUMMARY:Brandywine YMCA - Pedaling for Parkinson's Powered by the Davis Phinney Foundation
DESCRIPTION:Learn how you can feel better and build community by joining a Pedaling for Parkinson’s class in your community! Learn more about the class here.
URL:https://pdde.org/event/brandywine-ymca-pedaling-for-parkinsons-powered-by-the-davis-phinney-foundation/2025-08-28/
LOCATION:Brandywine YMCA\, 3 Mt Lebanon Rd\, Wilmington\, DE\, 19803\, United States
ATTACH;FMTTYPE=image/png:https://pdde.org/wp-content/uploads/2024/09/Pedaling-for-Parkinsons-logo-transp-300x300-1.png
ORGANIZER;CN="Davis Phinney Foundation":MAILTO:healthyliving@ymcade.org
END:VEVENT
BEGIN:VEVENT
DTSTART;TZID=UTC:20250827T191500
DTEND;TZID=UTC:20250827T201500
DTSTAMP:20260420T195928
CREATED:20240919T185547Z
LAST-MODIFIED:20240919T185547Z
UID:10003349-1756322100-1756325700@pdde.org
SUMMARY:Brandywine YMCA - Pedaling for Parkinson's Powered by the Davis Phinney Foundation
DESCRIPTION:Learn how you can feel better and build community by joining a Pedaling for Parkinson’s class in your community! Learn more about the class here.
URL:https://pdde.org/event/brandywine-ymca-pedaling-for-parkinsons-powered-by-the-davis-phinney-foundation/2025-08-27/
LOCATION:Brandywine YMCA\, 3 Mt Lebanon Rd\, Wilmington\, DE\, 19803\, United States
ATTACH;FMTTYPE=image/png:https://pdde.org/wp-content/uploads/2024/09/Pedaling-for-Parkinsons-logo-transp-300x300-1.png
ORGANIZER;CN="Davis Phinney Foundation":MAILTO:healthyliving@ymcade.org
END:VEVENT
BEGIN:VEVENT
DTSTART;TZID=UTC:20250825T191500
DTEND;TZID=UTC:20250825T201500
DTSTAMP:20260420T195928
CREATED:20240919T185547Z
LAST-MODIFIED:20240919T185547Z
UID:10003348-1756149300-1756152900@pdde.org
SUMMARY:Brandywine YMCA - Pedaling for Parkinson's Powered by the Davis Phinney Foundation
DESCRIPTION:Learn how you can feel better and build community by joining a Pedaling for Parkinson’s class in your community! Learn more about the class here.
URL:https://pdde.org/event/brandywine-ymca-pedaling-for-parkinsons-powered-by-the-davis-phinney-foundation/2025-08-25/
LOCATION:Brandywine YMCA\, 3 Mt Lebanon Rd\, Wilmington\, DE\, 19803\, United States
ATTACH;FMTTYPE=image/png:https://pdde.org/wp-content/uploads/2024/09/Pedaling-for-Parkinsons-logo-transp-300x300-1.png
ORGANIZER;CN="Davis Phinney Foundation":MAILTO:healthyliving@ymcade.org
END:VEVENT
BEGIN:VEVENT
DTSTART;TZID=UTC:20250821T191500
DTEND;TZID=UTC:20250821T201500
DTSTAMP:20260420T195928
CREATED:20240919T185547Z
LAST-MODIFIED:20240919T185547Z
UID:10003347-1755803700-1755807300@pdde.org
SUMMARY:Brandywine YMCA - Pedaling for Parkinson's Powered by the Davis Phinney Foundation
DESCRIPTION:Learn how you can feel better and build community by joining a Pedaling for Parkinson’s class in your community! Learn more about the class here.
URL:https://pdde.org/event/brandywine-ymca-pedaling-for-parkinsons-powered-by-the-davis-phinney-foundation/2025-08-21/
LOCATION:Brandywine YMCA\, 3 Mt Lebanon Rd\, Wilmington\, DE\, 19803\, United States
ATTACH;FMTTYPE=image/png:https://pdde.org/wp-content/uploads/2024/09/Pedaling-for-Parkinsons-logo-transp-300x300-1.png
ORGANIZER;CN="Davis Phinney Foundation":MAILTO:healthyliving@ymcade.org
END:VEVENT
BEGIN:VEVENT
DTSTART;TZID=UTC:20250820T191500
DTEND;TZID=UTC:20250820T201500
DTSTAMP:20260420T195928
CREATED:20240919T185547Z
LAST-MODIFIED:20240919T185547Z
UID:10003346-1755717300-1755720900@pdde.org
SUMMARY:Brandywine YMCA - Pedaling for Parkinson's Powered by the Davis Phinney Foundation
DESCRIPTION:Learn how you can feel better and build community by joining a Pedaling for Parkinson’s class in your community! Learn more about the class here.
URL:https://pdde.org/event/brandywine-ymca-pedaling-for-parkinsons-powered-by-the-davis-phinney-foundation/2025-08-20/
LOCATION:Brandywine YMCA\, 3 Mt Lebanon Rd\, Wilmington\, DE\, 19803\, United States
ATTACH;FMTTYPE=image/png:https://pdde.org/wp-content/uploads/2024/09/Pedaling-for-Parkinsons-logo-transp-300x300-1.png
ORGANIZER;CN="Davis Phinney Foundation":MAILTO:healthyliving@ymcade.org
END:VEVENT
BEGIN:VEVENT
DTSTART;TZID=UTC:20250818T191500
DTEND;TZID=UTC:20250818T201500
DTSTAMP:20260420T195928
CREATED:20240919T185547Z
LAST-MODIFIED:20240919T185547Z
UID:10003345-1755544500-1755548100@pdde.org
SUMMARY:Brandywine YMCA - Pedaling for Parkinson's Powered by the Davis Phinney Foundation
DESCRIPTION:Learn how you can feel better and build community by joining a Pedaling for Parkinson’s class in your community! Learn more about the class here.
URL:https://pdde.org/event/brandywine-ymca-pedaling-for-parkinsons-powered-by-the-davis-phinney-foundation/2025-08-18/
LOCATION:Brandywine YMCA\, 3 Mt Lebanon Rd\, Wilmington\, DE\, 19803\, United States
ATTACH;FMTTYPE=image/png:https://pdde.org/wp-content/uploads/2024/09/Pedaling-for-Parkinsons-logo-transp-300x300-1.png
ORGANIZER;CN="Davis Phinney Foundation":MAILTO:healthyliving@ymcade.org
END:VEVENT
BEGIN:VEVENT
DTSTART;TZID=UTC:20250814T191500
DTEND;TZID=UTC:20250814T201500
DTSTAMP:20260420T195928
CREATED:20240919T185547Z
LAST-MODIFIED:20240919T185547Z
UID:10003344-1755198900-1755202500@pdde.org
SUMMARY:Brandywine YMCA - Pedaling for Parkinson's Powered by the Davis Phinney Foundation
DESCRIPTION:Learn how you can feel better and build community by joining a Pedaling for Parkinson’s class in your community! Learn more about the class here.
URL:https://pdde.org/event/brandywine-ymca-pedaling-for-parkinsons-powered-by-the-davis-phinney-foundation/2025-08-14/
LOCATION:Brandywine YMCA\, 3 Mt Lebanon Rd\, Wilmington\, DE\, 19803\, United States
ATTACH;FMTTYPE=image/png:https://pdde.org/wp-content/uploads/2024/09/Pedaling-for-Parkinsons-logo-transp-300x300-1.png
ORGANIZER;CN="Davis Phinney Foundation":MAILTO:healthyliving@ymcade.org
END:VEVENT
BEGIN:VEVENT
DTSTART;TZID=UTC:20250813T191500
DTEND;TZID=UTC:20250813T201500
DTSTAMP:20260420T195928
CREATED:20240919T185547Z
LAST-MODIFIED:20240919T185547Z
UID:10003343-1755112500-1755116100@pdde.org
SUMMARY:Brandywine YMCA - Pedaling for Parkinson's Powered by the Davis Phinney Foundation
DESCRIPTION:Learn how you can feel better and build community by joining a Pedaling for Parkinson’s class in your community! Learn more about the class here.
URL:https://pdde.org/event/brandywine-ymca-pedaling-for-parkinsons-powered-by-the-davis-phinney-foundation/2025-08-13/
LOCATION:Brandywine YMCA\, 3 Mt Lebanon Rd\, Wilmington\, DE\, 19803\, United States
ATTACH;FMTTYPE=image/png:https://pdde.org/wp-content/uploads/2024/09/Pedaling-for-Parkinsons-logo-transp-300x300-1.png
ORGANIZER;CN="Davis Phinney Foundation":MAILTO:healthyliving@ymcade.org
END:VEVENT
BEGIN:VEVENT
DTSTART;TZID=UTC:20250811T191500
DTEND;TZID=UTC:20250811T201500
DTSTAMP:20260420T195928
CREATED:20240919T185547Z
LAST-MODIFIED:20240919T185547Z
UID:10003342-1754939700-1754943300@pdde.org
SUMMARY:Brandywine YMCA - Pedaling for Parkinson's Powered by the Davis Phinney Foundation
DESCRIPTION:Learn how you can feel better and build community by joining a Pedaling for Parkinson’s class in your community! Learn more about the class here.
URL:https://pdde.org/event/brandywine-ymca-pedaling-for-parkinsons-powered-by-the-davis-phinney-foundation/2025-08-11/
LOCATION:Brandywine YMCA\, 3 Mt Lebanon Rd\, Wilmington\, DE\, 19803\, United States
ATTACH;FMTTYPE=image/png:https://pdde.org/wp-content/uploads/2024/09/Pedaling-for-Parkinsons-logo-transp-300x300-1.png
ORGANIZER;CN="Davis Phinney Foundation":MAILTO:healthyliving@ymcade.org
END:VEVENT
BEGIN:VEVENT
DTSTART;TZID=UTC:20250807T191500
DTEND;TZID=UTC:20250807T201500
DTSTAMP:20260420T195928
CREATED:20240919T185547Z
LAST-MODIFIED:20240919T185547Z
UID:10003341-1754594100-1754597700@pdde.org
SUMMARY:Brandywine YMCA - Pedaling for Parkinson's Powered by the Davis Phinney Foundation
DESCRIPTION:Learn how you can feel better and build community by joining a Pedaling for Parkinson’s class in your community! Learn more about the class here.
URL:https://pdde.org/event/brandywine-ymca-pedaling-for-parkinsons-powered-by-the-davis-phinney-foundation/2025-08-07/
LOCATION:Brandywine YMCA\, 3 Mt Lebanon Rd\, Wilmington\, DE\, 19803\, United States
ATTACH;FMTTYPE=image/png:https://pdde.org/wp-content/uploads/2024/09/Pedaling-for-Parkinsons-logo-transp-300x300-1.png
ORGANIZER;CN="Davis Phinney Foundation":MAILTO:healthyliving@ymcade.org
END:VEVENT
BEGIN:VEVENT
DTSTART;TZID=UTC:20250806T191500
DTEND;TZID=UTC:20250806T201500
DTSTAMP:20260420T195928
CREATED:20240919T185547Z
LAST-MODIFIED:20240919T185547Z
UID:10003340-1754507700-1754511300@pdde.org
SUMMARY:Brandywine YMCA - Pedaling for Parkinson's Powered by the Davis Phinney Foundation
DESCRIPTION:Learn how you can feel better and build community by joining a Pedaling for Parkinson’s class in your community! Learn more about the class here.
URL:https://pdde.org/event/brandywine-ymca-pedaling-for-parkinsons-powered-by-the-davis-phinney-foundation/2025-08-06/
LOCATION:Brandywine YMCA\, 3 Mt Lebanon Rd\, Wilmington\, DE\, 19803\, United States
ATTACH;FMTTYPE=image/png:https://pdde.org/wp-content/uploads/2024/09/Pedaling-for-Parkinsons-logo-transp-300x300-1.png
ORGANIZER;CN="Davis Phinney Foundation":MAILTO:healthyliving@ymcade.org
END:VEVENT
BEGIN:VEVENT
DTSTART;TZID=UTC:20250804T191500
DTEND;TZID=UTC:20250804T201500
DTSTAMP:20260420T195928
CREATED:20240919T185547Z
LAST-MODIFIED:20240919T185547Z
UID:10003339-1754334900-1754338500@pdde.org
SUMMARY:Brandywine YMCA - Pedaling for Parkinson's Powered by the Davis Phinney Foundation
DESCRIPTION:Learn how you can feel better and build community by joining a Pedaling for Parkinson’s class in your community! Learn more about the class here.
URL:https://pdde.org/event/brandywine-ymca-pedaling-for-parkinsons-powered-by-the-davis-phinney-foundation/2025-08-04/
LOCATION:Brandywine YMCA\, 3 Mt Lebanon Rd\, Wilmington\, DE\, 19803\, United States
ATTACH;FMTTYPE=image/png:https://pdde.org/wp-content/uploads/2024/09/Pedaling-for-Parkinsons-logo-transp-300x300-1.png
ORGANIZER;CN="Davis Phinney Foundation":MAILTO:healthyliving@ymcade.org
END:VEVENT
BEGIN:VEVENT
DTSTART;TZID=UTC:20250731T191500
DTEND;TZID=UTC:20250731T201500
DTSTAMP:20260420T195928
CREATED:20240919T185547Z
LAST-MODIFIED:20240919T185547Z
UID:10003338-1753989300-1753992900@pdde.org
SUMMARY:Brandywine YMCA - Pedaling for Parkinson's Powered by the Davis Phinney Foundation
DESCRIPTION:Learn how you can feel better and build community by joining a Pedaling for Parkinson’s class in your community! Learn more about the class here.
URL:https://pdde.org/event/brandywine-ymca-pedaling-for-parkinsons-powered-by-the-davis-phinney-foundation/2025-07-31/
LOCATION:Brandywine YMCA\, 3 Mt Lebanon Rd\, Wilmington\, DE\, 19803\, United States
ATTACH;FMTTYPE=image/png:https://pdde.org/wp-content/uploads/2024/09/Pedaling-for-Parkinsons-logo-transp-300x300-1.png
ORGANIZER;CN="Davis Phinney Foundation":MAILTO:healthyliving@ymcade.org
END:VEVENT
BEGIN:VEVENT
DTSTART;TZID=UTC:20250730T191500
DTEND;TZID=UTC:20250730T201500
DTSTAMP:20260420T195928
CREATED:20240919T185547Z
LAST-MODIFIED:20240919T185547Z
UID:10003337-1753902900-1753906500@pdde.org
SUMMARY:Brandywine YMCA - Pedaling for Parkinson's Powered by the Davis Phinney Foundation
DESCRIPTION:Learn how you can feel better and build community by joining a Pedaling for Parkinson’s class in your community! Learn more about the class here.
URL:https://pdde.org/event/brandywine-ymca-pedaling-for-parkinsons-powered-by-the-davis-phinney-foundation/2025-07-30/
LOCATION:Brandywine YMCA\, 3 Mt Lebanon Rd\, Wilmington\, DE\, 19803\, United States
ATTACH;FMTTYPE=image/png:https://pdde.org/wp-content/uploads/2024/09/Pedaling-for-Parkinsons-logo-transp-300x300-1.png
ORGANIZER;CN="Davis Phinney Foundation":MAILTO:healthyliving@ymcade.org
END:VEVENT
BEGIN:VEVENT
DTSTART;TZID=UTC:20250728T191500
DTEND;TZID=UTC:20250728T201500
DTSTAMP:20260420T195928
CREATED:20240919T185547Z
LAST-MODIFIED:20240919T185547Z
UID:10003336-1753730100-1753733700@pdde.org
SUMMARY:Brandywine YMCA - Pedaling for Parkinson's Powered by the Davis Phinney Foundation
DESCRIPTION:Learn how you can feel better and build community by joining a Pedaling for Parkinson’s class in your community! Learn more about the class here.
URL:https://pdde.org/event/brandywine-ymca-pedaling-for-parkinsons-powered-by-the-davis-phinney-foundation/2025-07-28/
LOCATION:Brandywine YMCA\, 3 Mt Lebanon Rd\, Wilmington\, DE\, 19803\, United States
ATTACH;FMTTYPE=image/png:https://pdde.org/wp-content/uploads/2024/09/Pedaling-for-Parkinsons-logo-transp-300x300-1.png
ORGANIZER;CN="Davis Phinney Foundation":MAILTO:healthyliving@ymcade.org
END:VEVENT
END:VCALENDAR