BEGIN:VCALENDAR
VERSION:2.0
PRODID:-//PDDE - ECPv6.15.20//NONSGML v1.0//EN
CALSCALE:GREGORIAN
METHOD:PUBLISH
X-WR-CALNAME:PDDE
X-ORIGINAL-URL:https://pdde.org
X-WR-CALDESC:Events for PDDE
REFRESH-INTERVAL;VALUE=DURATION:PT1H
X-Robots-Tag:noindex
X-PUBLISHED-TTL:PT1H
BEGIN:VTIMEZONE
TZID:UTC
BEGIN:STANDARD
TZOFFSETFROM:+0000
TZOFFSETTO:+0000
TZNAME:UTC
DTSTART:20240101T000000
END:STANDARD
END:VTIMEZONE
BEGIN:VEVENT
DTSTART;TZID=UTC:20251225T191500
DTEND;TZID=UTC:20251225T201500
DTSTAMP:20260420T065153
CREATED:20240919T185547Z
LAST-MODIFIED:20240919T185547Z
UID:10003401-1766690100-1766693700@pdde.org
SUMMARY:Brandywine YMCA - Pedaling for Parkinson's Powered by the Davis Phinney Foundation
DESCRIPTION:Learn how you can feel better and build community by joining a Pedaling for Parkinson’s class in your community! Learn more about the class here.
URL:https://pdde.org/event/brandywine-ymca-pedaling-for-parkinsons-powered-by-the-davis-phinney-foundation/2025-12-25/
LOCATION:Brandywine YMCA\, 3 Mt Lebanon Rd\, Wilmington\, DE\, 19803\, United States
ATTACH;FMTTYPE=image/png:https://pdde.org/wp-content/uploads/2024/09/Pedaling-for-Parkinsons-logo-transp-300x300-1.png
ORGANIZER;CN="Davis Phinney Foundation":MAILTO:healthyliving@ymcade.org
END:VEVENT
BEGIN:VEVENT
DTSTART;TZID=UTC:20251224T191500
DTEND;TZID=UTC:20251224T201500
DTSTAMP:20260420T065153
CREATED:20240919T185547Z
LAST-MODIFIED:20240919T185547Z
UID:10003400-1766603700-1766607300@pdde.org
SUMMARY:Brandywine YMCA - Pedaling for Parkinson's Powered by the Davis Phinney Foundation
DESCRIPTION:Learn how you can feel better and build community by joining a Pedaling for Parkinson’s class in your community! Learn more about the class here.
URL:https://pdde.org/event/brandywine-ymca-pedaling-for-parkinsons-powered-by-the-davis-phinney-foundation/2025-12-24/
LOCATION:Brandywine YMCA\, 3 Mt Lebanon Rd\, Wilmington\, DE\, 19803\, United States
ATTACH;FMTTYPE=image/png:https://pdde.org/wp-content/uploads/2024/09/Pedaling-for-Parkinsons-logo-transp-300x300-1.png
ORGANIZER;CN="Davis Phinney Foundation":MAILTO:healthyliving@ymcade.org
END:VEVENT
BEGIN:VEVENT
DTSTART;TZID=UTC:20251222T191500
DTEND;TZID=UTC:20251222T201500
DTSTAMP:20260420T065153
CREATED:20240919T185547Z
LAST-MODIFIED:20240919T185547Z
UID:10003399-1766430900-1766434500@pdde.org
SUMMARY:Brandywine YMCA - Pedaling for Parkinson's Powered by the Davis Phinney Foundation
DESCRIPTION:Learn how you can feel better and build community by joining a Pedaling for Parkinson’s class in your community! Learn more about the class here.
URL:https://pdde.org/event/brandywine-ymca-pedaling-for-parkinsons-powered-by-the-davis-phinney-foundation/2025-12-22/
LOCATION:Brandywine YMCA\, 3 Mt Lebanon Rd\, Wilmington\, DE\, 19803\, United States
ATTACH;FMTTYPE=image/png:https://pdde.org/wp-content/uploads/2024/09/Pedaling-for-Parkinsons-logo-transp-300x300-1.png
ORGANIZER;CN="Davis Phinney Foundation":MAILTO:healthyliving@ymcade.org
END:VEVENT
BEGIN:VEVENT
DTSTART;TZID=UTC:20251218T191500
DTEND;TZID=UTC:20251218T201500
DTSTAMP:20260420T065153
CREATED:20240919T185547Z
LAST-MODIFIED:20240919T185547Z
UID:10003398-1766085300-1766088900@pdde.org
SUMMARY:Brandywine YMCA - Pedaling for Parkinson's Powered by the Davis Phinney Foundation
DESCRIPTION:Learn how you can feel better and build community by joining a Pedaling for Parkinson’s class in your community! Learn more about the class here.
URL:https://pdde.org/event/brandywine-ymca-pedaling-for-parkinsons-powered-by-the-davis-phinney-foundation/2025-12-18/
LOCATION:Brandywine YMCA\, 3 Mt Lebanon Rd\, Wilmington\, DE\, 19803\, United States
ATTACH;FMTTYPE=image/png:https://pdde.org/wp-content/uploads/2024/09/Pedaling-for-Parkinsons-logo-transp-300x300-1.png
ORGANIZER;CN="Davis Phinney Foundation":MAILTO:healthyliving@ymcade.org
END:VEVENT
BEGIN:VEVENT
DTSTART;TZID=UTC:20251217T191500
DTEND;TZID=UTC:20251217T201500
DTSTAMP:20260420T065153
CREATED:20240919T185547Z
LAST-MODIFIED:20240919T185547Z
UID:10003397-1765998900-1766002500@pdde.org
SUMMARY:Brandywine YMCA - Pedaling for Parkinson's Powered by the Davis Phinney Foundation
DESCRIPTION:Learn how you can feel better and build community by joining a Pedaling for Parkinson’s class in your community! Learn more about the class here.
URL:https://pdde.org/event/brandywine-ymca-pedaling-for-parkinsons-powered-by-the-davis-phinney-foundation/2025-12-17/
LOCATION:Brandywine YMCA\, 3 Mt Lebanon Rd\, Wilmington\, DE\, 19803\, United States
ATTACH;FMTTYPE=image/png:https://pdde.org/wp-content/uploads/2024/09/Pedaling-for-Parkinsons-logo-transp-300x300-1.png
ORGANIZER;CN="Davis Phinney Foundation":MAILTO:healthyliving@ymcade.org
END:VEVENT
BEGIN:VEVENT
DTSTART;TZID=UTC:20251215T191500
DTEND;TZID=UTC:20251215T201500
DTSTAMP:20260420T065153
CREATED:20240919T185547Z
LAST-MODIFIED:20240919T185547Z
UID:10003396-1765826100-1765829700@pdde.org
SUMMARY:Brandywine YMCA - Pedaling for Parkinson's Powered by the Davis Phinney Foundation
DESCRIPTION:Learn how you can feel better and build community by joining a Pedaling for Parkinson’s class in your community! Learn more about the class here.
URL:https://pdde.org/event/brandywine-ymca-pedaling-for-parkinsons-powered-by-the-davis-phinney-foundation/2025-12-15/
LOCATION:Brandywine YMCA\, 3 Mt Lebanon Rd\, Wilmington\, DE\, 19803\, United States
ATTACH;FMTTYPE=image/png:https://pdde.org/wp-content/uploads/2024/09/Pedaling-for-Parkinsons-logo-transp-300x300-1.png
ORGANIZER;CN="Davis Phinney Foundation":MAILTO:healthyliving@ymcade.org
END:VEVENT
BEGIN:VEVENT
DTSTART;TZID=UTC:20251211T191500
DTEND;TZID=UTC:20251211T201500
DTSTAMP:20260420T065153
CREATED:20240919T185547Z
LAST-MODIFIED:20240919T185547Z
UID:10003395-1765480500-1765484100@pdde.org
SUMMARY:Brandywine YMCA - Pedaling for Parkinson's Powered by the Davis Phinney Foundation
DESCRIPTION:Learn how you can feel better and build community by joining a Pedaling for Parkinson’s class in your community! Learn more about the class here.
URL:https://pdde.org/event/brandywine-ymca-pedaling-for-parkinsons-powered-by-the-davis-phinney-foundation/2025-12-11/
LOCATION:Brandywine YMCA\, 3 Mt Lebanon Rd\, Wilmington\, DE\, 19803\, United States
ATTACH;FMTTYPE=image/png:https://pdde.org/wp-content/uploads/2024/09/Pedaling-for-Parkinsons-logo-transp-300x300-1.png
ORGANIZER;CN="Davis Phinney Foundation":MAILTO:healthyliving@ymcade.org
END:VEVENT
BEGIN:VEVENT
DTSTART;TZID=UTC:20251210T191500
DTEND;TZID=UTC:20251210T201500
DTSTAMP:20260420T065153
CREATED:20240919T185547Z
LAST-MODIFIED:20240919T185547Z
UID:10003394-1765394100-1765397700@pdde.org
SUMMARY:Brandywine YMCA - Pedaling for Parkinson's Powered by the Davis Phinney Foundation
DESCRIPTION:Learn how you can feel better and build community by joining a Pedaling for Parkinson’s class in your community! Learn more about the class here.
URL:https://pdde.org/event/brandywine-ymca-pedaling-for-parkinsons-powered-by-the-davis-phinney-foundation/2025-12-10/
LOCATION:Brandywine YMCA\, 3 Mt Lebanon Rd\, Wilmington\, DE\, 19803\, United States
ATTACH;FMTTYPE=image/png:https://pdde.org/wp-content/uploads/2024/09/Pedaling-for-Parkinsons-logo-transp-300x300-1.png
ORGANIZER;CN="Davis Phinney Foundation":MAILTO:healthyliving@ymcade.org
END:VEVENT
BEGIN:VEVENT
DTSTART;TZID=UTC:20251208T191500
DTEND;TZID=UTC:20251208T201500
DTSTAMP:20260420T065153
CREATED:20240919T185547Z
LAST-MODIFIED:20240919T185547Z
UID:10003393-1765221300-1765224900@pdde.org
SUMMARY:Brandywine YMCA - Pedaling for Parkinson's Powered by the Davis Phinney Foundation
DESCRIPTION:Learn how you can feel better and build community by joining a Pedaling for Parkinson’s class in your community! Learn more about the class here.
URL:https://pdde.org/event/brandywine-ymca-pedaling-for-parkinsons-powered-by-the-davis-phinney-foundation/2025-12-08/
LOCATION:Brandywine YMCA\, 3 Mt Lebanon Rd\, Wilmington\, DE\, 19803\, United States
ATTACH;FMTTYPE=image/png:https://pdde.org/wp-content/uploads/2024/09/Pedaling-for-Parkinsons-logo-transp-300x300-1.png
ORGANIZER;CN="Davis Phinney Foundation":MAILTO:healthyliving@ymcade.org
END:VEVENT
BEGIN:VEVENT
DTSTART;TZID=UTC:20251204T191500
DTEND;TZID=UTC:20251204T201500
DTSTAMP:20260420T065153
CREATED:20240919T185547Z
LAST-MODIFIED:20240919T185547Z
UID:10003392-1764875700-1764879300@pdde.org
SUMMARY:Brandywine YMCA - Pedaling for Parkinson's Powered by the Davis Phinney Foundation
DESCRIPTION:Learn how you can feel better and build community by joining a Pedaling for Parkinson’s class in your community! Learn more about the class here.
URL:https://pdde.org/event/brandywine-ymca-pedaling-for-parkinsons-powered-by-the-davis-phinney-foundation/2025-12-04/
LOCATION:Brandywine YMCA\, 3 Mt Lebanon Rd\, Wilmington\, DE\, 19803\, United States
ATTACH;FMTTYPE=image/png:https://pdde.org/wp-content/uploads/2024/09/Pedaling-for-Parkinsons-logo-transp-300x300-1.png
ORGANIZER;CN="Davis Phinney Foundation":MAILTO:healthyliving@ymcade.org
END:VEVENT
BEGIN:VEVENT
DTSTART;TZID=UTC:20251203T191500
DTEND;TZID=UTC:20251203T201500
DTSTAMP:20260420T065153
CREATED:20240919T185547Z
LAST-MODIFIED:20240919T185547Z
UID:10003391-1764789300-1764792900@pdde.org
SUMMARY:Brandywine YMCA - Pedaling for Parkinson's Powered by the Davis Phinney Foundation
DESCRIPTION:Learn how you can feel better and build community by joining a Pedaling for Parkinson’s class in your community! Learn more about the class here.
URL:https://pdde.org/event/brandywine-ymca-pedaling-for-parkinsons-powered-by-the-davis-phinney-foundation/2025-12-03/
LOCATION:Brandywine YMCA\, 3 Mt Lebanon Rd\, Wilmington\, DE\, 19803\, United States
ATTACH;FMTTYPE=image/png:https://pdde.org/wp-content/uploads/2024/09/Pedaling-for-Parkinsons-logo-transp-300x300-1.png
ORGANIZER;CN="Davis Phinney Foundation":MAILTO:healthyliving@ymcade.org
END:VEVENT
BEGIN:VEVENT
DTSTART;TZID=UTC:20251201T191500
DTEND;TZID=UTC:20251201T201500
DTSTAMP:20260420T065153
CREATED:20240919T185547Z
LAST-MODIFIED:20240919T185547Z
UID:10003390-1764616500-1764620100@pdde.org
SUMMARY:Brandywine YMCA - Pedaling for Parkinson's Powered by the Davis Phinney Foundation
DESCRIPTION:Learn how you can feel better and build community by joining a Pedaling for Parkinson’s class in your community! Learn more about the class here.
URL:https://pdde.org/event/brandywine-ymca-pedaling-for-parkinsons-powered-by-the-davis-phinney-foundation/2025-12-01/
LOCATION:Brandywine YMCA\, 3 Mt Lebanon Rd\, Wilmington\, DE\, 19803\, United States
ATTACH;FMTTYPE=image/png:https://pdde.org/wp-content/uploads/2024/09/Pedaling-for-Parkinsons-logo-transp-300x300-1.png
ORGANIZER;CN="Davis Phinney Foundation":MAILTO:healthyliving@ymcade.org
END:VEVENT
BEGIN:VEVENT
DTSTART;TZID=UTC:20251127T191500
DTEND;TZID=UTC:20251127T201500
DTSTAMP:20260420T065153
CREATED:20240919T185547Z
LAST-MODIFIED:20240919T185547Z
UID:10003389-1764270900-1764274500@pdde.org
SUMMARY:Brandywine YMCA - Pedaling for Parkinson's Powered by the Davis Phinney Foundation
DESCRIPTION:Learn how you can feel better and build community by joining a Pedaling for Parkinson’s class in your community! Learn more about the class here.
URL:https://pdde.org/event/brandywine-ymca-pedaling-for-parkinsons-powered-by-the-davis-phinney-foundation/2025-11-27/
LOCATION:Brandywine YMCA\, 3 Mt Lebanon Rd\, Wilmington\, DE\, 19803\, United States
ATTACH;FMTTYPE=image/png:https://pdde.org/wp-content/uploads/2024/09/Pedaling-for-Parkinsons-logo-transp-300x300-1.png
ORGANIZER;CN="Davis Phinney Foundation":MAILTO:healthyliving@ymcade.org
END:VEVENT
BEGIN:VEVENT
DTSTART;TZID=UTC:20251126T191500
DTEND;TZID=UTC:20251126T201500
DTSTAMP:20260420T065153
CREATED:20240919T185547Z
LAST-MODIFIED:20240919T185547Z
UID:10003388-1764184500-1764188100@pdde.org
SUMMARY:Brandywine YMCA - Pedaling for Parkinson's Powered by the Davis Phinney Foundation
DESCRIPTION:Learn how you can feel better and build community by joining a Pedaling for Parkinson’s class in your community! Learn more about the class here.
URL:https://pdde.org/event/brandywine-ymca-pedaling-for-parkinsons-powered-by-the-davis-phinney-foundation/2025-11-26/
LOCATION:Brandywine YMCA\, 3 Mt Lebanon Rd\, Wilmington\, DE\, 19803\, United States
ATTACH;FMTTYPE=image/png:https://pdde.org/wp-content/uploads/2024/09/Pedaling-for-Parkinsons-logo-transp-300x300-1.png
ORGANIZER;CN="Davis Phinney Foundation":MAILTO:healthyliving@ymcade.org
END:VEVENT
BEGIN:VEVENT
DTSTART;TZID=UTC:20251124T191500
DTEND;TZID=UTC:20251124T201500
DTSTAMP:20260420T065153
CREATED:20240919T185547Z
LAST-MODIFIED:20240919T185547Z
UID:10003387-1764011700-1764015300@pdde.org
SUMMARY:Brandywine YMCA - Pedaling for Parkinson's Powered by the Davis Phinney Foundation
DESCRIPTION:Learn how you can feel better and build community by joining a Pedaling for Parkinson’s class in your community! Learn more about the class here.
URL:https://pdde.org/event/brandywine-ymca-pedaling-for-parkinsons-powered-by-the-davis-phinney-foundation/2025-11-24/
LOCATION:Brandywine YMCA\, 3 Mt Lebanon Rd\, Wilmington\, DE\, 19803\, United States
ATTACH;FMTTYPE=image/png:https://pdde.org/wp-content/uploads/2024/09/Pedaling-for-Parkinsons-logo-transp-300x300-1.png
ORGANIZER;CN="Davis Phinney Foundation":MAILTO:healthyliving@ymcade.org
END:VEVENT
BEGIN:VEVENT
DTSTART;TZID=UTC:20251120T191500
DTEND;TZID=UTC:20251120T201500
DTSTAMP:20260420T065153
CREATED:20240919T185547Z
LAST-MODIFIED:20240919T185547Z
UID:10003386-1763666100-1763669700@pdde.org
SUMMARY:Brandywine YMCA - Pedaling for Parkinson's Powered by the Davis Phinney Foundation
DESCRIPTION:Learn how you can feel better and build community by joining a Pedaling for Parkinson’s class in your community! Learn more about the class here.
URL:https://pdde.org/event/brandywine-ymca-pedaling-for-parkinsons-powered-by-the-davis-phinney-foundation/2025-11-20/
LOCATION:Brandywine YMCA\, 3 Mt Lebanon Rd\, Wilmington\, DE\, 19803\, United States
ATTACH;FMTTYPE=image/png:https://pdde.org/wp-content/uploads/2024/09/Pedaling-for-Parkinsons-logo-transp-300x300-1.png
ORGANIZER;CN="Davis Phinney Foundation":MAILTO:healthyliving@ymcade.org
END:VEVENT
BEGIN:VEVENT
DTSTART;TZID=UTC:20251119T191500
DTEND;TZID=UTC:20251119T201500
DTSTAMP:20260420T065153
CREATED:20240919T185547Z
LAST-MODIFIED:20240919T185547Z
UID:10003385-1763579700-1763583300@pdde.org
SUMMARY:Brandywine YMCA - Pedaling for Parkinson's Powered by the Davis Phinney Foundation
DESCRIPTION:Learn how you can feel better and build community by joining a Pedaling for Parkinson’s class in your community! Learn more about the class here.
URL:https://pdde.org/event/brandywine-ymca-pedaling-for-parkinsons-powered-by-the-davis-phinney-foundation/2025-11-19/
LOCATION:Brandywine YMCA\, 3 Mt Lebanon Rd\, Wilmington\, DE\, 19803\, United States
ATTACH;FMTTYPE=image/png:https://pdde.org/wp-content/uploads/2024/09/Pedaling-for-Parkinsons-logo-transp-300x300-1.png
ORGANIZER;CN="Davis Phinney Foundation":MAILTO:healthyliving@ymcade.org
END:VEVENT
BEGIN:VEVENT
DTSTART;TZID=UTC:20251117T191500
DTEND;TZID=UTC:20251117T201500
DTSTAMP:20260420T065153
CREATED:20240919T185547Z
LAST-MODIFIED:20240919T185547Z
UID:10003384-1763406900-1763410500@pdde.org
SUMMARY:Brandywine YMCA - Pedaling for Parkinson's Powered by the Davis Phinney Foundation
DESCRIPTION:Learn how you can feel better and build community by joining a Pedaling for Parkinson’s class in your community! Learn more about the class here.
URL:https://pdde.org/event/brandywine-ymca-pedaling-for-parkinsons-powered-by-the-davis-phinney-foundation/2025-11-17/
LOCATION:Brandywine YMCA\, 3 Mt Lebanon Rd\, Wilmington\, DE\, 19803\, United States
ATTACH;FMTTYPE=image/png:https://pdde.org/wp-content/uploads/2024/09/Pedaling-for-Parkinsons-logo-transp-300x300-1.png
ORGANIZER;CN="Davis Phinney Foundation":MAILTO:healthyliving@ymcade.org
END:VEVENT
BEGIN:VEVENT
DTSTART;TZID=UTC:20251113T191500
DTEND;TZID=UTC:20251113T201500
DTSTAMP:20260420T065153
CREATED:20240919T185547Z
LAST-MODIFIED:20240919T185547Z
UID:10003383-1763061300-1763064900@pdde.org
SUMMARY:Brandywine YMCA - Pedaling for Parkinson's Powered by the Davis Phinney Foundation
DESCRIPTION:Learn how you can feel better and build community by joining a Pedaling for Parkinson’s class in your community! Learn more about the class here.
URL:https://pdde.org/event/brandywine-ymca-pedaling-for-parkinsons-powered-by-the-davis-phinney-foundation/2025-11-13/
LOCATION:Brandywine YMCA\, 3 Mt Lebanon Rd\, Wilmington\, DE\, 19803\, United States
ATTACH;FMTTYPE=image/png:https://pdde.org/wp-content/uploads/2024/09/Pedaling-for-Parkinsons-logo-transp-300x300-1.png
ORGANIZER;CN="Davis Phinney Foundation":MAILTO:healthyliving@ymcade.org
END:VEVENT
BEGIN:VEVENT
DTSTART;TZID=UTC:20251112T191500
DTEND;TZID=UTC:20251112T201500
DTSTAMP:20260420T065153
CREATED:20240919T185547Z
LAST-MODIFIED:20240919T185547Z
UID:10003382-1762974900-1762978500@pdde.org
SUMMARY:Brandywine YMCA - Pedaling for Parkinson's Powered by the Davis Phinney Foundation
DESCRIPTION:Learn how you can feel better and build community by joining a Pedaling for Parkinson’s class in your community! Learn more about the class here.
URL:https://pdde.org/event/brandywine-ymca-pedaling-for-parkinsons-powered-by-the-davis-phinney-foundation/2025-11-12/
LOCATION:Brandywine YMCA\, 3 Mt Lebanon Rd\, Wilmington\, DE\, 19803\, United States
ATTACH;FMTTYPE=image/png:https://pdde.org/wp-content/uploads/2024/09/Pedaling-for-Parkinsons-logo-transp-300x300-1.png
ORGANIZER;CN="Davis Phinney Foundation":MAILTO:healthyliving@ymcade.org
END:VEVENT
BEGIN:VEVENT
DTSTART;TZID=UTC:20251110T191500
DTEND;TZID=UTC:20251110T201500
DTSTAMP:20260420T065153
CREATED:20240919T185547Z
LAST-MODIFIED:20240919T185547Z
UID:10003381-1762802100-1762805700@pdde.org
SUMMARY:Brandywine YMCA - Pedaling for Parkinson's Powered by the Davis Phinney Foundation
DESCRIPTION:Learn how you can feel better and build community by joining a Pedaling for Parkinson’s class in your community! Learn more about the class here.
URL:https://pdde.org/event/brandywine-ymca-pedaling-for-parkinsons-powered-by-the-davis-phinney-foundation/2025-11-10/
LOCATION:Brandywine YMCA\, 3 Mt Lebanon Rd\, Wilmington\, DE\, 19803\, United States
ATTACH;FMTTYPE=image/png:https://pdde.org/wp-content/uploads/2024/09/Pedaling-for-Parkinsons-logo-transp-300x300-1.png
ORGANIZER;CN="Davis Phinney Foundation":MAILTO:healthyliving@ymcade.org
END:VEVENT
BEGIN:VEVENT
DTSTART;TZID=UTC:20251106T191500
DTEND;TZID=UTC:20251106T201500
DTSTAMP:20260420T065153
CREATED:20240919T185547Z
LAST-MODIFIED:20240919T185547Z
UID:10003380-1762456500-1762460100@pdde.org
SUMMARY:Brandywine YMCA - Pedaling for Parkinson's Powered by the Davis Phinney Foundation
DESCRIPTION:Learn how you can feel better and build community by joining a Pedaling for Parkinson’s class in your community! Learn more about the class here.
URL:https://pdde.org/event/brandywine-ymca-pedaling-for-parkinsons-powered-by-the-davis-phinney-foundation/2025-11-06/
LOCATION:Brandywine YMCA\, 3 Mt Lebanon Rd\, Wilmington\, DE\, 19803\, United States
ATTACH;FMTTYPE=image/png:https://pdde.org/wp-content/uploads/2024/09/Pedaling-for-Parkinsons-logo-transp-300x300-1.png
ORGANIZER;CN="Davis Phinney Foundation":MAILTO:healthyliving@ymcade.org
END:VEVENT
BEGIN:VEVENT
DTSTART;TZID=UTC:20251105T191500
DTEND;TZID=UTC:20251105T201500
DTSTAMP:20260420T065153
CREATED:20240919T185547Z
LAST-MODIFIED:20240919T185547Z
UID:10003379-1762370100-1762373700@pdde.org
SUMMARY:Brandywine YMCA - Pedaling for Parkinson's Powered by the Davis Phinney Foundation
DESCRIPTION:Learn how you can feel better and build community by joining a Pedaling for Parkinson’s class in your community! Learn more about the class here.
URL:https://pdde.org/event/brandywine-ymca-pedaling-for-parkinsons-powered-by-the-davis-phinney-foundation/2025-11-05/
LOCATION:Brandywine YMCA\, 3 Mt Lebanon Rd\, Wilmington\, DE\, 19803\, United States
ATTACH;FMTTYPE=image/png:https://pdde.org/wp-content/uploads/2024/09/Pedaling-for-Parkinsons-logo-transp-300x300-1.png
ORGANIZER;CN="Davis Phinney Foundation":MAILTO:healthyliving@ymcade.org
END:VEVENT
BEGIN:VEVENT
DTSTART;TZID=UTC:20251103T191500
DTEND;TZID=UTC:20251103T201500
DTSTAMP:20260420T065153
CREATED:20240919T185547Z
LAST-MODIFIED:20240919T185547Z
UID:10003378-1762197300-1762200900@pdde.org
SUMMARY:Brandywine YMCA - Pedaling for Parkinson's Powered by the Davis Phinney Foundation
DESCRIPTION:Learn how you can feel better and build community by joining a Pedaling for Parkinson’s class in your community! Learn more about the class here.
URL:https://pdde.org/event/brandywine-ymca-pedaling-for-parkinsons-powered-by-the-davis-phinney-foundation/2025-11-03/
LOCATION:Brandywine YMCA\, 3 Mt Lebanon Rd\, Wilmington\, DE\, 19803\, United States
ATTACH;FMTTYPE=image/png:https://pdde.org/wp-content/uploads/2024/09/Pedaling-for-Parkinsons-logo-transp-300x300-1.png
ORGANIZER;CN="Davis Phinney Foundation":MAILTO:healthyliving@ymcade.org
END:VEVENT
BEGIN:VEVENT
DTSTART;TZID=UTC:20251030T191500
DTEND;TZID=UTC:20251030T201500
DTSTAMP:20260420T065153
CREATED:20240919T185547Z
LAST-MODIFIED:20240919T185547Z
UID:10003377-1761851700-1761855300@pdde.org
SUMMARY:Brandywine YMCA - Pedaling for Parkinson's Powered by the Davis Phinney Foundation
DESCRIPTION:Learn how you can feel better and build community by joining a Pedaling for Parkinson’s class in your community! Learn more about the class here.
URL:https://pdde.org/event/brandywine-ymca-pedaling-for-parkinsons-powered-by-the-davis-phinney-foundation/2025-10-30/
LOCATION:Brandywine YMCA\, 3 Mt Lebanon Rd\, Wilmington\, DE\, 19803\, United States
ATTACH;FMTTYPE=image/png:https://pdde.org/wp-content/uploads/2024/09/Pedaling-for-Parkinsons-logo-transp-300x300-1.png
ORGANIZER;CN="Davis Phinney Foundation":MAILTO:healthyliving@ymcade.org
END:VEVENT
BEGIN:VEVENT
DTSTART;TZID=UTC:20251029T191500
DTEND;TZID=UTC:20251029T201500
DTSTAMP:20260420T065153
CREATED:20240919T185547Z
LAST-MODIFIED:20240919T185547Z
UID:10003376-1761765300-1761768900@pdde.org
SUMMARY:Brandywine YMCA - Pedaling for Parkinson's Powered by the Davis Phinney Foundation
DESCRIPTION:Learn how you can feel better and build community by joining a Pedaling for Parkinson’s class in your community! Learn more about the class here.
URL:https://pdde.org/event/brandywine-ymca-pedaling-for-parkinsons-powered-by-the-davis-phinney-foundation/2025-10-29/
LOCATION:Brandywine YMCA\, 3 Mt Lebanon Rd\, Wilmington\, DE\, 19803\, United States
ATTACH;FMTTYPE=image/png:https://pdde.org/wp-content/uploads/2024/09/Pedaling-for-Parkinsons-logo-transp-300x300-1.png
ORGANIZER;CN="Davis Phinney Foundation":MAILTO:healthyliving@ymcade.org
END:VEVENT
BEGIN:VEVENT
DTSTART;TZID=UTC:20251027T191500
DTEND;TZID=UTC:20251027T201500
DTSTAMP:20260420T065153
CREATED:20240919T185547Z
LAST-MODIFIED:20240919T185547Z
UID:10003375-1761592500-1761596100@pdde.org
SUMMARY:Brandywine YMCA - Pedaling for Parkinson's Powered by the Davis Phinney Foundation
DESCRIPTION:Learn how you can feel better and build community by joining a Pedaling for Parkinson’s class in your community! Learn more about the class here.
URL:https://pdde.org/event/brandywine-ymca-pedaling-for-parkinsons-powered-by-the-davis-phinney-foundation/2025-10-27/
LOCATION:Brandywine YMCA\, 3 Mt Lebanon Rd\, Wilmington\, DE\, 19803\, United States
ATTACH;FMTTYPE=image/png:https://pdde.org/wp-content/uploads/2024/09/Pedaling-for-Parkinsons-logo-transp-300x300-1.png
ORGANIZER;CN="Davis Phinney Foundation":MAILTO:healthyliving@ymcade.org
END:VEVENT
BEGIN:VEVENT
DTSTART;TZID=UTC:20251023T191500
DTEND;TZID=UTC:20251023T201500
DTSTAMP:20260420T065153
CREATED:20240919T185547Z
LAST-MODIFIED:20240919T185547Z
UID:10003374-1761246900-1761250500@pdde.org
SUMMARY:Brandywine YMCA - Pedaling for Parkinson's Powered by the Davis Phinney Foundation
DESCRIPTION:Learn how you can feel better and build community by joining a Pedaling for Parkinson’s class in your community! Learn more about the class here.
URL:https://pdde.org/event/brandywine-ymca-pedaling-for-parkinsons-powered-by-the-davis-phinney-foundation/2025-10-23/
LOCATION:Brandywine YMCA\, 3 Mt Lebanon Rd\, Wilmington\, DE\, 19803\, United States
ATTACH;FMTTYPE=image/png:https://pdde.org/wp-content/uploads/2024/09/Pedaling-for-Parkinsons-logo-transp-300x300-1.png
ORGANIZER;CN="Davis Phinney Foundation":MAILTO:healthyliving@ymcade.org
END:VEVENT
BEGIN:VEVENT
DTSTART;TZID=UTC:20251022T191500
DTEND;TZID=UTC:20251022T201500
DTSTAMP:20260420T065153
CREATED:20240919T185547Z
LAST-MODIFIED:20240919T185547Z
UID:10003373-1761160500-1761164100@pdde.org
SUMMARY:Brandywine YMCA - Pedaling for Parkinson's Powered by the Davis Phinney Foundation
DESCRIPTION:Learn how you can feel better and build community by joining a Pedaling for Parkinson’s class in your community! Learn more about the class here.
URL:https://pdde.org/event/brandywine-ymca-pedaling-for-parkinsons-powered-by-the-davis-phinney-foundation/2025-10-22/
LOCATION:Brandywine YMCA\, 3 Mt Lebanon Rd\, Wilmington\, DE\, 19803\, United States
ATTACH;FMTTYPE=image/png:https://pdde.org/wp-content/uploads/2024/09/Pedaling-for-Parkinsons-logo-transp-300x300-1.png
ORGANIZER;CN="Davis Phinney Foundation":MAILTO:healthyliving@ymcade.org
END:VEVENT
BEGIN:VEVENT
DTSTART;TZID=UTC:20251020T191500
DTEND;TZID=UTC:20251020T201500
DTSTAMP:20260420T065153
CREATED:20240919T185547Z
LAST-MODIFIED:20240919T185547Z
UID:10003372-1760987700-1760991300@pdde.org
SUMMARY:Brandywine YMCA - Pedaling for Parkinson's Powered by the Davis Phinney Foundation
DESCRIPTION:Learn how you can feel better and build community by joining a Pedaling for Parkinson’s class in your community! Learn more about the class here.
URL:https://pdde.org/event/brandywine-ymca-pedaling-for-parkinsons-powered-by-the-davis-phinney-foundation/2025-10-20/
LOCATION:Brandywine YMCA\, 3 Mt Lebanon Rd\, Wilmington\, DE\, 19803\, United States
ATTACH;FMTTYPE=image/png:https://pdde.org/wp-content/uploads/2024/09/Pedaling-for-Parkinsons-logo-transp-300x300-1.png
ORGANIZER;CN="Davis Phinney Foundation":MAILTO:healthyliving@ymcade.org
END:VEVENT
END:VCALENDAR