BEGIN:VCALENDAR
VERSION:2.0
PRODID:-//PDDE - ECPv6.15.20//NONSGML v1.0//EN
CALSCALE:GREGORIAN
METHOD:PUBLISH
X-ORIGINAL-URL:https://pdde.org
X-WR-CALDESC:Events for PDDE
REFRESH-INTERVAL;VALUE=DURATION:PT1H
X-Robots-Tag:noindex
X-PUBLISHED-TTL:PT1H
BEGIN:VTIMEZONE
TZID:UTC
BEGIN:STANDARD
TZOFFSETFROM:+0000
TZOFFSETTO:+0000
TZNAME:UTC
DTSTART:20250101T000000
END:STANDARD
END:VTIMEZONE
BEGIN:VEVENT
DTSTART;TZID=UTC:20260421T150000
DTEND;TZID=UTC:20260421T160000
DTSTAMP:20260417T142144
CREATED:20240919T185306Z
LAST-MODIFIED:20240919T185306Z
UID:10001532-1776783600-1776787200@pdde.org
SUMMARY:Milford Small PD Support Meeting
DESCRIPTION:Anyone with PD\, family or caregivers welcome to attend.
URL:https://pdde.org/event/milford-small-pd-support-meeting/2026-04-21/
LOCATION:Milford Place\, 500 S. Dupont Blvd\, Milford\, DE\, 19963\, United States
ATTACH;FMTTYPE=image/jpeg:https://pdde.org/wp-content/uploads/2024/05/Support-Group.jpg
ORGANIZER;CN="Giovanna Cannizzaro":MAILTO:gcannizzaro@pamhealth.com
END:VEVENT
BEGIN:VEVENT
DTSTART;TZID=UTC:20260519T150000
DTEND;TZID=UTC:20260519T160000
DTSTAMP:20260417T142144
CREATED:20240919T185306Z
LAST-MODIFIED:20240919T185306Z
UID:10001533-1779202800-1779206400@pdde.org
SUMMARY:Milford Small PD Support Meeting
DESCRIPTION:Anyone with PD\, family or caregivers welcome to attend.
URL:https://pdde.org/event/milford-small-pd-support-meeting/2026-05-19/
LOCATION:Milford Place\, 500 S. Dupont Blvd\, Milford\, DE\, 19963\, United States
ATTACH;FMTTYPE=image/jpeg:https://pdde.org/wp-content/uploads/2024/05/Support-Group.jpg
ORGANIZER;CN="Giovanna Cannizzaro":MAILTO:gcannizzaro@pamhealth.com
END:VEVENT
BEGIN:VEVENT
DTSTART;TZID=UTC:20260616T150000
DTEND;TZID=UTC:20260616T160000
DTSTAMP:20260417T142144
CREATED:20240919T185306Z
LAST-MODIFIED:20240919T185306Z
UID:10001534-1781622000-1781625600@pdde.org
SUMMARY:Milford Small PD Support Meeting
DESCRIPTION:Anyone with PD\, family or caregivers welcome to attend.
URL:https://pdde.org/event/milford-small-pd-support-meeting/2026-06-16/
LOCATION:Milford Place\, 500 S. Dupont Blvd\, Milford\, DE\, 19963\, United States
ATTACH;FMTTYPE=image/jpeg:https://pdde.org/wp-content/uploads/2024/05/Support-Group.jpg
ORGANIZER;CN="Giovanna Cannizzaro":MAILTO:gcannizzaro@pamhealth.com
END:VEVENT
BEGIN:VEVENT
DTSTART;TZID=UTC:20260721T150000
DTEND;TZID=UTC:20260721T160000
DTSTAMP:20260417T142144
CREATED:20240919T185306Z
LAST-MODIFIED:20240919T185306Z
UID:10001535-1784646000-1784649600@pdde.org
SUMMARY:Milford Small PD Support Meeting
DESCRIPTION:Anyone with PD\, family or caregivers welcome to attend.
URL:https://pdde.org/event/milford-small-pd-support-meeting/2026-07-21/
LOCATION:Milford Place\, 500 S. Dupont Blvd\, Milford\, DE\, 19963\, United States
ATTACH;FMTTYPE=image/jpeg:https://pdde.org/wp-content/uploads/2024/05/Support-Group.jpg
ORGANIZER;CN="Giovanna Cannizzaro":MAILTO:gcannizzaro@pamhealth.com
END:VEVENT
BEGIN:VEVENT
DTSTART;TZID=UTC:20260818T150000
DTEND;TZID=UTC:20260818T160000
DTSTAMP:20260417T142144
CREATED:20240919T185306Z
LAST-MODIFIED:20240919T185306Z
UID:10001536-1787065200-1787068800@pdde.org
SUMMARY:Milford Small PD Support Meeting
DESCRIPTION:Anyone with PD\, family or caregivers welcome to attend.
URL:https://pdde.org/event/milford-small-pd-support-meeting/2026-08-18/
LOCATION:Milford Place\, 500 S. Dupont Blvd\, Milford\, DE\, 19963\, United States
ATTACH;FMTTYPE=image/jpeg:https://pdde.org/wp-content/uploads/2024/05/Support-Group.jpg
ORGANIZER;CN="Giovanna Cannizzaro":MAILTO:gcannizzaro@pamhealth.com
END:VEVENT
BEGIN:VEVENT
DTSTART;TZID=UTC:20260915T150000
DTEND;TZID=UTC:20260915T160000
DTSTAMP:20260417T142144
CREATED:20240919T185306Z
LAST-MODIFIED:20240919T185306Z
UID:10001537-1789484400-1789488000@pdde.org
SUMMARY:Milford Small PD Support Meeting
DESCRIPTION:Anyone with PD\, family or caregivers welcome to attend.
URL:https://pdde.org/event/milford-small-pd-support-meeting/2026-09-15/
LOCATION:Milford Place\, 500 S. Dupont Blvd\, Milford\, DE\, 19963\, United States
ATTACH;FMTTYPE=image/jpeg:https://pdde.org/wp-content/uploads/2024/05/Support-Group.jpg
ORGANIZER;CN="Giovanna Cannizzaro":MAILTO:gcannizzaro@pamhealth.com
END:VEVENT
BEGIN:VEVENT
DTSTART;TZID=UTC:20261020T150000
DTEND;TZID=UTC:20261020T160000
DTSTAMP:20260417T142144
CREATED:20240919T185306Z
LAST-MODIFIED:20240919T185306Z
UID:10001538-1792508400-1792512000@pdde.org
SUMMARY:Milford Small PD Support Meeting
DESCRIPTION:Anyone with PD\, family or caregivers welcome to attend.
URL:https://pdde.org/event/milford-small-pd-support-meeting/2026-10-20/
LOCATION:Milford Place\, 500 S. Dupont Blvd\, Milford\, DE\, 19963\, United States
ATTACH;FMTTYPE=image/jpeg:https://pdde.org/wp-content/uploads/2024/05/Support-Group.jpg
ORGANIZER;CN="Giovanna Cannizzaro":MAILTO:gcannizzaro@pamhealth.com
END:VEVENT
BEGIN:VEVENT
DTSTART;TZID=UTC:20261117T150000
DTEND;TZID=UTC:20261117T160000
DTSTAMP:20260417T142144
CREATED:20240919T185306Z
LAST-MODIFIED:20240919T185306Z
UID:10001539-1794927600-1794931200@pdde.org
SUMMARY:Milford Small PD Support Meeting
DESCRIPTION:Anyone with PD\, family or caregivers welcome to attend.
URL:https://pdde.org/event/milford-small-pd-support-meeting/2026-11-17/
LOCATION:Milford Place\, 500 S. Dupont Blvd\, Milford\, DE\, 19963\, United States
ATTACH;FMTTYPE=image/jpeg:https://pdde.org/wp-content/uploads/2024/05/Support-Group.jpg
ORGANIZER;CN="Giovanna Cannizzaro":MAILTO:gcannizzaro@pamhealth.com
END:VEVENT
BEGIN:VEVENT
DTSTART;TZID=UTC:20261215T150000
DTEND;TZID=UTC:20261215T160000
DTSTAMP:20260417T142144
CREATED:20240919T185306Z
LAST-MODIFIED:20240919T185306Z
UID:10001540-1797346800-1797350400@pdde.org
SUMMARY:Milford Small PD Support Meeting
DESCRIPTION:Anyone with PD\, family or caregivers welcome to attend.
URL:https://pdde.org/event/milford-small-pd-support-meeting/2026-12-15/
LOCATION:Milford Place\, 500 S. Dupont Blvd\, Milford\, DE\, 19963\, United States
ATTACH;FMTTYPE=image/jpeg:https://pdde.org/wp-content/uploads/2024/05/Support-Group.jpg
ORGANIZER;CN="Giovanna Cannizzaro":MAILTO:gcannizzaro@pamhealth.com
END:VEVENT
BEGIN:VEVENT
DTSTART;TZID=UTC:20270119T150000
DTEND;TZID=UTC:20270119T160000
DTSTAMP:20260417T142144
CREATED:20240919T185306Z
LAST-MODIFIED:20240919T185306Z
UID:10001541-1800370800-1800374400@pdde.org
SUMMARY:Milford Small PD Support Meeting
DESCRIPTION:Anyone with PD\, family or caregivers welcome to attend.
URL:https://pdde.org/event/milford-small-pd-support-meeting/2027-01-19/
LOCATION:Milford Place\, 500 S. Dupont Blvd\, Milford\, DE\, 19963\, United States
ATTACH;FMTTYPE=image/jpeg:https://pdde.org/wp-content/uploads/2024/05/Support-Group.jpg
ORGANIZER;CN="Giovanna Cannizzaro":MAILTO:gcannizzaro@pamhealth.com
END:VEVENT
BEGIN:VEVENT
DTSTART;TZID=UTC:20270216T150000
DTEND;TZID=UTC:20270216T160000
DTSTAMP:20260417T142144
CREATED:20240919T185306Z
LAST-MODIFIED:20240919T185306Z
UID:10001542-1802790000-1802793600@pdde.org
SUMMARY:Milford Small PD Support Meeting
DESCRIPTION:Anyone with PD\, family or caregivers welcome to attend.
URL:https://pdde.org/event/milford-small-pd-support-meeting/2027-02-16/
LOCATION:Milford Place\, 500 S. Dupont Blvd\, Milford\, DE\, 19963\, United States
ATTACH;FMTTYPE=image/jpeg:https://pdde.org/wp-content/uploads/2024/05/Support-Group.jpg
ORGANIZER;CN="Giovanna Cannizzaro":MAILTO:gcannizzaro@pamhealth.com
END:VEVENT
BEGIN:VEVENT
DTSTART;TZID=UTC:20270316T150000
DTEND;TZID=UTC:20270316T160000
DTSTAMP:20260417T142144
CREATED:20240919T185306Z
LAST-MODIFIED:20240919T185306Z
UID:10001543-1805209200-1805212800@pdde.org
SUMMARY:Milford Small PD Support Meeting
DESCRIPTION:Anyone with PD\, family or caregivers welcome to attend.
URL:https://pdde.org/event/milford-small-pd-support-meeting/2027-03-16/
LOCATION:Milford Place\, 500 S. Dupont Blvd\, Milford\, DE\, 19963\, United States
ATTACH;FMTTYPE=image/jpeg:https://pdde.org/wp-content/uploads/2024/05/Support-Group.jpg
ORGANIZER;CN="Giovanna Cannizzaro":MAILTO:gcannizzaro@pamhealth.com
END:VEVENT
BEGIN:VEVENT
DTSTART;TZID=UTC:20270420T150000
DTEND;TZID=UTC:20270420T160000
DTSTAMP:20260417T142144
CREATED:20240919T185306Z
LAST-MODIFIED:20240919T185306Z
UID:10001544-1808233200-1808236800@pdde.org
SUMMARY:Milford Small PD Support Meeting
DESCRIPTION:Anyone with PD\, family or caregivers welcome to attend.
URL:https://pdde.org/event/milford-small-pd-support-meeting/2027-04-20/
LOCATION:Milford Place\, 500 S. Dupont Blvd\, Milford\, DE\, 19963\, United States
ATTACH;FMTTYPE=image/jpeg:https://pdde.org/wp-content/uploads/2024/05/Support-Group.jpg
ORGANIZER;CN="Giovanna Cannizzaro":MAILTO:gcannizzaro@pamhealth.com
END:VEVENT
BEGIN:VEVENT
DTSTART;TZID=UTC:20270518T150000
DTEND;TZID=UTC:20270518T160000
DTSTAMP:20260417T142144
CREATED:20240919T185306Z
LAST-MODIFIED:20240919T185306Z
UID:10001545-1810652400-1810656000@pdde.org
SUMMARY:Milford Small PD Support Meeting
DESCRIPTION:Anyone with PD\, family or caregivers welcome to attend.
URL:https://pdde.org/event/milford-small-pd-support-meeting/2027-05-18/
LOCATION:Milford Place\, 500 S. Dupont Blvd\, Milford\, DE\, 19963\, United States
ATTACH;FMTTYPE=image/jpeg:https://pdde.org/wp-content/uploads/2024/05/Support-Group.jpg
ORGANIZER;CN="Giovanna Cannizzaro":MAILTO:gcannizzaro@pamhealth.com
END:VEVENT
BEGIN:VEVENT
DTSTART;TZID=UTC:20270615T150000
DTEND;TZID=UTC:20270615T160000
DTSTAMP:20260417T142144
CREATED:20240919T185306Z
LAST-MODIFIED:20240919T185306Z
UID:10001546-1813071600-1813075200@pdde.org
SUMMARY:Milford Small PD Support Meeting
DESCRIPTION:Anyone with PD\, family or caregivers welcome to attend.
URL:https://pdde.org/event/milford-small-pd-support-meeting/2027-06-15/
LOCATION:Milford Place\, 500 S. Dupont Blvd\, Milford\, DE\, 19963\, United States
ATTACH;FMTTYPE=image/jpeg:https://pdde.org/wp-content/uploads/2024/05/Support-Group.jpg
ORGANIZER;CN="Giovanna Cannizzaro":MAILTO:gcannizzaro@pamhealth.com
END:VEVENT
BEGIN:VEVENT
DTSTART;TZID=UTC:20270720T150000
DTEND;TZID=UTC:20270720T160000
DTSTAMP:20260417T142144
CREATED:20240919T185306Z
LAST-MODIFIED:20240919T185306Z
UID:10001547-1816095600-1816099200@pdde.org
SUMMARY:Milford Small PD Support Meeting
DESCRIPTION:Anyone with PD\, family or caregivers welcome to attend.
URL:https://pdde.org/event/milford-small-pd-support-meeting/2027-07-20/
LOCATION:Milford Place\, 500 S. Dupont Blvd\, Milford\, DE\, 19963\, United States
ATTACH;FMTTYPE=image/jpeg:https://pdde.org/wp-content/uploads/2024/05/Support-Group.jpg
ORGANIZER;CN="Giovanna Cannizzaro":MAILTO:gcannizzaro@pamhealth.com
END:VEVENT
BEGIN:VEVENT
DTSTART;TZID=UTC:20270817T150000
DTEND;TZID=UTC:20270817T160000
DTSTAMP:20260417T142144
CREATED:20240919T185306Z
LAST-MODIFIED:20240919T185306Z
UID:10001548-1818514800-1818518400@pdde.org
SUMMARY:Milford Small PD Support Meeting
DESCRIPTION:Anyone with PD\, family or caregivers welcome to attend.
URL:https://pdde.org/event/milford-small-pd-support-meeting/2027-08-17/
LOCATION:Milford Place\, 500 S. Dupont Blvd\, Milford\, DE\, 19963\, United States
ATTACH;FMTTYPE=image/jpeg:https://pdde.org/wp-content/uploads/2024/05/Support-Group.jpg
ORGANIZER;CN="Giovanna Cannizzaro":MAILTO:gcannizzaro@pamhealth.com
END:VEVENT
BEGIN:VEVENT
DTSTART;TZID=UTC:20270921T150000
DTEND;TZID=UTC:20270921T160000
DTSTAMP:20260417T142144
CREATED:20240919T185306Z
LAST-MODIFIED:20240919T185306Z
UID:10001549-1821538800-1821542400@pdde.org
SUMMARY:Milford Small PD Support Meeting
DESCRIPTION:Anyone with PD\, family or caregivers welcome to attend.
URL:https://pdde.org/event/milford-small-pd-support-meeting/2027-09-21/
LOCATION:Milford Place\, 500 S. Dupont Blvd\, Milford\, DE\, 19963\, United States
ATTACH;FMTTYPE=image/jpeg:https://pdde.org/wp-content/uploads/2024/05/Support-Group.jpg
ORGANIZER;CN="Giovanna Cannizzaro":MAILTO:gcannizzaro@pamhealth.com
END:VEVENT
BEGIN:VEVENT
DTSTART;TZID=UTC:20271019T150000
DTEND;TZID=UTC:20271019T160000
DTSTAMP:20260417T142144
CREATED:20240919T185306Z
LAST-MODIFIED:20240919T185306Z
UID:10001550-1823958000-1823961600@pdde.org
SUMMARY:Milford Small PD Support Meeting
DESCRIPTION:Anyone with PD\, family or caregivers welcome to attend.
URL:https://pdde.org/event/milford-small-pd-support-meeting/2027-10-19/
LOCATION:Milford Place\, 500 S. Dupont Blvd\, Milford\, DE\, 19963\, United States
ATTACH;FMTTYPE=image/jpeg:https://pdde.org/wp-content/uploads/2024/05/Support-Group.jpg
ORGANIZER;CN="Giovanna Cannizzaro":MAILTO:gcannizzaro@pamhealth.com
END:VEVENT
BEGIN:VEVENT
DTSTART;TZID=UTC:20271116T150000
DTEND;TZID=UTC:20271116T160000
DTSTAMP:20260417T142144
CREATED:20240919T185306Z
LAST-MODIFIED:20240919T185306Z
UID:10001551-1826377200-1826380800@pdde.org
SUMMARY:Milford Small PD Support Meeting
DESCRIPTION:Anyone with PD\, family or caregivers welcome to attend.
URL:https://pdde.org/event/milford-small-pd-support-meeting/2027-11-16/
LOCATION:Milford Place\, 500 S. Dupont Blvd\, Milford\, DE\, 19963\, United States
ATTACH;FMTTYPE=image/jpeg:https://pdde.org/wp-content/uploads/2024/05/Support-Group.jpg
ORGANIZER;CN="Giovanna Cannizzaro":MAILTO:gcannizzaro@pamhealth.com
END:VEVENT
BEGIN:VEVENT
DTSTART;TZID=UTC:20271221T150000
DTEND;TZID=UTC:20271221T160000
DTSTAMP:20260417T142144
CREATED:20240919T185306Z
LAST-MODIFIED:20240919T185306Z
UID:10001552-1829401200-1829404800@pdde.org
SUMMARY:Milford Small PD Support Meeting
DESCRIPTION:Anyone with PD\, family or caregivers welcome to attend.
URL:https://pdde.org/event/milford-small-pd-support-meeting/2027-12-21/
LOCATION:Milford Place\, 500 S. Dupont Blvd\, Milford\, DE\, 19963\, United States
ATTACH;FMTTYPE=image/jpeg:https://pdde.org/wp-content/uploads/2024/05/Support-Group.jpg
ORGANIZER;CN="Giovanna Cannizzaro":MAILTO:gcannizzaro@pamhealth.com
END:VEVENT
BEGIN:VEVENT
DTSTART;TZID=UTC:20280118T150000
DTEND;TZID=UTC:20280118T160000
DTSTAMP:20260417T142144
CREATED:20240919T185306Z
LAST-MODIFIED:20240919T185306Z
UID:10001553-1831820400-1831824000@pdde.org
SUMMARY:Milford Small PD Support Meeting
DESCRIPTION:Anyone with PD\, family or caregivers welcome to attend.
URL:https://pdde.org/event/milford-small-pd-support-meeting/2028-01-18/
LOCATION:Milford Place\, 500 S. Dupont Blvd\, Milford\, DE\, 19963\, United States
ATTACH;FMTTYPE=image/jpeg:https://pdde.org/wp-content/uploads/2024/05/Support-Group.jpg
ORGANIZER;CN="Giovanna Cannizzaro":MAILTO:gcannizzaro@pamhealth.com
END:VEVENT
BEGIN:VEVENT
DTSTART;TZID=UTC:20280215T150000
DTEND;TZID=UTC:20280215T160000
DTSTAMP:20260417T142144
CREATED:20240919T185306Z
LAST-MODIFIED:20240919T185306Z
UID:10001554-1834239600-1834243200@pdde.org
SUMMARY:Milford Small PD Support Meeting
DESCRIPTION:Anyone with PD\, family or caregivers welcome to attend.
URL:https://pdde.org/event/milford-small-pd-support-meeting/2028-02-15/
LOCATION:Milford Place\, 500 S. Dupont Blvd\, Milford\, DE\, 19963\, United States
ATTACH;FMTTYPE=image/jpeg:https://pdde.org/wp-content/uploads/2024/05/Support-Group.jpg
ORGANIZER;CN="Giovanna Cannizzaro":MAILTO:gcannizzaro@pamhealth.com
END:VEVENT
BEGIN:VEVENT
DTSTART;TZID=UTC:20280321T150000
DTEND;TZID=UTC:20280321T160000
DTSTAMP:20260417T142144
CREATED:20240919T185306Z
LAST-MODIFIED:20240919T185306Z
UID:10001555-1837263600-1837267200@pdde.org
SUMMARY:Milford Small PD Support Meeting
DESCRIPTION:Anyone with PD\, family or caregivers welcome to attend.
URL:https://pdde.org/event/milford-small-pd-support-meeting/2028-03-21/
LOCATION:Milford Place\, 500 S. Dupont Blvd\, Milford\, DE\, 19963\, United States
ATTACH;FMTTYPE=image/jpeg:https://pdde.org/wp-content/uploads/2024/05/Support-Group.jpg
ORGANIZER;CN="Giovanna Cannizzaro":MAILTO:gcannizzaro@pamhealth.com
END:VEVENT
BEGIN:VEVENT
DTSTART;TZID=UTC:20280418T150000
DTEND;TZID=UTC:20280418T160000
DTSTAMP:20260417T142144
CREATED:20240919T185306Z
LAST-MODIFIED:20240919T185306Z
UID:10001556-1839682800-1839686400@pdde.org
SUMMARY:Milford Small PD Support Meeting
DESCRIPTION:Anyone with PD\, family or caregivers welcome to attend.
URL:https://pdde.org/event/milford-small-pd-support-meeting/2028-04-18/
LOCATION:Milford Place\, 500 S. Dupont Blvd\, Milford\, DE\, 19963\, United States
ATTACH;FMTTYPE=image/jpeg:https://pdde.org/wp-content/uploads/2024/05/Support-Group.jpg
ORGANIZER;CN="Giovanna Cannizzaro":MAILTO:gcannizzaro@pamhealth.com
END:VEVENT
BEGIN:VEVENT
DTSTART;TZID=UTC:20280516T150000
DTEND;TZID=UTC:20280516T160000
DTSTAMP:20260417T142144
CREATED:20240919T185306Z
LAST-MODIFIED:20240919T185306Z
UID:10001557-1842102000-1842105600@pdde.org
SUMMARY:Milford Small PD Support Meeting
DESCRIPTION:Anyone with PD\, family or caregivers welcome to attend.
URL:https://pdde.org/event/milford-small-pd-support-meeting/2028-05-16/
LOCATION:Milford Place\, 500 S. Dupont Blvd\, Milford\, DE\, 19963\, United States
ATTACH;FMTTYPE=image/jpeg:https://pdde.org/wp-content/uploads/2024/05/Support-Group.jpg
ORGANIZER;CN="Giovanna Cannizzaro":MAILTO:gcannizzaro@pamhealth.com
END:VEVENT
BEGIN:VEVENT
DTSTART;TZID=UTC:20280620T150000
DTEND;TZID=UTC:20280620T160000
DTSTAMP:20260417T142144
CREATED:20240919T185306Z
LAST-MODIFIED:20240919T185306Z
UID:10001558-1845126000-1845129600@pdde.org
SUMMARY:Milford Small PD Support Meeting
DESCRIPTION:Anyone with PD\, family or caregivers welcome to attend.
URL:https://pdde.org/event/milford-small-pd-support-meeting/2028-06-20/
LOCATION:Milford Place\, 500 S. Dupont Blvd\, Milford\, DE\, 19963\, United States
ATTACH;FMTTYPE=image/jpeg:https://pdde.org/wp-content/uploads/2024/05/Support-Group.jpg
ORGANIZER;CN="Giovanna Cannizzaro":MAILTO:gcannizzaro@pamhealth.com
END:VEVENT
BEGIN:VEVENT
DTSTART;TZID=UTC:20280718T150000
DTEND;TZID=UTC:20280718T160000
DTSTAMP:20260417T142144
CREATED:20240919T185306Z
LAST-MODIFIED:20240919T185306Z
UID:10001559-1847545200-1847548800@pdde.org
SUMMARY:Milford Small PD Support Meeting
DESCRIPTION:Anyone with PD\, family or caregivers welcome to attend.
URL:https://pdde.org/event/milford-small-pd-support-meeting/2028-07-18/
LOCATION:Milford Place\, 500 S. Dupont Blvd\, Milford\, DE\, 19963\, United States
ATTACH;FMTTYPE=image/jpeg:https://pdde.org/wp-content/uploads/2024/05/Support-Group.jpg
ORGANIZER;CN="Giovanna Cannizzaro":MAILTO:gcannizzaro@pamhealth.com
END:VEVENT
BEGIN:VEVENT
DTSTART;TZID=UTC:20280815T150000
DTEND;TZID=UTC:20280815T160000
DTSTAMP:20260417T142144
CREATED:20240919T185306Z
LAST-MODIFIED:20240919T185306Z
UID:10001560-1849964400-1849968000@pdde.org
SUMMARY:Milford Small PD Support Meeting
DESCRIPTION:Anyone with PD\, family or caregivers welcome to attend.
URL:https://pdde.org/event/milford-small-pd-support-meeting/2028-08-15/
LOCATION:Milford Place\, 500 S. Dupont Blvd\, Milford\, DE\, 19963\, United States
ATTACH;FMTTYPE=image/jpeg:https://pdde.org/wp-content/uploads/2024/05/Support-Group.jpg
ORGANIZER;CN="Giovanna Cannizzaro":MAILTO:gcannizzaro@pamhealth.com
END:VEVENT
BEGIN:VEVENT
DTSTART;TZID=UTC:20280919T150000
DTEND;TZID=UTC:20280919T160000
DTSTAMP:20260417T142144
CREATED:20240919T185306Z
LAST-MODIFIED:20240919T185306Z
UID:10001561-1852988400-1852992000@pdde.org
SUMMARY:Milford Small PD Support Meeting
DESCRIPTION:Anyone with PD\, family or caregivers welcome to attend.
URL:https://pdde.org/event/milford-small-pd-support-meeting/2028-09-19/
LOCATION:Milford Place\, 500 S. Dupont Blvd\, Milford\, DE\, 19963\, United States
ATTACH;FMTTYPE=image/jpeg:https://pdde.org/wp-content/uploads/2024/05/Support-Group.jpg
ORGANIZER;CN="Giovanna Cannizzaro":MAILTO:gcannizzaro@pamhealth.com
END:VEVENT
END:VCALENDAR