BEGIN:VCALENDAR
VERSION:2.0
PRODID:-//PDDE - ECPv6.15.20//NONSGML v1.0//EN
CALSCALE:GREGORIAN
METHOD:PUBLISH
X-ORIGINAL-URL:https://pdde.org
X-WR-CALDESC:Events for PDDE
REFRESH-INTERVAL;VALUE=DURATION:PT1H
X-Robots-Tag:noindex
X-PUBLISHED-TTL:PT1H
BEGIN:VTIMEZONE
TZID:UTC
BEGIN:STANDARD
TZOFFSETFROM:+0000
TZOFFSETTO:+0000
TZNAME:UTC
DTSTART:20230101T000000
END:STANDARD
END:VTIMEZONE
BEGIN:VEVENT
DTSTART;TZID=UTC:20260317T150000
DTEND;TZID=UTC:20260317T160000
DTSTAMP:20260420T131125
CREATED:20240919T185306Z
LAST-MODIFIED:20240919T185306Z
UID:10001531-1773759600-1773763200@pdde.org
SUMMARY:Milford Small PD Support Meeting
DESCRIPTION:Anyone with PD\, family or caregivers welcome to attend.
URL:https://pdde.org/event/milford-small-pd-support-meeting/2026-03-17/
LOCATION:Milford Place\, 500 S. Dupont Blvd\, Milford\, DE\, 19963\, United States
ATTACH;FMTTYPE=image/jpeg:https://pdde.org/wp-content/uploads/2024/05/Support-Group.jpg
ORGANIZER;CN="Giovanna Cannizzaro":MAILTO:gcannizzaro@pamhealth.com
END:VEVENT
BEGIN:VEVENT
DTSTART;TZID=UTC:20260217T150000
DTEND;TZID=UTC:20260217T160000
DTSTAMP:20260420T131125
CREATED:20240919T185306Z
LAST-MODIFIED:20240919T185306Z
UID:10001530-1771340400-1771344000@pdde.org
SUMMARY:Milford Small PD Support Meeting
DESCRIPTION:Anyone with PD\, family or caregivers welcome to attend.
URL:https://pdde.org/event/milford-small-pd-support-meeting/2026-02-17/
LOCATION:Milford Place\, 500 S. Dupont Blvd\, Milford\, DE\, 19963\, United States
ATTACH;FMTTYPE=image/jpeg:https://pdde.org/wp-content/uploads/2024/05/Support-Group.jpg
ORGANIZER;CN="Giovanna Cannizzaro":MAILTO:gcannizzaro@pamhealth.com
END:VEVENT
BEGIN:VEVENT
DTSTART;TZID=UTC:20260120T150000
DTEND;TZID=UTC:20260120T160000
DTSTAMP:20260420T131125
CREATED:20240919T185306Z
LAST-MODIFIED:20240919T185306Z
UID:10001529-1768921200-1768924800@pdde.org
SUMMARY:Milford Small PD Support Meeting
DESCRIPTION:Anyone with PD\, family or caregivers welcome to attend.
URL:https://pdde.org/event/milford-small-pd-support-meeting/2026-01-20/
LOCATION:Milford Place\, 500 S. Dupont Blvd\, Milford\, DE\, 19963\, United States
ATTACH;FMTTYPE=image/jpeg:https://pdde.org/wp-content/uploads/2024/05/Support-Group.jpg
ORGANIZER;CN="Giovanna Cannizzaro":MAILTO:gcannizzaro@pamhealth.com
END:VEVENT
BEGIN:VEVENT
DTSTART;TZID=UTC:20251216T150000
DTEND;TZID=UTC:20251216T160000
DTSTAMP:20260420T131125
CREATED:20240919T185306Z
LAST-MODIFIED:20240919T185306Z
UID:10001528-1765897200-1765900800@pdde.org
SUMMARY:Milford Small PD Support Meeting
DESCRIPTION:Anyone with PD\, family or caregivers welcome to attend.
URL:https://pdde.org/event/milford-small-pd-support-meeting/2025-12-16/
LOCATION:Milford Place\, 500 S. Dupont Blvd\, Milford\, DE\, 19963\, United States
ATTACH;FMTTYPE=image/jpeg:https://pdde.org/wp-content/uploads/2024/05/Support-Group.jpg
ORGANIZER;CN="Giovanna Cannizzaro":MAILTO:gcannizzaro@pamhealth.com
END:VEVENT
BEGIN:VEVENT
DTSTART;TZID=UTC:20251118T150000
DTEND;TZID=UTC:20251118T160000
DTSTAMP:20260420T131125
CREATED:20240919T185306Z
LAST-MODIFIED:20240919T185306Z
UID:10001527-1763478000-1763481600@pdde.org
SUMMARY:Milford Small PD Support Meeting
DESCRIPTION:Anyone with PD\, family or caregivers welcome to attend.
URL:https://pdde.org/event/milford-small-pd-support-meeting/2025-11-18/
LOCATION:Milford Place\, 500 S. Dupont Blvd\, Milford\, DE\, 19963\, United States
ATTACH;FMTTYPE=image/jpeg:https://pdde.org/wp-content/uploads/2024/05/Support-Group.jpg
ORGANIZER;CN="Giovanna Cannizzaro":MAILTO:gcannizzaro@pamhealth.com
END:VEVENT
BEGIN:VEVENT
DTSTART;TZID=UTC:20251021T150000
DTEND;TZID=UTC:20251021T160000
DTSTAMP:20260420T131125
CREATED:20240919T185306Z
LAST-MODIFIED:20240919T185306Z
UID:10001526-1761058800-1761062400@pdde.org
SUMMARY:Milford Small PD Support Meeting
DESCRIPTION:Anyone with PD\, family or caregivers welcome to attend.
URL:https://pdde.org/event/milford-small-pd-support-meeting/2025-10-21/
LOCATION:Milford Place\, 500 S. Dupont Blvd\, Milford\, DE\, 19963\, United States
ATTACH;FMTTYPE=image/jpeg:https://pdde.org/wp-content/uploads/2024/05/Support-Group.jpg
ORGANIZER;CN="Giovanna Cannizzaro":MAILTO:gcannizzaro@pamhealth.com
END:VEVENT
BEGIN:VEVENT
DTSTART;TZID=UTC:20250916T150000
DTEND;TZID=UTC:20250916T160000
DTSTAMP:20260420T131125
CREATED:20240919T185306Z
LAST-MODIFIED:20240919T185306Z
UID:10001525-1758034800-1758038400@pdde.org
SUMMARY:Milford Small PD Support Meeting
DESCRIPTION:Anyone with PD\, family or caregivers welcome to attend.
URL:https://pdde.org/event/milford-small-pd-support-meeting/2025-09-16/
LOCATION:Milford Place\, 500 S. Dupont Blvd\, Milford\, DE\, 19963\, United States
ATTACH;FMTTYPE=image/jpeg:https://pdde.org/wp-content/uploads/2024/05/Support-Group.jpg
ORGANIZER;CN="Giovanna Cannizzaro":MAILTO:gcannizzaro@pamhealth.com
END:VEVENT
BEGIN:VEVENT
DTSTART;TZID=UTC:20250819T150000
DTEND;TZID=UTC:20250819T160000
DTSTAMP:20260420T131125
CREATED:20240919T185306Z
LAST-MODIFIED:20240919T185306Z
UID:10001524-1755615600-1755619200@pdde.org
SUMMARY:Milford Small PD Support Meeting
DESCRIPTION:Anyone with PD\, family or caregivers welcome to attend.
URL:https://pdde.org/event/milford-small-pd-support-meeting/2025-08-19/
LOCATION:Milford Place\, 500 S. Dupont Blvd\, Milford\, DE\, 19963\, United States
ATTACH;FMTTYPE=image/jpeg:https://pdde.org/wp-content/uploads/2024/05/Support-Group.jpg
ORGANIZER;CN="Giovanna Cannizzaro":MAILTO:gcannizzaro@pamhealth.com
END:VEVENT
BEGIN:VEVENT
DTSTART;TZID=UTC:20250715T150000
DTEND;TZID=UTC:20250715T160000
DTSTAMP:20260420T131125
CREATED:20240919T185306Z
LAST-MODIFIED:20240919T185306Z
UID:10001523-1752591600-1752595200@pdde.org
SUMMARY:Milford Small PD Support Meeting
DESCRIPTION:Anyone with PD\, family or caregivers welcome to attend.
URL:https://pdde.org/event/milford-small-pd-support-meeting/2025-07-15/
LOCATION:Milford Place\, 500 S. Dupont Blvd\, Milford\, DE\, 19963\, United States
ATTACH;FMTTYPE=image/jpeg:https://pdde.org/wp-content/uploads/2024/05/Support-Group.jpg
ORGANIZER;CN="Giovanna Cannizzaro":MAILTO:gcannizzaro@pamhealth.com
END:VEVENT
BEGIN:VEVENT
DTSTART;TZID=UTC:20250617T150000
DTEND;TZID=UTC:20250617T160000
DTSTAMP:20260420T131125
CREATED:20240919T185306Z
LAST-MODIFIED:20240919T185306Z
UID:10001522-1750172400-1750176000@pdde.org
SUMMARY:Milford Small PD Support Meeting
DESCRIPTION:Anyone with PD\, family or caregivers welcome to attend.
URL:https://pdde.org/event/milford-small-pd-support-meeting/2025-06-17/
LOCATION:Milford Place\, 500 S. Dupont Blvd\, Milford\, DE\, 19963\, United States
ATTACH;FMTTYPE=image/jpeg:https://pdde.org/wp-content/uploads/2024/05/Support-Group.jpg
ORGANIZER;CN="Giovanna Cannizzaro":MAILTO:gcannizzaro@pamhealth.com
END:VEVENT
BEGIN:VEVENT
DTSTART;TZID=UTC:20250520T150000
DTEND;TZID=UTC:20250520T160000
DTSTAMP:20260420T131125
CREATED:20240919T185306Z
LAST-MODIFIED:20240919T185306Z
UID:10001521-1747753200-1747756800@pdde.org
SUMMARY:Milford Small PD Support Meeting
DESCRIPTION:Anyone with PD\, family or caregivers welcome to attend.
URL:https://pdde.org/event/milford-small-pd-support-meeting/2025-05-20/
LOCATION:Milford Place\, 500 S. Dupont Blvd\, Milford\, DE\, 19963\, United States
ATTACH;FMTTYPE=image/jpeg:https://pdde.org/wp-content/uploads/2024/05/Support-Group.jpg
ORGANIZER;CN="Giovanna Cannizzaro":MAILTO:gcannizzaro@pamhealth.com
END:VEVENT
BEGIN:VEVENT
DTSTART;TZID=UTC:20250415T150000
DTEND;TZID=UTC:20250415T160000
DTSTAMP:20260420T131125
CREATED:20240919T185306Z
LAST-MODIFIED:20240919T185306Z
UID:10001520-1744729200-1744732800@pdde.org
SUMMARY:Milford Small PD Support Meeting
DESCRIPTION:Anyone with PD\, family or caregivers welcome to attend.
URL:https://pdde.org/event/milford-small-pd-support-meeting/2025-04-15/
LOCATION:Milford Place\, 500 S. Dupont Blvd\, Milford\, DE\, 19963\, United States
ATTACH;FMTTYPE=image/jpeg:https://pdde.org/wp-content/uploads/2024/05/Support-Group.jpg
ORGANIZER;CN="Giovanna Cannizzaro":MAILTO:gcannizzaro@pamhealth.com
END:VEVENT
BEGIN:VEVENT
DTSTART;TZID=UTC:20250318T150000
DTEND;TZID=UTC:20250318T160000
DTSTAMP:20260420T131125
CREATED:20240919T185306Z
LAST-MODIFIED:20240919T185306Z
UID:10001519-1742310000-1742313600@pdde.org
SUMMARY:Milford Small PD Support Meeting
DESCRIPTION:Anyone with PD\, family or caregivers welcome to attend.
URL:https://pdde.org/event/milford-small-pd-support-meeting/2025-03-18/
LOCATION:Milford Place\, 500 S. Dupont Blvd\, Milford\, DE\, 19963\, United States
ATTACH;FMTTYPE=image/jpeg:https://pdde.org/wp-content/uploads/2024/05/Support-Group.jpg
ORGANIZER;CN="Giovanna Cannizzaro":MAILTO:gcannizzaro@pamhealth.com
END:VEVENT
BEGIN:VEVENT
DTSTART;TZID=UTC:20250218T150000
DTEND;TZID=UTC:20250218T160000
DTSTAMP:20260420T131125
CREATED:20240919T185306Z
LAST-MODIFIED:20240919T185306Z
UID:10001518-1739890800-1739894400@pdde.org
SUMMARY:Milford Small PD Support Meeting
DESCRIPTION:Anyone with PD\, family or caregivers welcome to attend.
URL:https://pdde.org/event/milford-small-pd-support-meeting/2025-02-18/
LOCATION:Milford Place\, 500 S. Dupont Blvd\, Milford\, DE\, 19963\, United States
ATTACH;FMTTYPE=image/jpeg:https://pdde.org/wp-content/uploads/2024/05/Support-Group.jpg
ORGANIZER;CN="Giovanna Cannizzaro":MAILTO:gcannizzaro@pamhealth.com
END:VEVENT
BEGIN:VEVENT
DTSTART;TZID=UTC:20250121T150000
DTEND;TZID=UTC:20250121T160000
DTSTAMP:20260420T131125
CREATED:20240919T185306Z
LAST-MODIFIED:20240919T185306Z
UID:10001517-1737471600-1737475200@pdde.org
SUMMARY:Milford Small PD Support Meeting
DESCRIPTION:Anyone with PD\, family or caregivers welcome to attend.
URL:https://pdde.org/event/milford-small-pd-support-meeting/2025-01-21/
LOCATION:Milford Place\, 500 S. Dupont Blvd\, Milford\, DE\, 19963\, United States
ATTACH;FMTTYPE=image/jpeg:https://pdde.org/wp-content/uploads/2024/05/Support-Group.jpg
ORGANIZER;CN="Giovanna Cannizzaro":MAILTO:gcannizzaro@pamhealth.com
END:VEVENT
BEGIN:VEVENT
DTSTART;TZID=UTC:20241217T150000
DTEND;TZID=UTC:20241217T160000
DTSTAMP:20260420T131125
CREATED:20240919T185306Z
LAST-MODIFIED:20240919T185306Z
UID:10001516-1734447600-1734451200@pdde.org
SUMMARY:Milford Small PD Support Meeting
DESCRIPTION:Anyone with PD\, family or caregivers welcome to attend.
URL:https://pdde.org/event/milford-small-pd-support-meeting/2024-12-17/
LOCATION:Milford Place\, 500 S. Dupont Blvd\, Milford\, DE\, 19963\, United States
ATTACH;FMTTYPE=image/jpeg:https://pdde.org/wp-content/uploads/2024/05/Support-Group.jpg
ORGANIZER;CN="Giovanna Cannizzaro":MAILTO:gcannizzaro@pamhealth.com
END:VEVENT
BEGIN:VEVENT
DTSTART;TZID=UTC:20241119T150000
DTEND;TZID=UTC:20241119T160000
DTSTAMP:20260420T131125
CREATED:20240919T185306Z
LAST-MODIFIED:20240919T185306Z
UID:10001515-1732028400-1732032000@pdde.org
SUMMARY:Milford Small PD Support Meeting
DESCRIPTION:Anyone with PD\, family or caregivers welcome to attend.
URL:https://pdde.org/event/milford-small-pd-support-meeting/2024-11-19/
LOCATION:Milford Place\, 500 S. Dupont Blvd\, Milford\, DE\, 19963\, United States
ATTACH;FMTTYPE=image/jpeg:https://pdde.org/wp-content/uploads/2024/05/Support-Group.jpg
ORGANIZER;CN="Giovanna Cannizzaro":MAILTO:gcannizzaro@pamhealth.com
END:VEVENT
BEGIN:VEVENT
DTSTART;TZID=UTC:20241015T150000
DTEND;TZID=UTC:20241015T160000
DTSTAMP:20260420T131125
CREATED:20240919T185306Z
LAST-MODIFIED:20240919T185306Z
UID:10001514-1729004400-1729008000@pdde.org
SUMMARY:Milford Small PD Support Meeting
DESCRIPTION:Anyone with PD\, family or caregivers welcome to attend.
URL:https://pdde.org/event/milford-small-pd-support-meeting/2024-10-15/
LOCATION:Milford Place\, 500 S. Dupont Blvd\, Milford\, DE\, 19963\, United States
ATTACH;FMTTYPE=image/jpeg:https://pdde.org/wp-content/uploads/2024/05/Support-Group.jpg
ORGANIZER;CN="Giovanna Cannizzaro":MAILTO:gcannizzaro@pamhealth.com
END:VEVENT
BEGIN:VEVENT
DTSTART;TZID=UTC:20240917T150000
DTEND;TZID=UTC:20240917T160000
DTSTAMP:20260420T131125
CREATED:20240919T185306Z
LAST-MODIFIED:20240919T185306Z
UID:10001513-1726585200-1726588800@pdde.org
SUMMARY:Milford Small PD Support Meeting
DESCRIPTION:Anyone with PD\, family or caregivers welcome to attend.
URL:https://pdde.org/event/milford-small-pd-support-meeting/2024-09-17/
LOCATION:Milford Place\, 500 S. Dupont Blvd\, Milford\, DE\, 19963\, United States
ATTACH;FMTTYPE=image/jpeg:https://pdde.org/wp-content/uploads/2024/05/Support-Group.jpg
ORGANIZER;CN="Giovanna Cannizzaro":MAILTO:gcannizzaro@pamhealth.com
END:VEVENT
END:VCALENDAR