BEGIN:VCALENDAR
VERSION:2.0
PRODID:-//PDDE - ECPv6.15.20//NONSGML v1.0//EN
CALSCALE:GREGORIAN
METHOD:PUBLISH
X-WR-CALNAME:PDDE
X-ORIGINAL-URL:https://pdde.org
X-WR-CALDESC:Events for PDDE
REFRESH-INTERVAL;VALUE=DURATION:PT1H
X-Robots-Tag:noindex
X-PUBLISHED-TTL:PT1H
BEGIN:VTIMEZONE
TZID:UTC
BEGIN:STANDARD
TZOFFSETFROM:+0000
TZOFFSETTO:+0000
TZNAME:UTC
DTSTART:20250101T000000
END:STANDARD
END:VTIMEZONE
BEGIN:VEVENT
DTSTART;TZID=UTC:20260403T110000
DTEND;TZID=UTC:20260403T120000
DTSTAMP:20260422T191148
CREATED:20240919T185452Z
LAST-MODIFIED:20240919T185452Z
UID:10001877-1775214000-1775217600@pdde.org
SUMMARY:Middletown YMCA - Pedaling for Parkinson's Powered by the Davis Phinney Foundation
DESCRIPTION:Learn how you can feel better and build community by joining a Pedaling for Parkinson’s class in your community! Learn more about the class here.
URL:https://pdde.org/event/middletown-ymca-pedaling-for-parkinsons-powered-by-the-davis-phinney-foundation/2026-04-03/
LOCATION:Middletown YMCA\, 202 E Cochbran St\, Middletown\, DE\, 19709\, United States
ATTACH;FMTTYPE=image/png:https://pdde.org/wp-content/uploads/2024/09/Pedaling-for-Parkinsons-logo-transp-300x300-1.png
ORGANIZER;CN="Davis Phinney Foundation":MAILTO:healthyliving@ymcade.org
END:VEVENT
BEGIN:VEVENT
DTSTART;TZID=UTC:20260402T191500
DTEND;TZID=UTC:20260402T201500
DTSTAMP:20260422T191148
CREATED:20240919T185547Z
LAST-MODIFIED:20240919T185547Z
UID:10003443-1775157300-1775160900@pdde.org
SUMMARY:Brandywine YMCA - Pedaling for Parkinson's Powered by the Davis Phinney Foundation
DESCRIPTION:Learn how you can feel better and build community by joining a Pedaling for Parkinson’s class in your community! Learn more about the class here.
URL:https://pdde.org/event/brandywine-ymca-pedaling-for-parkinsons-powered-by-the-davis-phinney-foundation/2026-04-02/
LOCATION:Brandywine YMCA\, 3 Mt Lebanon Rd\, Wilmington\, DE\, 19803\, United States
ATTACH;FMTTYPE=image/png:https://pdde.org/wp-content/uploads/2024/09/Pedaling-for-Parkinsons-logo-transp-300x300-1.png
ORGANIZER;CN="Davis Phinney Foundation":MAILTO:healthyliving@ymcade.org
END:VEVENT
BEGIN:VEVENT
DTSTART;TZID=UTC:20260401T191500
DTEND;TZID=UTC:20260401T201500
DTSTAMP:20260422T191148
CREATED:20240919T185547Z
LAST-MODIFIED:20240919T185547Z
UID:10003442-1775070900-1775074500@pdde.org
SUMMARY:Brandywine YMCA - Pedaling for Parkinson's Powered by the Davis Phinney Foundation
DESCRIPTION:Learn how you can feel better and build community by joining a Pedaling for Parkinson’s class in your community! Learn more about the class here.
URL:https://pdde.org/event/brandywine-ymca-pedaling-for-parkinsons-powered-by-the-davis-phinney-foundation/2026-04-01/
LOCATION:Brandywine YMCA\, 3 Mt Lebanon Rd\, Wilmington\, DE\, 19803\, United States
ATTACH;FMTTYPE=image/png:https://pdde.org/wp-content/uploads/2024/09/Pedaling-for-Parkinsons-logo-transp-300x300-1.png
ORGANIZER;CN="Davis Phinney Foundation":MAILTO:healthyliving@ymcade.org
END:VEVENT
BEGIN:VEVENT
DTSTART;TZID=UTC:20260401T123000
DTEND;TZID=UTC:20260401T133000
DTSTAMP:20260422T191148
CREATED:20240919T185517Z
LAST-MODIFIED:20240919T185517Z
UID:10002659-1775046600-1775050200@pdde.org
SUMMARY:Dover YMCA - Pedaling for Parkinson's Powered by the Davis Phinney Foundation
DESCRIPTION:Learn how you can feel better and build community by joining a Pedaling for Parkinson’s class in your community! Learn more about the class here.
URL:https://pdde.org/event/dover-ymca-pedaling-for-parkinsons-powered-by-the-davis-phinney-foundation/2026-04-01/
LOCATION:Dover YMCA\, 1137 S. State St\, Dover\, DE\, 19901\, United States
ATTACH;FMTTYPE=image/png:https://pdde.org/wp-content/uploads/2024/09/Pedaling-for-Parkinsons-logo-transp-300x300-1.png
ORGANIZER;CN="Davis Phinney Foundation":MAILTO:healthyliving@ymcade.org
END:VEVENT
BEGIN:VEVENT
DTSTART;TZID=UTC:20260401T110000
DTEND;TZID=UTC:20260401T120000
DTSTAMP:20260422T191148
CREATED:20240919T185452Z
LAST-MODIFIED:20240919T185452Z
UID:10001876-1775041200-1775044800@pdde.org
SUMMARY:Middletown YMCA - Pedaling for Parkinson's Powered by the Davis Phinney Foundation
DESCRIPTION:Learn how you can feel better and build community by joining a Pedaling for Parkinson’s class in your community! Learn more about the class here.
URL:https://pdde.org/event/middletown-ymca-pedaling-for-parkinsons-powered-by-the-davis-phinney-foundation/2026-04-01/
LOCATION:Middletown YMCA\, 202 E Cochbran St\, Middletown\, DE\, 19709\, United States
ATTACH;FMTTYPE=image/png:https://pdde.org/wp-content/uploads/2024/09/Pedaling-for-Parkinsons-logo-transp-300x300-1.png
ORGANIZER;CN="Davis Phinney Foundation":MAILTO:healthyliving@ymcade.org
END:VEVENT
BEGIN:VEVENT
DTSTART;TZID=UTC:20260330T191500
DTEND;TZID=UTC:20260330T201500
DTSTAMP:20260422T191148
CREATED:20240919T185547Z
LAST-MODIFIED:20240919T185547Z
UID:10003441-1774898100-1774901700@pdde.org
SUMMARY:Brandywine YMCA - Pedaling for Parkinson's Powered by the Davis Phinney Foundation
DESCRIPTION:Learn how you can feel better and build community by joining a Pedaling for Parkinson’s class in your community! Learn more about the class here.
URL:https://pdde.org/event/brandywine-ymca-pedaling-for-parkinsons-powered-by-the-davis-phinney-foundation/2026-03-30/
LOCATION:Brandywine YMCA\, 3 Mt Lebanon Rd\, Wilmington\, DE\, 19803\, United States
ATTACH;FMTTYPE=image/png:https://pdde.org/wp-content/uploads/2024/09/Pedaling-for-Parkinsons-logo-transp-300x300-1.png
ORGANIZER;CN="Davis Phinney Foundation":MAILTO:healthyliving@ymcade.org
END:VEVENT
BEGIN:VEVENT
DTSTART;TZID=UTC:20260330T123000
DTEND;TZID=UTC:20260330T133000
DTSTAMP:20260422T191148
CREATED:20240919T185517Z
LAST-MODIFIED:20240919T185517Z
UID:10002658-1774873800-1774877400@pdde.org
SUMMARY:Dover YMCA - Pedaling for Parkinson's Powered by the Davis Phinney Foundation
DESCRIPTION:Learn how you can feel better and build community by joining a Pedaling for Parkinson’s class in your community! Learn more about the class here.
URL:https://pdde.org/event/dover-ymca-pedaling-for-parkinsons-powered-by-the-davis-phinney-foundation/2026-03-30/
LOCATION:Dover YMCA\, 1137 S. State St\, Dover\, DE\, 19901\, United States
ATTACH;FMTTYPE=image/png:https://pdde.org/wp-content/uploads/2024/09/Pedaling-for-Parkinsons-logo-transp-300x300-1.png
ORGANIZER;CN="Davis Phinney Foundation":MAILTO:healthyliving@ymcade.org
END:VEVENT
BEGIN:VEVENT
DTSTART;TZID=UTC:20260330T110000
DTEND;TZID=UTC:20260330T120000
DTSTAMP:20260422T191148
CREATED:20240919T185452Z
LAST-MODIFIED:20240919T185452Z
UID:10001875-1774868400-1774872000@pdde.org
SUMMARY:Middletown YMCA - Pedaling for Parkinson's Powered by the Davis Phinney Foundation
DESCRIPTION:Learn how you can feel better and build community by joining a Pedaling for Parkinson’s class in your community! Learn more about the class here.
URL:https://pdde.org/event/middletown-ymca-pedaling-for-parkinsons-powered-by-the-davis-phinney-foundation/2026-03-30/
LOCATION:Middletown YMCA\, 202 E Cochbran St\, Middletown\, DE\, 19709\, United States
ATTACH;FMTTYPE=image/png:https://pdde.org/wp-content/uploads/2024/09/Pedaling-for-Parkinsons-logo-transp-300x300-1.png
ORGANIZER;CN="Davis Phinney Foundation":MAILTO:healthyliving@ymcade.org
END:VEVENT
BEGIN:VEVENT
DTSTART;TZID=UTC:20260327T123000
DTEND;TZID=UTC:20260327T133000
DTSTAMP:20260422T191148
CREATED:20240919T185517Z
LAST-MODIFIED:20240919T185517Z
UID:10002657-1774614600-1774618200@pdde.org
SUMMARY:Dover YMCA - Pedaling for Parkinson's Powered by the Davis Phinney Foundation
DESCRIPTION:Learn how you can feel better and build community by joining a Pedaling for Parkinson’s class in your community! Learn more about the class here.
URL:https://pdde.org/event/dover-ymca-pedaling-for-parkinsons-powered-by-the-davis-phinney-foundation/2026-03-27/
LOCATION:Dover YMCA\, 1137 S. State St\, Dover\, DE\, 19901\, United States
ATTACH;FMTTYPE=image/png:https://pdde.org/wp-content/uploads/2024/09/Pedaling-for-Parkinsons-logo-transp-300x300-1.png
ORGANIZER;CN="Davis Phinney Foundation":MAILTO:healthyliving@ymcade.org
END:VEVENT
BEGIN:VEVENT
DTSTART;TZID=UTC:20260327T110000
DTEND;TZID=UTC:20260327T120000
DTSTAMP:20260422T191148
CREATED:20240919T185452Z
LAST-MODIFIED:20240919T185452Z
UID:10001874-1774609200-1774612800@pdde.org
SUMMARY:Middletown YMCA - Pedaling for Parkinson's Powered by the Davis Phinney Foundation
DESCRIPTION:Learn how you can feel better and build community by joining a Pedaling for Parkinson’s class in your community! Learn more about the class here.
URL:https://pdde.org/event/middletown-ymca-pedaling-for-parkinsons-powered-by-the-davis-phinney-foundation/2026-03-27/
LOCATION:Middletown YMCA\, 202 E Cochbran St\, Middletown\, DE\, 19709\, United States
ATTACH;FMTTYPE=image/png:https://pdde.org/wp-content/uploads/2024/09/Pedaling-for-Parkinsons-logo-transp-300x300-1.png
ORGANIZER;CN="Davis Phinney Foundation":MAILTO:healthyliving@ymcade.org
END:VEVENT
BEGIN:VEVENT
DTSTART;TZID=UTC:20260326T191500
DTEND;TZID=UTC:20260326T201500
DTSTAMP:20260422T191148
CREATED:20240919T185547Z
LAST-MODIFIED:20240919T185547Z
UID:10003440-1774552500-1774556100@pdde.org
SUMMARY:Brandywine YMCA - Pedaling for Parkinson's Powered by the Davis Phinney Foundation
DESCRIPTION:Learn how you can feel better and build community by joining a Pedaling for Parkinson’s class in your community! Learn more about the class here.
URL:https://pdde.org/event/brandywine-ymca-pedaling-for-parkinsons-powered-by-the-davis-phinney-foundation/2026-03-26/
LOCATION:Brandywine YMCA\, 3 Mt Lebanon Rd\, Wilmington\, DE\, 19803\, United States
ATTACH;FMTTYPE=image/png:https://pdde.org/wp-content/uploads/2024/09/Pedaling-for-Parkinsons-logo-transp-300x300-1.png
ORGANIZER;CN="Davis Phinney Foundation":MAILTO:healthyliving@ymcade.org
END:VEVENT
BEGIN:VEVENT
DTSTART;TZID=UTC:20260325T191500
DTEND;TZID=UTC:20260325T201500
DTSTAMP:20260422T191148
CREATED:20240919T185547Z
LAST-MODIFIED:20240919T185547Z
UID:10003439-1774466100-1774469700@pdde.org
SUMMARY:Brandywine YMCA - Pedaling for Parkinson's Powered by the Davis Phinney Foundation
DESCRIPTION:Learn how you can feel better and build community by joining a Pedaling for Parkinson’s class in your community! Learn more about the class here.
URL:https://pdde.org/event/brandywine-ymca-pedaling-for-parkinsons-powered-by-the-davis-phinney-foundation/2026-03-25/
LOCATION:Brandywine YMCA\, 3 Mt Lebanon Rd\, Wilmington\, DE\, 19803\, United States
ATTACH;FMTTYPE=image/png:https://pdde.org/wp-content/uploads/2024/09/Pedaling-for-Parkinsons-logo-transp-300x300-1.png
ORGANIZER;CN="Davis Phinney Foundation":MAILTO:healthyliving@ymcade.org
END:VEVENT
BEGIN:VEVENT
DTSTART;TZID=UTC:20260325T123000
DTEND;TZID=UTC:20260325T133000
DTSTAMP:20260422T191148
CREATED:20240919T185517Z
LAST-MODIFIED:20240919T185517Z
UID:10002656-1774441800-1774445400@pdde.org
SUMMARY:Dover YMCA - Pedaling for Parkinson's Powered by the Davis Phinney Foundation
DESCRIPTION:Learn how you can feel better and build community by joining a Pedaling for Parkinson’s class in your community! Learn more about the class here.
URL:https://pdde.org/event/dover-ymca-pedaling-for-parkinsons-powered-by-the-davis-phinney-foundation/2026-03-25/
LOCATION:Dover YMCA\, 1137 S. State St\, Dover\, DE\, 19901\, United States
ATTACH;FMTTYPE=image/png:https://pdde.org/wp-content/uploads/2024/09/Pedaling-for-Parkinsons-logo-transp-300x300-1.png
ORGANIZER;CN="Davis Phinney Foundation":MAILTO:healthyliving@ymcade.org
END:VEVENT
BEGIN:VEVENT
DTSTART;TZID=UTC:20260325T110000
DTEND;TZID=UTC:20260325T120000
DTSTAMP:20260422T191148
CREATED:20240919T185452Z
LAST-MODIFIED:20240919T185452Z
UID:10001873-1774436400-1774440000@pdde.org
SUMMARY:Middletown YMCA - Pedaling for Parkinson's Powered by the Davis Phinney Foundation
DESCRIPTION:Learn how you can feel better and build community by joining a Pedaling for Parkinson’s class in your community! Learn more about the class here.
URL:https://pdde.org/event/middletown-ymca-pedaling-for-parkinsons-powered-by-the-davis-phinney-foundation/2026-03-25/
LOCATION:Middletown YMCA\, 202 E Cochbran St\, Middletown\, DE\, 19709\, United States
ATTACH;FMTTYPE=image/png:https://pdde.org/wp-content/uploads/2024/09/Pedaling-for-Parkinsons-logo-transp-300x300-1.png
ORGANIZER;CN="Davis Phinney Foundation":MAILTO:healthyliving@ymcade.org
END:VEVENT
BEGIN:VEVENT
DTSTART;TZID=UTC:20260323T191500
DTEND;TZID=UTC:20260323T201500
DTSTAMP:20260422T191148
CREATED:20240919T185547Z
LAST-MODIFIED:20240919T185547Z
UID:10003438-1774293300-1774296900@pdde.org
SUMMARY:Brandywine YMCA - Pedaling for Parkinson's Powered by the Davis Phinney Foundation
DESCRIPTION:Learn how you can feel better and build community by joining a Pedaling for Parkinson’s class in your community! Learn more about the class here.
URL:https://pdde.org/event/brandywine-ymca-pedaling-for-parkinsons-powered-by-the-davis-phinney-foundation/2026-03-23/
LOCATION:Brandywine YMCA\, 3 Mt Lebanon Rd\, Wilmington\, DE\, 19803\, United States
ATTACH;FMTTYPE=image/png:https://pdde.org/wp-content/uploads/2024/09/Pedaling-for-Parkinsons-logo-transp-300x300-1.png
ORGANIZER;CN="Davis Phinney Foundation":MAILTO:healthyliving@ymcade.org
END:VEVENT
BEGIN:VEVENT
DTSTART;TZID=UTC:20260323T123000
DTEND;TZID=UTC:20260323T133000
DTSTAMP:20260422T191148
CREATED:20240919T185517Z
LAST-MODIFIED:20240919T185517Z
UID:10002655-1774269000-1774272600@pdde.org
SUMMARY:Dover YMCA - Pedaling for Parkinson's Powered by the Davis Phinney Foundation
DESCRIPTION:Learn how you can feel better and build community by joining a Pedaling for Parkinson’s class in your community! Learn more about the class here.
URL:https://pdde.org/event/dover-ymca-pedaling-for-parkinsons-powered-by-the-davis-phinney-foundation/2026-03-23/
LOCATION:Dover YMCA\, 1137 S. State St\, Dover\, DE\, 19901\, United States
ATTACH;FMTTYPE=image/png:https://pdde.org/wp-content/uploads/2024/09/Pedaling-for-Parkinsons-logo-transp-300x300-1.png
ORGANIZER;CN="Davis Phinney Foundation":MAILTO:healthyliving@ymcade.org
END:VEVENT
BEGIN:VEVENT
DTSTART;TZID=UTC:20260323T110000
DTEND;TZID=UTC:20260323T120000
DTSTAMP:20260422T191148
CREATED:20240919T185452Z
LAST-MODIFIED:20240919T185452Z
UID:10001872-1774263600-1774267200@pdde.org
SUMMARY:Middletown YMCA - Pedaling for Parkinson's Powered by the Davis Phinney Foundation
DESCRIPTION:Learn how you can feel better and build community by joining a Pedaling for Parkinson’s class in your community! Learn more about the class here.
URL:https://pdde.org/event/middletown-ymca-pedaling-for-parkinsons-powered-by-the-davis-phinney-foundation/2026-03-23/
LOCATION:Middletown YMCA\, 202 E Cochbran St\, Middletown\, DE\, 19709\, United States
ATTACH;FMTTYPE=image/png:https://pdde.org/wp-content/uploads/2024/09/Pedaling-for-Parkinsons-logo-transp-300x300-1.png
ORGANIZER;CN="Davis Phinney Foundation":MAILTO:healthyliving@ymcade.org
END:VEVENT
BEGIN:VEVENT
DTSTART;TZID=UTC:20260320T123000
DTEND;TZID=UTC:20260320T133000
DTSTAMP:20260422T191148
CREATED:20240919T185517Z
LAST-MODIFIED:20240919T185517Z
UID:10002654-1774009800-1774013400@pdde.org
SUMMARY:Dover YMCA - Pedaling for Parkinson's Powered by the Davis Phinney Foundation
DESCRIPTION:Learn how you can feel better and build community by joining a Pedaling for Parkinson’s class in your community! Learn more about the class here.
URL:https://pdde.org/event/dover-ymca-pedaling-for-parkinsons-powered-by-the-davis-phinney-foundation/2026-03-20/
LOCATION:Dover YMCA\, 1137 S. State St\, Dover\, DE\, 19901\, United States
ATTACH;FMTTYPE=image/png:https://pdde.org/wp-content/uploads/2024/09/Pedaling-for-Parkinsons-logo-transp-300x300-1.png
ORGANIZER;CN="Davis Phinney Foundation":MAILTO:healthyliving@ymcade.org
END:VEVENT
BEGIN:VEVENT
DTSTART;TZID=UTC:20260320T110000
DTEND;TZID=UTC:20260320T120000
DTSTAMP:20260422T191148
CREATED:20240919T185452Z
LAST-MODIFIED:20240919T185452Z
UID:10001871-1774004400-1774008000@pdde.org
SUMMARY:Middletown YMCA - Pedaling for Parkinson's Powered by the Davis Phinney Foundation
DESCRIPTION:Learn how you can feel better and build community by joining a Pedaling for Parkinson’s class in your community! Learn more about the class here.
URL:https://pdde.org/event/middletown-ymca-pedaling-for-parkinsons-powered-by-the-davis-phinney-foundation/2026-03-20/
LOCATION:Middletown YMCA\, 202 E Cochbran St\, Middletown\, DE\, 19709\, United States
ATTACH;FMTTYPE=image/png:https://pdde.org/wp-content/uploads/2024/09/Pedaling-for-Parkinsons-logo-transp-300x300-1.png
ORGANIZER;CN="Davis Phinney Foundation":MAILTO:healthyliving@ymcade.org
END:VEVENT
BEGIN:VEVENT
DTSTART;TZID=UTC:20260319T191500
DTEND;TZID=UTC:20260319T201500
DTSTAMP:20260422T191148
CREATED:20240919T185547Z
LAST-MODIFIED:20240919T185547Z
UID:10003437-1773947700-1773951300@pdde.org
SUMMARY:Brandywine YMCA - Pedaling for Parkinson's Powered by the Davis Phinney Foundation
DESCRIPTION:Learn how you can feel better and build community by joining a Pedaling for Parkinson’s class in your community! Learn more about the class here.
URL:https://pdde.org/event/brandywine-ymca-pedaling-for-parkinsons-powered-by-the-davis-phinney-foundation/2026-03-19/
LOCATION:Brandywine YMCA\, 3 Mt Lebanon Rd\, Wilmington\, DE\, 19803\, United States
ATTACH;FMTTYPE=image/png:https://pdde.org/wp-content/uploads/2024/09/Pedaling-for-Parkinsons-logo-transp-300x300-1.png
ORGANIZER;CN="Davis Phinney Foundation":MAILTO:healthyliving@ymcade.org
END:VEVENT
BEGIN:VEVENT
DTSTART;TZID=UTC:20260318T191500
DTEND;TZID=UTC:20260318T201500
DTSTAMP:20260422T191148
CREATED:20240919T185547Z
LAST-MODIFIED:20240919T185547Z
UID:10003436-1773861300-1773864900@pdde.org
SUMMARY:Brandywine YMCA - Pedaling for Parkinson's Powered by the Davis Phinney Foundation
DESCRIPTION:Learn how you can feel better and build community by joining a Pedaling for Parkinson’s class in your community! Learn more about the class here.
URL:https://pdde.org/event/brandywine-ymca-pedaling-for-parkinsons-powered-by-the-davis-phinney-foundation/2026-03-18/
LOCATION:Brandywine YMCA\, 3 Mt Lebanon Rd\, Wilmington\, DE\, 19803\, United States
ATTACH;FMTTYPE=image/png:https://pdde.org/wp-content/uploads/2024/09/Pedaling-for-Parkinsons-logo-transp-300x300-1.png
ORGANIZER;CN="Davis Phinney Foundation":MAILTO:healthyliving@ymcade.org
END:VEVENT
BEGIN:VEVENT
DTSTART;TZID=UTC:20260318T123000
DTEND;TZID=UTC:20260318T133000
DTSTAMP:20260422T191148
CREATED:20240919T185517Z
LAST-MODIFIED:20240919T185517Z
UID:10002653-1773837000-1773840600@pdde.org
SUMMARY:Dover YMCA - Pedaling for Parkinson's Powered by the Davis Phinney Foundation
DESCRIPTION:Learn how you can feel better and build community by joining a Pedaling for Parkinson’s class in your community! Learn more about the class here.
URL:https://pdde.org/event/dover-ymca-pedaling-for-parkinsons-powered-by-the-davis-phinney-foundation/2026-03-18/
LOCATION:Dover YMCA\, 1137 S. State St\, Dover\, DE\, 19901\, United States
ATTACH;FMTTYPE=image/png:https://pdde.org/wp-content/uploads/2024/09/Pedaling-for-Parkinsons-logo-transp-300x300-1.png
ORGANIZER;CN="Davis Phinney Foundation":MAILTO:healthyliving@ymcade.org
END:VEVENT
BEGIN:VEVENT
DTSTART;TZID=UTC:20260318T110000
DTEND;TZID=UTC:20260318T120000
DTSTAMP:20260422T191148
CREATED:20240919T185452Z
LAST-MODIFIED:20240919T185452Z
UID:10001870-1773831600-1773835200@pdde.org
SUMMARY:Middletown YMCA - Pedaling for Parkinson's Powered by the Davis Phinney Foundation
DESCRIPTION:Learn how you can feel better and build community by joining a Pedaling for Parkinson’s class in your community! Learn more about the class here.
URL:https://pdde.org/event/middletown-ymca-pedaling-for-parkinsons-powered-by-the-davis-phinney-foundation/2026-03-18/
LOCATION:Middletown YMCA\, 202 E Cochbran St\, Middletown\, DE\, 19709\, United States
ATTACH;FMTTYPE=image/png:https://pdde.org/wp-content/uploads/2024/09/Pedaling-for-Parkinsons-logo-transp-300x300-1.png
ORGANIZER;CN="Davis Phinney Foundation":MAILTO:healthyliving@ymcade.org
END:VEVENT
BEGIN:VEVENT
DTSTART;TZID=UTC:20260316T191500
DTEND;TZID=UTC:20260316T201500
DTSTAMP:20260422T191148
CREATED:20240919T185547Z
LAST-MODIFIED:20240919T185547Z
UID:10003435-1773688500-1773692100@pdde.org
SUMMARY:Brandywine YMCA - Pedaling for Parkinson's Powered by the Davis Phinney Foundation
DESCRIPTION:Learn how you can feel better and build community by joining a Pedaling for Parkinson’s class in your community! Learn more about the class here.
URL:https://pdde.org/event/brandywine-ymca-pedaling-for-parkinsons-powered-by-the-davis-phinney-foundation/2026-03-16/
LOCATION:Brandywine YMCA\, 3 Mt Lebanon Rd\, Wilmington\, DE\, 19803\, United States
ATTACH;FMTTYPE=image/png:https://pdde.org/wp-content/uploads/2024/09/Pedaling-for-Parkinsons-logo-transp-300x300-1.png
ORGANIZER;CN="Davis Phinney Foundation":MAILTO:healthyliving@ymcade.org
END:VEVENT
BEGIN:VEVENT
DTSTART;TZID=UTC:20260316T123000
DTEND;TZID=UTC:20260316T133000
DTSTAMP:20260422T191148
CREATED:20240919T185517Z
LAST-MODIFIED:20240919T185517Z
UID:10002652-1773664200-1773667800@pdde.org
SUMMARY:Dover YMCA - Pedaling for Parkinson's Powered by the Davis Phinney Foundation
DESCRIPTION:Learn how you can feel better and build community by joining a Pedaling for Parkinson’s class in your community! Learn more about the class here.
URL:https://pdde.org/event/dover-ymca-pedaling-for-parkinsons-powered-by-the-davis-phinney-foundation/2026-03-16/
LOCATION:Dover YMCA\, 1137 S. State St\, Dover\, DE\, 19901\, United States
ATTACH;FMTTYPE=image/png:https://pdde.org/wp-content/uploads/2024/09/Pedaling-for-Parkinsons-logo-transp-300x300-1.png
ORGANIZER;CN="Davis Phinney Foundation":MAILTO:healthyliving@ymcade.org
END:VEVENT
BEGIN:VEVENT
DTSTART;TZID=UTC:20260316T110000
DTEND;TZID=UTC:20260316T120000
DTSTAMP:20260422T191148
CREATED:20240919T185452Z
LAST-MODIFIED:20240919T185452Z
UID:10001869-1773658800-1773662400@pdde.org
SUMMARY:Middletown YMCA - Pedaling for Parkinson's Powered by the Davis Phinney Foundation
DESCRIPTION:Learn how you can feel better and build community by joining a Pedaling for Parkinson’s class in your community! Learn more about the class here.
URL:https://pdde.org/event/middletown-ymca-pedaling-for-parkinsons-powered-by-the-davis-phinney-foundation/2026-03-16/
LOCATION:Middletown YMCA\, 202 E Cochbran St\, Middletown\, DE\, 19709\, United States
ATTACH;FMTTYPE=image/png:https://pdde.org/wp-content/uploads/2024/09/Pedaling-for-Parkinsons-logo-transp-300x300-1.png
ORGANIZER;CN="Davis Phinney Foundation":MAILTO:healthyliving@ymcade.org
END:VEVENT
BEGIN:VEVENT
DTSTART;TZID=UTC:20260313T123000
DTEND;TZID=UTC:20260313T133000
DTSTAMP:20260422T191148
CREATED:20240919T185517Z
LAST-MODIFIED:20240919T185517Z
UID:10002651-1773405000-1773408600@pdde.org
SUMMARY:Dover YMCA - Pedaling for Parkinson's Powered by the Davis Phinney Foundation
DESCRIPTION:Learn how you can feel better and build community by joining a Pedaling for Parkinson’s class in your community! Learn more about the class here.
URL:https://pdde.org/event/dover-ymca-pedaling-for-parkinsons-powered-by-the-davis-phinney-foundation/2026-03-13/
LOCATION:Dover YMCA\, 1137 S. State St\, Dover\, DE\, 19901\, United States
ATTACH;FMTTYPE=image/png:https://pdde.org/wp-content/uploads/2024/09/Pedaling-for-Parkinsons-logo-transp-300x300-1.png
ORGANIZER;CN="Davis Phinney Foundation":MAILTO:healthyliving@ymcade.org
END:VEVENT
BEGIN:VEVENT
DTSTART;TZID=UTC:20260313T110000
DTEND;TZID=UTC:20260313T120000
DTSTAMP:20260422T191148
CREATED:20240919T185452Z
LAST-MODIFIED:20240919T185452Z
UID:10001868-1773399600-1773403200@pdde.org
SUMMARY:Middletown YMCA - Pedaling for Parkinson's Powered by the Davis Phinney Foundation
DESCRIPTION:Learn how you can feel better and build community by joining a Pedaling for Parkinson’s class in your community! Learn more about the class here.
URL:https://pdde.org/event/middletown-ymca-pedaling-for-parkinsons-powered-by-the-davis-phinney-foundation/2026-03-13/
LOCATION:Middletown YMCA\, 202 E Cochbran St\, Middletown\, DE\, 19709\, United States
ATTACH;FMTTYPE=image/png:https://pdde.org/wp-content/uploads/2024/09/Pedaling-for-Parkinsons-logo-transp-300x300-1.png
ORGANIZER;CN="Davis Phinney Foundation":MAILTO:healthyliving@ymcade.org
END:VEVENT
BEGIN:VEVENT
DTSTART;TZID=UTC:20260312T191500
DTEND;TZID=UTC:20260312T201500
DTSTAMP:20260422T191148
CREATED:20240919T185547Z
LAST-MODIFIED:20240919T185547Z
UID:10003434-1773342900-1773346500@pdde.org
SUMMARY:Brandywine YMCA - Pedaling for Parkinson's Powered by the Davis Phinney Foundation
DESCRIPTION:Learn how you can feel better and build community by joining a Pedaling for Parkinson’s class in your community! Learn more about the class here.
URL:https://pdde.org/event/brandywine-ymca-pedaling-for-parkinsons-powered-by-the-davis-phinney-foundation/2026-03-12/
LOCATION:Brandywine YMCA\, 3 Mt Lebanon Rd\, Wilmington\, DE\, 19803\, United States
ATTACH;FMTTYPE=image/png:https://pdde.org/wp-content/uploads/2024/09/Pedaling-for-Parkinsons-logo-transp-300x300-1.png
ORGANIZER;CN="Davis Phinney Foundation":MAILTO:healthyliving@ymcade.org
END:VEVENT
BEGIN:VEVENT
DTSTART;TZID=UTC:20260311T191500
DTEND;TZID=UTC:20260311T201500
DTSTAMP:20260422T191148
CREATED:20240919T185547Z
LAST-MODIFIED:20240919T185547Z
UID:10003433-1773256500-1773260100@pdde.org
SUMMARY:Brandywine YMCA - Pedaling for Parkinson's Powered by the Davis Phinney Foundation
DESCRIPTION:Learn how you can feel better and build community by joining a Pedaling for Parkinson’s class in your community! Learn more about the class here.
URL:https://pdde.org/event/brandywine-ymca-pedaling-for-parkinsons-powered-by-the-davis-phinney-foundation/2026-03-11/
LOCATION:Brandywine YMCA\, 3 Mt Lebanon Rd\, Wilmington\, DE\, 19803\, United States
ATTACH;FMTTYPE=image/png:https://pdde.org/wp-content/uploads/2024/09/Pedaling-for-Parkinsons-logo-transp-300x300-1.png
ORGANIZER;CN="Davis Phinney Foundation":MAILTO:healthyliving@ymcade.org
END:VEVENT
END:VCALENDAR