BEGIN:VCALENDAR
VERSION:2.0
PRODID:-//PDDE - ECPv6.15.20//NONSGML v1.0//EN
CALSCALE:GREGORIAN
METHOD:PUBLISH
X-WR-CALNAME:PDDE
X-ORIGINAL-URL:https://pdde.org
X-WR-CALDESC:Events for PDDE
REFRESH-INTERVAL;VALUE=DURATION:PT1H
X-Robots-Tag:noindex
X-PUBLISHED-TTL:PT1H
BEGIN:VTIMEZONE
TZID:UTC
BEGIN:STANDARD
TZOFFSETFROM:+0000
TZOFFSETTO:+0000
TZNAME:UTC
DTSTART:20240101T000000
END:STANDARD
END:VTIMEZONE
BEGIN:VEVENT
DTSTART;TZID=UTC:20251107T123000
DTEND;TZID=UTC:20251107T133000
DTSTAMP:20260424T160630
CREATED:20240919T185517Z
LAST-MODIFIED:20240919T185517Z
UID:10002597-1762518600-1762522200@pdde.org
SUMMARY:Dover YMCA - Pedaling for Parkinson's Powered by the Davis Phinney Foundation
DESCRIPTION:Learn how you can feel better and build community by joining a Pedaling for Parkinson’s class in your community! Learn more about the class here.
URL:https://pdde.org/event/dover-ymca-pedaling-for-parkinsons-powered-by-the-davis-phinney-foundation/2025-11-07/
LOCATION:Dover YMCA\, 1137 S. State St\, Dover\, DE\, 19901\, United States
ATTACH;FMTTYPE=image/png:https://pdde.org/wp-content/uploads/2024/09/Pedaling-for-Parkinsons-logo-transp-300x300-1.png
ORGANIZER;CN="Davis Phinney Foundation":MAILTO:healthyliving@ymcade.org
END:VEVENT
BEGIN:VEVENT
DTSTART;TZID=UTC:20251107T110000
DTEND;TZID=UTC:20251107T120000
DTSTAMP:20260424T160630
CREATED:20240919T185452Z
LAST-MODIFIED:20240919T185452Z
UID:10001814-1762513200-1762516800@pdde.org
SUMMARY:Middletown YMCA - Pedaling for Parkinson's Powered by the Davis Phinney Foundation
DESCRIPTION:Learn how you can feel better and build community by joining a Pedaling for Parkinson’s class in your community! Learn more about the class here.
URL:https://pdde.org/event/middletown-ymca-pedaling-for-parkinsons-powered-by-the-davis-phinney-foundation/2025-11-07/
LOCATION:Middletown YMCA\, 202 E Cochbran St\, Middletown\, DE\, 19709\, United States
ATTACH;FMTTYPE=image/png:https://pdde.org/wp-content/uploads/2024/09/Pedaling-for-Parkinsons-logo-transp-300x300-1.png
ORGANIZER;CN="Davis Phinney Foundation":MAILTO:healthyliving@ymcade.org
END:VEVENT
BEGIN:VEVENT
DTSTART;TZID=UTC:20251106T191500
DTEND;TZID=UTC:20251106T201500
DTSTAMP:20260424T160630
CREATED:20240919T185547Z
LAST-MODIFIED:20240919T185547Z
UID:10003380-1762456500-1762460100@pdde.org
SUMMARY:Brandywine YMCA - Pedaling for Parkinson's Powered by the Davis Phinney Foundation
DESCRIPTION:Learn how you can feel better and build community by joining a Pedaling for Parkinson’s class in your community! Learn more about the class here.
URL:https://pdde.org/event/brandywine-ymca-pedaling-for-parkinsons-powered-by-the-davis-phinney-foundation/2025-11-06/
LOCATION:Brandywine YMCA\, 3 Mt Lebanon Rd\, Wilmington\, DE\, 19803\, United States
ATTACH;FMTTYPE=image/png:https://pdde.org/wp-content/uploads/2024/09/Pedaling-for-Parkinsons-logo-transp-300x300-1.png
ORGANIZER;CN="Davis Phinney Foundation":MAILTO:healthyliving@ymcade.org
END:VEVENT
BEGIN:VEVENT
DTSTART;TZID=UTC:20251105T191500
DTEND;TZID=UTC:20251105T201500
DTSTAMP:20260424T160630
CREATED:20240919T185547Z
LAST-MODIFIED:20240919T185547Z
UID:10003379-1762370100-1762373700@pdde.org
SUMMARY:Brandywine YMCA - Pedaling for Parkinson's Powered by the Davis Phinney Foundation
DESCRIPTION:Learn how you can feel better and build community by joining a Pedaling for Parkinson’s class in your community! Learn more about the class here.
URL:https://pdde.org/event/brandywine-ymca-pedaling-for-parkinsons-powered-by-the-davis-phinney-foundation/2025-11-05/
LOCATION:Brandywine YMCA\, 3 Mt Lebanon Rd\, Wilmington\, DE\, 19803\, United States
ATTACH;FMTTYPE=image/png:https://pdde.org/wp-content/uploads/2024/09/Pedaling-for-Parkinsons-logo-transp-300x300-1.png
ORGANIZER;CN="Davis Phinney Foundation":MAILTO:healthyliving@ymcade.org
END:VEVENT
BEGIN:VEVENT
DTSTART;TZID=UTC:20251105T123000
DTEND;TZID=UTC:20251105T133000
DTSTAMP:20260424T160630
CREATED:20240919T185517Z
LAST-MODIFIED:20240919T185517Z
UID:10002596-1762345800-1762349400@pdde.org
SUMMARY:Dover YMCA - Pedaling for Parkinson's Powered by the Davis Phinney Foundation
DESCRIPTION:Learn how you can feel better and build community by joining a Pedaling for Parkinson’s class in your community! Learn more about the class here.
URL:https://pdde.org/event/dover-ymca-pedaling-for-parkinsons-powered-by-the-davis-phinney-foundation/2025-11-05/
LOCATION:Dover YMCA\, 1137 S. State St\, Dover\, DE\, 19901\, United States
ATTACH;FMTTYPE=image/png:https://pdde.org/wp-content/uploads/2024/09/Pedaling-for-Parkinsons-logo-transp-300x300-1.png
ORGANIZER;CN="Davis Phinney Foundation":MAILTO:healthyliving@ymcade.org
END:VEVENT
BEGIN:VEVENT
DTSTART;TZID=UTC:20251105T110000
DTEND;TZID=UTC:20251105T120000
DTSTAMP:20260424T160630
CREATED:20240919T185452Z
LAST-MODIFIED:20240919T185452Z
UID:10001813-1762340400-1762344000@pdde.org
SUMMARY:Middletown YMCA - Pedaling for Parkinson's Powered by the Davis Phinney Foundation
DESCRIPTION:Learn how you can feel better and build community by joining a Pedaling for Parkinson’s class in your community! Learn more about the class here.
URL:https://pdde.org/event/middletown-ymca-pedaling-for-parkinsons-powered-by-the-davis-phinney-foundation/2025-11-05/
LOCATION:Middletown YMCA\, 202 E Cochbran St\, Middletown\, DE\, 19709\, United States
ATTACH;FMTTYPE=image/png:https://pdde.org/wp-content/uploads/2024/09/Pedaling-for-Parkinsons-logo-transp-300x300-1.png
ORGANIZER;CN="Davis Phinney Foundation":MAILTO:healthyliving@ymcade.org
END:VEVENT
BEGIN:VEVENT
DTSTART;TZID=UTC:20251103T191500
DTEND;TZID=UTC:20251103T201500
DTSTAMP:20260424T160630
CREATED:20240919T185547Z
LAST-MODIFIED:20240919T185547Z
UID:10003378-1762197300-1762200900@pdde.org
SUMMARY:Brandywine YMCA - Pedaling for Parkinson's Powered by the Davis Phinney Foundation
DESCRIPTION:Learn how you can feel better and build community by joining a Pedaling for Parkinson’s class in your community! Learn more about the class here.
URL:https://pdde.org/event/brandywine-ymca-pedaling-for-parkinsons-powered-by-the-davis-phinney-foundation/2025-11-03/
LOCATION:Brandywine YMCA\, 3 Mt Lebanon Rd\, Wilmington\, DE\, 19803\, United States
ATTACH;FMTTYPE=image/png:https://pdde.org/wp-content/uploads/2024/09/Pedaling-for-Parkinsons-logo-transp-300x300-1.png
ORGANIZER;CN="Davis Phinney Foundation":MAILTO:healthyliving@ymcade.org
END:VEVENT
BEGIN:VEVENT
DTSTART;TZID=UTC:20251103T123000
DTEND;TZID=UTC:20251103T133000
DTSTAMP:20260424T160630
CREATED:20240919T185517Z
LAST-MODIFIED:20240919T185517Z
UID:10002595-1762173000-1762176600@pdde.org
SUMMARY:Dover YMCA - Pedaling for Parkinson's Powered by the Davis Phinney Foundation
DESCRIPTION:Learn how you can feel better and build community by joining a Pedaling for Parkinson’s class in your community! Learn more about the class here.
URL:https://pdde.org/event/dover-ymca-pedaling-for-parkinsons-powered-by-the-davis-phinney-foundation/2025-11-03/
LOCATION:Dover YMCA\, 1137 S. State St\, Dover\, DE\, 19901\, United States
ATTACH;FMTTYPE=image/png:https://pdde.org/wp-content/uploads/2024/09/Pedaling-for-Parkinsons-logo-transp-300x300-1.png
ORGANIZER;CN="Davis Phinney Foundation":MAILTO:healthyliving@ymcade.org
END:VEVENT
BEGIN:VEVENT
DTSTART;TZID=UTC:20251103T110000
DTEND;TZID=UTC:20251103T120000
DTSTAMP:20260424T160630
CREATED:20240919T185452Z
LAST-MODIFIED:20240919T185452Z
UID:10001812-1762167600-1762171200@pdde.org
SUMMARY:Middletown YMCA - Pedaling for Parkinson's Powered by the Davis Phinney Foundation
DESCRIPTION:Learn how you can feel better and build community by joining a Pedaling for Parkinson’s class in your community! Learn more about the class here.
URL:https://pdde.org/event/middletown-ymca-pedaling-for-parkinsons-powered-by-the-davis-phinney-foundation/2025-11-03/
LOCATION:Middletown YMCA\, 202 E Cochbran St\, Middletown\, DE\, 19709\, United States
ATTACH;FMTTYPE=image/png:https://pdde.org/wp-content/uploads/2024/09/Pedaling-for-Parkinsons-logo-transp-300x300-1.png
ORGANIZER;CN="Davis Phinney Foundation":MAILTO:healthyliving@ymcade.org
END:VEVENT
BEGIN:VEVENT
DTSTART;TZID=UTC:20251031T123000
DTEND;TZID=UTC:20251031T133000
DTSTAMP:20260424T160630
CREATED:20240919T185517Z
LAST-MODIFIED:20240919T185517Z
UID:10002594-1761913800-1761917400@pdde.org
SUMMARY:Dover YMCA - Pedaling for Parkinson's Powered by the Davis Phinney Foundation
DESCRIPTION:Learn how you can feel better and build community by joining a Pedaling for Parkinson’s class in your community! Learn more about the class here.
URL:https://pdde.org/event/dover-ymca-pedaling-for-parkinsons-powered-by-the-davis-phinney-foundation/2025-10-31/
LOCATION:Dover YMCA\, 1137 S. State St\, Dover\, DE\, 19901\, United States
ATTACH;FMTTYPE=image/png:https://pdde.org/wp-content/uploads/2024/09/Pedaling-for-Parkinsons-logo-transp-300x300-1.png
ORGANIZER;CN="Davis Phinney Foundation":MAILTO:healthyliving@ymcade.org
END:VEVENT
BEGIN:VEVENT
DTSTART;TZID=UTC:20251031T110000
DTEND;TZID=UTC:20251031T120000
DTSTAMP:20260424T160630
CREATED:20240919T185452Z
LAST-MODIFIED:20240919T185452Z
UID:10001811-1761908400-1761912000@pdde.org
SUMMARY:Middletown YMCA - Pedaling for Parkinson's Powered by the Davis Phinney Foundation
DESCRIPTION:Learn how you can feel better and build community by joining a Pedaling for Parkinson’s class in your community! Learn more about the class here.
URL:https://pdde.org/event/middletown-ymca-pedaling-for-parkinsons-powered-by-the-davis-phinney-foundation/2025-10-31/
LOCATION:Middletown YMCA\, 202 E Cochbran St\, Middletown\, DE\, 19709\, United States
ATTACH;FMTTYPE=image/png:https://pdde.org/wp-content/uploads/2024/09/Pedaling-for-Parkinsons-logo-transp-300x300-1.png
ORGANIZER;CN="Davis Phinney Foundation":MAILTO:healthyliving@ymcade.org
END:VEVENT
BEGIN:VEVENT
DTSTART;TZID=UTC:20251030T191500
DTEND;TZID=UTC:20251030T201500
DTSTAMP:20260424T160630
CREATED:20240919T185547Z
LAST-MODIFIED:20240919T185547Z
UID:10003377-1761851700-1761855300@pdde.org
SUMMARY:Brandywine YMCA - Pedaling for Parkinson's Powered by the Davis Phinney Foundation
DESCRIPTION:Learn how you can feel better and build community by joining a Pedaling for Parkinson’s class in your community! Learn more about the class here.
URL:https://pdde.org/event/brandywine-ymca-pedaling-for-parkinsons-powered-by-the-davis-phinney-foundation/2025-10-30/
LOCATION:Brandywine YMCA\, 3 Mt Lebanon Rd\, Wilmington\, DE\, 19803\, United States
ATTACH;FMTTYPE=image/png:https://pdde.org/wp-content/uploads/2024/09/Pedaling-for-Parkinsons-logo-transp-300x300-1.png
ORGANIZER;CN="Davis Phinney Foundation":MAILTO:healthyliving@ymcade.org
END:VEVENT
BEGIN:VEVENT
DTSTART;TZID=UTC:20251029T191500
DTEND;TZID=UTC:20251029T201500
DTSTAMP:20260424T160630
CREATED:20240919T185547Z
LAST-MODIFIED:20240919T185547Z
UID:10003376-1761765300-1761768900@pdde.org
SUMMARY:Brandywine YMCA - Pedaling for Parkinson's Powered by the Davis Phinney Foundation
DESCRIPTION:Learn how you can feel better and build community by joining a Pedaling for Parkinson’s class in your community! Learn more about the class here.
URL:https://pdde.org/event/brandywine-ymca-pedaling-for-parkinsons-powered-by-the-davis-phinney-foundation/2025-10-29/
LOCATION:Brandywine YMCA\, 3 Mt Lebanon Rd\, Wilmington\, DE\, 19803\, United States
ATTACH;FMTTYPE=image/png:https://pdde.org/wp-content/uploads/2024/09/Pedaling-for-Parkinsons-logo-transp-300x300-1.png
ORGANIZER;CN="Davis Phinney Foundation":MAILTO:healthyliving@ymcade.org
END:VEVENT
BEGIN:VEVENT
DTSTART;TZID=UTC:20251029T123000
DTEND;TZID=UTC:20251029T133000
DTSTAMP:20260424T160630
CREATED:20240919T185517Z
LAST-MODIFIED:20240919T185517Z
UID:10002593-1761741000-1761744600@pdde.org
SUMMARY:Dover YMCA - Pedaling for Parkinson's Powered by the Davis Phinney Foundation
DESCRIPTION:Learn how you can feel better and build community by joining a Pedaling for Parkinson’s class in your community! Learn more about the class here.
URL:https://pdde.org/event/dover-ymca-pedaling-for-parkinsons-powered-by-the-davis-phinney-foundation/2025-10-29/
LOCATION:Dover YMCA\, 1137 S. State St\, Dover\, DE\, 19901\, United States
ATTACH;FMTTYPE=image/png:https://pdde.org/wp-content/uploads/2024/09/Pedaling-for-Parkinsons-logo-transp-300x300-1.png
ORGANIZER;CN="Davis Phinney Foundation":MAILTO:healthyliving@ymcade.org
END:VEVENT
BEGIN:VEVENT
DTSTART;TZID=UTC:20251029T110000
DTEND;TZID=UTC:20251029T120000
DTSTAMP:20260424T160630
CREATED:20240919T185452Z
LAST-MODIFIED:20240919T185452Z
UID:10001810-1761735600-1761739200@pdde.org
SUMMARY:Middletown YMCA - Pedaling for Parkinson's Powered by the Davis Phinney Foundation
DESCRIPTION:Learn how you can feel better and build community by joining a Pedaling for Parkinson’s class in your community! Learn more about the class here.
URL:https://pdde.org/event/middletown-ymca-pedaling-for-parkinsons-powered-by-the-davis-phinney-foundation/2025-10-29/
LOCATION:Middletown YMCA\, 202 E Cochbran St\, Middletown\, DE\, 19709\, United States
ATTACH;FMTTYPE=image/png:https://pdde.org/wp-content/uploads/2024/09/Pedaling-for-Parkinsons-logo-transp-300x300-1.png
ORGANIZER;CN="Davis Phinney Foundation":MAILTO:healthyliving@ymcade.org
END:VEVENT
BEGIN:VEVENT
DTSTART;TZID=UTC:20251027T191500
DTEND;TZID=UTC:20251027T201500
DTSTAMP:20260424T160630
CREATED:20240919T185547Z
LAST-MODIFIED:20240919T185547Z
UID:10003375-1761592500-1761596100@pdde.org
SUMMARY:Brandywine YMCA - Pedaling for Parkinson's Powered by the Davis Phinney Foundation
DESCRIPTION:Learn how you can feel better and build community by joining a Pedaling for Parkinson’s class in your community! Learn more about the class here.
URL:https://pdde.org/event/brandywine-ymca-pedaling-for-parkinsons-powered-by-the-davis-phinney-foundation/2025-10-27/
LOCATION:Brandywine YMCA\, 3 Mt Lebanon Rd\, Wilmington\, DE\, 19803\, United States
ATTACH;FMTTYPE=image/png:https://pdde.org/wp-content/uploads/2024/09/Pedaling-for-Parkinsons-logo-transp-300x300-1.png
ORGANIZER;CN="Davis Phinney Foundation":MAILTO:healthyliving@ymcade.org
END:VEVENT
BEGIN:VEVENT
DTSTART;TZID=UTC:20251027T123000
DTEND;TZID=UTC:20251027T133000
DTSTAMP:20260424T160630
CREATED:20240919T185517Z
LAST-MODIFIED:20240919T185517Z
UID:10002592-1761568200-1761571800@pdde.org
SUMMARY:Dover YMCA - Pedaling for Parkinson's Powered by the Davis Phinney Foundation
DESCRIPTION:Learn how you can feel better and build community by joining a Pedaling for Parkinson’s class in your community! Learn more about the class here.
URL:https://pdde.org/event/dover-ymca-pedaling-for-parkinsons-powered-by-the-davis-phinney-foundation/2025-10-27/
LOCATION:Dover YMCA\, 1137 S. State St\, Dover\, DE\, 19901\, United States
ATTACH;FMTTYPE=image/png:https://pdde.org/wp-content/uploads/2024/09/Pedaling-for-Parkinsons-logo-transp-300x300-1.png
ORGANIZER;CN="Davis Phinney Foundation":MAILTO:healthyliving@ymcade.org
END:VEVENT
BEGIN:VEVENT
DTSTART;TZID=UTC:20251027T110000
DTEND;TZID=UTC:20251027T120000
DTSTAMP:20260424T160630
CREATED:20240919T185452Z
LAST-MODIFIED:20240919T185452Z
UID:10001809-1761562800-1761566400@pdde.org
SUMMARY:Middletown YMCA - Pedaling for Parkinson's Powered by the Davis Phinney Foundation
DESCRIPTION:Learn how you can feel better and build community by joining a Pedaling for Parkinson’s class in your community! Learn more about the class here.
URL:https://pdde.org/event/middletown-ymca-pedaling-for-parkinsons-powered-by-the-davis-phinney-foundation/2025-10-27/
LOCATION:Middletown YMCA\, 202 E Cochbran St\, Middletown\, DE\, 19709\, United States
ATTACH;FMTTYPE=image/png:https://pdde.org/wp-content/uploads/2024/09/Pedaling-for-Parkinsons-logo-transp-300x300-1.png
ORGANIZER;CN="Davis Phinney Foundation":MAILTO:healthyliving@ymcade.org
END:VEVENT
BEGIN:VEVENT
DTSTART;TZID=UTC:20251024T123000
DTEND;TZID=UTC:20251024T133000
DTSTAMP:20260424T160630
CREATED:20240919T185517Z
LAST-MODIFIED:20240919T185517Z
UID:10002591-1761309000-1761312600@pdde.org
SUMMARY:Dover YMCA - Pedaling for Parkinson's Powered by the Davis Phinney Foundation
DESCRIPTION:Learn how you can feel better and build community by joining a Pedaling for Parkinson’s class in your community! Learn more about the class here.
URL:https://pdde.org/event/dover-ymca-pedaling-for-parkinsons-powered-by-the-davis-phinney-foundation/2025-10-24/
LOCATION:Dover YMCA\, 1137 S. State St\, Dover\, DE\, 19901\, United States
ATTACH;FMTTYPE=image/png:https://pdde.org/wp-content/uploads/2024/09/Pedaling-for-Parkinsons-logo-transp-300x300-1.png
ORGANIZER;CN="Davis Phinney Foundation":MAILTO:healthyliving@ymcade.org
END:VEVENT
BEGIN:VEVENT
DTSTART;TZID=UTC:20251024T110000
DTEND;TZID=UTC:20251024T120000
DTSTAMP:20260424T160630
CREATED:20240919T185452Z
LAST-MODIFIED:20240919T185452Z
UID:10001808-1761303600-1761307200@pdde.org
SUMMARY:Middletown YMCA - Pedaling for Parkinson's Powered by the Davis Phinney Foundation
DESCRIPTION:Learn how you can feel better and build community by joining a Pedaling for Parkinson’s class in your community! Learn more about the class here.
URL:https://pdde.org/event/middletown-ymca-pedaling-for-parkinsons-powered-by-the-davis-phinney-foundation/2025-10-24/
LOCATION:Middletown YMCA\, 202 E Cochbran St\, Middletown\, DE\, 19709\, United States
ATTACH;FMTTYPE=image/png:https://pdde.org/wp-content/uploads/2024/09/Pedaling-for-Parkinsons-logo-transp-300x300-1.png
ORGANIZER;CN="Davis Phinney Foundation":MAILTO:healthyliving@ymcade.org
END:VEVENT
BEGIN:VEVENT
DTSTART;TZID=UTC:20251023T191500
DTEND;TZID=UTC:20251023T201500
DTSTAMP:20260424T160630
CREATED:20240919T185547Z
LAST-MODIFIED:20240919T185547Z
UID:10003374-1761246900-1761250500@pdde.org
SUMMARY:Brandywine YMCA - Pedaling for Parkinson's Powered by the Davis Phinney Foundation
DESCRIPTION:Learn how you can feel better and build community by joining a Pedaling for Parkinson’s class in your community! Learn more about the class here.
URL:https://pdde.org/event/brandywine-ymca-pedaling-for-parkinsons-powered-by-the-davis-phinney-foundation/2025-10-23/
LOCATION:Brandywine YMCA\, 3 Mt Lebanon Rd\, Wilmington\, DE\, 19803\, United States
ATTACH;FMTTYPE=image/png:https://pdde.org/wp-content/uploads/2024/09/Pedaling-for-Parkinsons-logo-transp-300x300-1.png
ORGANIZER;CN="Davis Phinney Foundation":MAILTO:healthyliving@ymcade.org
END:VEVENT
BEGIN:VEVENT
DTSTART;TZID=UTC:20251022T191500
DTEND;TZID=UTC:20251022T201500
DTSTAMP:20260424T160630
CREATED:20240919T185547Z
LAST-MODIFIED:20240919T185547Z
UID:10003373-1761160500-1761164100@pdde.org
SUMMARY:Brandywine YMCA - Pedaling for Parkinson's Powered by the Davis Phinney Foundation
DESCRIPTION:Learn how you can feel better and build community by joining a Pedaling for Parkinson’s class in your community! Learn more about the class here.
URL:https://pdde.org/event/brandywine-ymca-pedaling-for-parkinsons-powered-by-the-davis-phinney-foundation/2025-10-22/
LOCATION:Brandywine YMCA\, 3 Mt Lebanon Rd\, Wilmington\, DE\, 19803\, United States
ATTACH;FMTTYPE=image/png:https://pdde.org/wp-content/uploads/2024/09/Pedaling-for-Parkinsons-logo-transp-300x300-1.png
ORGANIZER;CN="Davis Phinney Foundation":MAILTO:healthyliving@ymcade.org
END:VEVENT
BEGIN:VEVENT
DTSTART;TZID=UTC:20251022T123000
DTEND;TZID=UTC:20251022T133000
DTSTAMP:20260424T160630
CREATED:20240919T185517Z
LAST-MODIFIED:20240919T185517Z
UID:10002590-1761136200-1761139800@pdde.org
SUMMARY:Dover YMCA - Pedaling for Parkinson's Powered by the Davis Phinney Foundation
DESCRIPTION:Learn how you can feel better and build community by joining a Pedaling for Parkinson’s class in your community! Learn more about the class here.
URL:https://pdde.org/event/dover-ymca-pedaling-for-parkinsons-powered-by-the-davis-phinney-foundation/2025-10-22/
LOCATION:Dover YMCA\, 1137 S. State St\, Dover\, DE\, 19901\, United States
ATTACH;FMTTYPE=image/png:https://pdde.org/wp-content/uploads/2024/09/Pedaling-for-Parkinsons-logo-transp-300x300-1.png
ORGANIZER;CN="Davis Phinney Foundation":MAILTO:healthyliving@ymcade.org
END:VEVENT
BEGIN:VEVENT
DTSTART;TZID=UTC:20251022T110000
DTEND;TZID=UTC:20251022T120000
DTSTAMP:20260424T160630
CREATED:20240919T185452Z
LAST-MODIFIED:20240919T185452Z
UID:10001807-1761130800-1761134400@pdde.org
SUMMARY:Middletown YMCA - Pedaling for Parkinson's Powered by the Davis Phinney Foundation
DESCRIPTION:Learn how you can feel better and build community by joining a Pedaling for Parkinson’s class in your community! Learn more about the class here.
URL:https://pdde.org/event/middletown-ymca-pedaling-for-parkinsons-powered-by-the-davis-phinney-foundation/2025-10-22/
LOCATION:Middletown YMCA\, 202 E Cochbran St\, Middletown\, DE\, 19709\, United States
ATTACH;FMTTYPE=image/png:https://pdde.org/wp-content/uploads/2024/09/Pedaling-for-Parkinsons-logo-transp-300x300-1.png
ORGANIZER;CN="Davis Phinney Foundation":MAILTO:healthyliving@ymcade.org
END:VEVENT
BEGIN:VEVENT
DTSTART;TZID=UTC:20251020T191500
DTEND;TZID=UTC:20251020T201500
DTSTAMP:20260424T160630
CREATED:20240919T185547Z
LAST-MODIFIED:20240919T185547Z
UID:10003372-1760987700-1760991300@pdde.org
SUMMARY:Brandywine YMCA - Pedaling for Parkinson's Powered by the Davis Phinney Foundation
DESCRIPTION:Learn how you can feel better and build community by joining a Pedaling for Parkinson’s class in your community! Learn more about the class here.
URL:https://pdde.org/event/brandywine-ymca-pedaling-for-parkinsons-powered-by-the-davis-phinney-foundation/2025-10-20/
LOCATION:Brandywine YMCA\, 3 Mt Lebanon Rd\, Wilmington\, DE\, 19803\, United States
ATTACH;FMTTYPE=image/png:https://pdde.org/wp-content/uploads/2024/09/Pedaling-for-Parkinsons-logo-transp-300x300-1.png
ORGANIZER;CN="Davis Phinney Foundation":MAILTO:healthyliving@ymcade.org
END:VEVENT
BEGIN:VEVENT
DTSTART;TZID=UTC:20251020T123000
DTEND;TZID=UTC:20251020T133000
DTSTAMP:20260424T160630
CREATED:20240919T185517Z
LAST-MODIFIED:20240919T185517Z
UID:10002589-1760963400-1760967000@pdde.org
SUMMARY:Dover YMCA - Pedaling for Parkinson's Powered by the Davis Phinney Foundation
DESCRIPTION:Learn how you can feel better and build community by joining a Pedaling for Parkinson’s class in your community! Learn more about the class here.
URL:https://pdde.org/event/dover-ymca-pedaling-for-parkinsons-powered-by-the-davis-phinney-foundation/2025-10-20/
LOCATION:Dover YMCA\, 1137 S. State St\, Dover\, DE\, 19901\, United States
ATTACH;FMTTYPE=image/png:https://pdde.org/wp-content/uploads/2024/09/Pedaling-for-Parkinsons-logo-transp-300x300-1.png
ORGANIZER;CN="Davis Phinney Foundation":MAILTO:healthyliving@ymcade.org
END:VEVENT
BEGIN:VEVENT
DTSTART;TZID=UTC:20251020T110000
DTEND;TZID=UTC:20251020T120000
DTSTAMP:20260424T160630
CREATED:20240919T185452Z
LAST-MODIFIED:20240919T185452Z
UID:10001806-1760958000-1760961600@pdde.org
SUMMARY:Middletown YMCA - Pedaling for Parkinson's Powered by the Davis Phinney Foundation
DESCRIPTION:Learn how you can feel better and build community by joining a Pedaling for Parkinson’s class in your community! Learn more about the class here.
URL:https://pdde.org/event/middletown-ymca-pedaling-for-parkinsons-powered-by-the-davis-phinney-foundation/2025-10-20/
LOCATION:Middletown YMCA\, 202 E Cochbran St\, Middletown\, DE\, 19709\, United States
ATTACH;FMTTYPE=image/png:https://pdde.org/wp-content/uploads/2024/09/Pedaling-for-Parkinsons-logo-transp-300x300-1.png
ORGANIZER;CN="Davis Phinney Foundation":MAILTO:healthyliving@ymcade.org
END:VEVENT
BEGIN:VEVENT
DTSTART;TZID=UTC:20251017T123000
DTEND;TZID=UTC:20251017T133000
DTSTAMP:20260424T160630
CREATED:20240919T185517Z
LAST-MODIFIED:20240919T185517Z
UID:10002588-1760704200-1760707800@pdde.org
SUMMARY:Dover YMCA - Pedaling for Parkinson's Powered by the Davis Phinney Foundation
DESCRIPTION:Learn how you can feel better and build community by joining a Pedaling for Parkinson’s class in your community! Learn more about the class here.
URL:https://pdde.org/event/dover-ymca-pedaling-for-parkinsons-powered-by-the-davis-phinney-foundation/2025-10-17/
LOCATION:Dover YMCA\, 1137 S. State St\, Dover\, DE\, 19901\, United States
ATTACH;FMTTYPE=image/png:https://pdde.org/wp-content/uploads/2024/09/Pedaling-for-Parkinsons-logo-transp-300x300-1.png
ORGANIZER;CN="Davis Phinney Foundation":MAILTO:healthyliving@ymcade.org
END:VEVENT
BEGIN:VEVENT
DTSTART;TZID=UTC:20251017T110000
DTEND;TZID=UTC:20251017T120000
DTSTAMP:20260424T160630
CREATED:20240919T185452Z
LAST-MODIFIED:20240919T185452Z
UID:10001805-1760698800-1760702400@pdde.org
SUMMARY:Middletown YMCA - Pedaling for Parkinson's Powered by the Davis Phinney Foundation
DESCRIPTION:Learn how you can feel better and build community by joining a Pedaling for Parkinson’s class in your community! Learn more about the class here.
URL:https://pdde.org/event/middletown-ymca-pedaling-for-parkinsons-powered-by-the-davis-phinney-foundation/2025-10-17/
LOCATION:Middletown YMCA\, 202 E Cochbran St\, Middletown\, DE\, 19709\, United States
ATTACH;FMTTYPE=image/png:https://pdde.org/wp-content/uploads/2024/09/Pedaling-for-Parkinsons-logo-transp-300x300-1.png
ORGANIZER;CN="Davis Phinney Foundation":MAILTO:healthyliving@ymcade.org
END:VEVENT
BEGIN:VEVENT
DTSTART;TZID=UTC:20251016T191500
DTEND;TZID=UTC:20251016T201500
DTSTAMP:20260424T160630
CREATED:20240919T185547Z
LAST-MODIFIED:20240919T185547Z
UID:10003371-1760642100-1760645700@pdde.org
SUMMARY:Brandywine YMCA - Pedaling for Parkinson's Powered by the Davis Phinney Foundation
DESCRIPTION:Learn how you can feel better and build community by joining a Pedaling for Parkinson’s class in your community! Learn more about the class here.
URL:https://pdde.org/event/brandywine-ymca-pedaling-for-parkinsons-powered-by-the-davis-phinney-foundation/2025-10-16/
LOCATION:Brandywine YMCA\, 3 Mt Lebanon Rd\, Wilmington\, DE\, 19803\, United States
ATTACH;FMTTYPE=image/png:https://pdde.org/wp-content/uploads/2024/09/Pedaling-for-Parkinsons-logo-transp-300x300-1.png
ORGANIZER;CN="Davis Phinney Foundation":MAILTO:healthyliving@ymcade.org
END:VEVENT
END:VCALENDAR