BEGIN:VCALENDAR
VERSION:2.0
PRODID:-//PDDE - ECPv6.15.20//NONSGML v1.0//EN
CALSCALE:GREGORIAN
METHOD:PUBLISH
X-WR-CALNAME:PDDE
X-ORIGINAL-URL:https://pdde.org
X-WR-CALDESC:Events for PDDE
REFRESH-INTERVAL;VALUE=DURATION:PT1H
X-Robots-Tag:noindex
X-PUBLISHED-TTL:PT1H
BEGIN:VTIMEZONE
TZID:UTC
BEGIN:STANDARD
TZOFFSETFROM:+0000
TZOFFSETTO:+0000
TZNAME:UTC
DTSTART:20240101T000000
END:STANDARD
END:VTIMEZONE
BEGIN:VEVENT
DTSTART;TZID=UTC:20251224T110000
DTEND;TZID=UTC:20251224T120000
DTSTAMP:20260423T225345
CREATED:20240919T185452Z
LAST-MODIFIED:20240919T185452Z
UID:10001834-1766574000-1766577600@pdde.org
SUMMARY:Middletown YMCA - Pedaling for Parkinson's Powered by the Davis Phinney Foundation
DESCRIPTION:Learn how you can feel better and build community by joining a Pedaling for Parkinson’s class in your community! Learn more about the class here.
URL:https://pdde.org/event/middletown-ymca-pedaling-for-parkinsons-powered-by-the-davis-phinney-foundation/2025-12-24/
LOCATION:Middletown YMCA\, 202 E Cochbran St\, Middletown\, DE\, 19709\, United States
ATTACH;FMTTYPE=image/png:https://pdde.org/wp-content/uploads/2024/09/Pedaling-for-Parkinsons-logo-transp-300x300-1.png
ORGANIZER;CN="Davis Phinney Foundation":MAILTO:healthyliving@ymcade.org
END:VEVENT
BEGIN:VEVENT
DTSTART;TZID=UTC:20251222T191500
DTEND;TZID=UTC:20251222T201500
DTSTAMP:20260423T225345
CREATED:20240919T185547Z
LAST-MODIFIED:20240919T185547Z
UID:10003399-1766430900-1766434500@pdde.org
SUMMARY:Brandywine YMCA - Pedaling for Parkinson's Powered by the Davis Phinney Foundation
DESCRIPTION:Learn how you can feel better and build community by joining a Pedaling for Parkinson’s class in your community! Learn more about the class here.
URL:https://pdde.org/event/brandywine-ymca-pedaling-for-parkinsons-powered-by-the-davis-phinney-foundation/2025-12-22/
LOCATION:Brandywine YMCA\, 3 Mt Lebanon Rd\, Wilmington\, DE\, 19803\, United States
ATTACH;FMTTYPE=image/png:https://pdde.org/wp-content/uploads/2024/09/Pedaling-for-Parkinsons-logo-transp-300x300-1.png
ORGANIZER;CN="Davis Phinney Foundation":MAILTO:healthyliving@ymcade.org
END:VEVENT
BEGIN:VEVENT
DTSTART;TZID=UTC:20251222T123000
DTEND;TZID=UTC:20251222T133000
DTSTAMP:20260423T225345
CREATED:20240919T185517Z
LAST-MODIFIED:20240919T185517Z
UID:10002616-1766406600-1766410200@pdde.org
SUMMARY:Dover YMCA - Pedaling for Parkinson's Powered by the Davis Phinney Foundation
DESCRIPTION:Learn how you can feel better and build community by joining a Pedaling for Parkinson’s class in your community! Learn more about the class here.
URL:https://pdde.org/event/dover-ymca-pedaling-for-parkinsons-powered-by-the-davis-phinney-foundation/2025-12-22/
LOCATION:Dover YMCA\, 1137 S. State St\, Dover\, DE\, 19901\, United States
ATTACH;FMTTYPE=image/png:https://pdde.org/wp-content/uploads/2024/09/Pedaling-for-Parkinsons-logo-transp-300x300-1.png
ORGANIZER;CN="Davis Phinney Foundation":MAILTO:healthyliving@ymcade.org
END:VEVENT
BEGIN:VEVENT
DTSTART;TZID=UTC:20251222T110000
DTEND;TZID=UTC:20251222T120000
DTSTAMP:20260423T225345
CREATED:20240919T185452Z
LAST-MODIFIED:20240919T185452Z
UID:10001833-1766401200-1766404800@pdde.org
SUMMARY:Middletown YMCA - Pedaling for Parkinson's Powered by the Davis Phinney Foundation
DESCRIPTION:Learn how you can feel better and build community by joining a Pedaling for Parkinson’s class in your community! Learn more about the class here.
URL:https://pdde.org/event/middletown-ymca-pedaling-for-parkinsons-powered-by-the-davis-phinney-foundation/2025-12-22/
LOCATION:Middletown YMCA\, 202 E Cochbran St\, Middletown\, DE\, 19709\, United States
ATTACH;FMTTYPE=image/png:https://pdde.org/wp-content/uploads/2024/09/Pedaling-for-Parkinsons-logo-transp-300x300-1.png
ORGANIZER;CN="Davis Phinney Foundation":MAILTO:healthyliving@ymcade.org
END:VEVENT
BEGIN:VEVENT
DTSTART;TZID=UTC:20251219T123000
DTEND;TZID=UTC:20251219T133000
DTSTAMP:20260423T225345
CREATED:20240919T185517Z
LAST-MODIFIED:20240919T185517Z
UID:10002615-1766147400-1766151000@pdde.org
SUMMARY:Dover YMCA - Pedaling for Parkinson's Powered by the Davis Phinney Foundation
DESCRIPTION:Learn how you can feel better and build community by joining a Pedaling for Parkinson’s class in your community! Learn more about the class here.
URL:https://pdde.org/event/dover-ymca-pedaling-for-parkinsons-powered-by-the-davis-phinney-foundation/2025-12-19/
LOCATION:Dover YMCA\, 1137 S. State St\, Dover\, DE\, 19901\, United States
ATTACH;FMTTYPE=image/png:https://pdde.org/wp-content/uploads/2024/09/Pedaling-for-Parkinsons-logo-transp-300x300-1.png
ORGANIZER;CN="Davis Phinney Foundation":MAILTO:healthyliving@ymcade.org
END:VEVENT
BEGIN:VEVENT
DTSTART;TZID=UTC:20251219T110000
DTEND;TZID=UTC:20251219T120000
DTSTAMP:20260423T225345
CREATED:20240919T185452Z
LAST-MODIFIED:20240919T185452Z
UID:10001832-1766142000-1766145600@pdde.org
SUMMARY:Middletown YMCA - Pedaling for Parkinson's Powered by the Davis Phinney Foundation
DESCRIPTION:Learn how you can feel better and build community by joining a Pedaling for Parkinson’s class in your community! Learn more about the class here.
URL:https://pdde.org/event/middletown-ymca-pedaling-for-parkinsons-powered-by-the-davis-phinney-foundation/2025-12-19/
LOCATION:Middletown YMCA\, 202 E Cochbran St\, Middletown\, DE\, 19709\, United States
ATTACH;FMTTYPE=image/png:https://pdde.org/wp-content/uploads/2024/09/Pedaling-for-Parkinsons-logo-transp-300x300-1.png
ORGANIZER;CN="Davis Phinney Foundation":MAILTO:healthyliving@ymcade.org
END:VEVENT
BEGIN:VEVENT
DTSTART;TZID=UTC:20251218T191500
DTEND;TZID=UTC:20251218T201500
DTSTAMP:20260423T225345
CREATED:20240919T185547Z
LAST-MODIFIED:20240919T185547Z
UID:10003398-1766085300-1766088900@pdde.org
SUMMARY:Brandywine YMCA - Pedaling for Parkinson's Powered by the Davis Phinney Foundation
DESCRIPTION:Learn how you can feel better and build community by joining a Pedaling for Parkinson’s class in your community! Learn more about the class here.
URL:https://pdde.org/event/brandywine-ymca-pedaling-for-parkinsons-powered-by-the-davis-phinney-foundation/2025-12-18/
LOCATION:Brandywine YMCA\, 3 Mt Lebanon Rd\, Wilmington\, DE\, 19803\, United States
ATTACH;FMTTYPE=image/png:https://pdde.org/wp-content/uploads/2024/09/Pedaling-for-Parkinsons-logo-transp-300x300-1.png
ORGANIZER;CN="Davis Phinney Foundation":MAILTO:healthyliving@ymcade.org
END:VEVENT
BEGIN:VEVENT
DTSTART;TZID=UTC:20251217T191500
DTEND;TZID=UTC:20251217T201500
DTSTAMP:20260423T225345
CREATED:20240919T185547Z
LAST-MODIFIED:20240919T185547Z
UID:10003397-1765998900-1766002500@pdde.org
SUMMARY:Brandywine YMCA - Pedaling for Parkinson's Powered by the Davis Phinney Foundation
DESCRIPTION:Learn how you can feel better and build community by joining a Pedaling for Parkinson’s class in your community! Learn more about the class here.
URL:https://pdde.org/event/brandywine-ymca-pedaling-for-parkinsons-powered-by-the-davis-phinney-foundation/2025-12-17/
LOCATION:Brandywine YMCA\, 3 Mt Lebanon Rd\, Wilmington\, DE\, 19803\, United States
ATTACH;FMTTYPE=image/png:https://pdde.org/wp-content/uploads/2024/09/Pedaling-for-Parkinsons-logo-transp-300x300-1.png
ORGANIZER;CN="Davis Phinney Foundation":MAILTO:healthyliving@ymcade.org
END:VEVENT
BEGIN:VEVENT
DTSTART;TZID=UTC:20251217T123000
DTEND;TZID=UTC:20251217T133000
DTSTAMP:20260423T225345
CREATED:20240919T185517Z
LAST-MODIFIED:20240919T185517Z
UID:10002614-1765974600-1765978200@pdde.org
SUMMARY:Dover YMCA - Pedaling for Parkinson's Powered by the Davis Phinney Foundation
DESCRIPTION:Learn how you can feel better and build community by joining a Pedaling for Parkinson’s class in your community! Learn more about the class here.
URL:https://pdde.org/event/dover-ymca-pedaling-for-parkinsons-powered-by-the-davis-phinney-foundation/2025-12-17/
LOCATION:Dover YMCA\, 1137 S. State St\, Dover\, DE\, 19901\, United States
ATTACH;FMTTYPE=image/png:https://pdde.org/wp-content/uploads/2024/09/Pedaling-for-Parkinsons-logo-transp-300x300-1.png
ORGANIZER;CN="Davis Phinney Foundation":MAILTO:healthyliving@ymcade.org
END:VEVENT
BEGIN:VEVENT
DTSTART;TZID=UTC:20251217T110000
DTEND;TZID=UTC:20251217T120000
DTSTAMP:20260423T225345
CREATED:20240919T185452Z
LAST-MODIFIED:20240919T185452Z
UID:10001831-1765969200-1765972800@pdde.org
SUMMARY:Middletown YMCA - Pedaling for Parkinson's Powered by the Davis Phinney Foundation
DESCRIPTION:Learn how you can feel better and build community by joining a Pedaling for Parkinson’s class in your community! Learn more about the class here.
URL:https://pdde.org/event/middletown-ymca-pedaling-for-parkinsons-powered-by-the-davis-phinney-foundation/2025-12-17/
LOCATION:Middletown YMCA\, 202 E Cochbran St\, Middletown\, DE\, 19709\, United States
ATTACH;FMTTYPE=image/png:https://pdde.org/wp-content/uploads/2024/09/Pedaling-for-Parkinsons-logo-transp-300x300-1.png
ORGANIZER;CN="Davis Phinney Foundation":MAILTO:healthyliving@ymcade.org
END:VEVENT
BEGIN:VEVENT
DTSTART;TZID=UTC:20251215T191500
DTEND;TZID=UTC:20251215T201500
DTSTAMP:20260423T225345
CREATED:20240919T185547Z
LAST-MODIFIED:20240919T185547Z
UID:10003396-1765826100-1765829700@pdde.org
SUMMARY:Brandywine YMCA - Pedaling for Parkinson's Powered by the Davis Phinney Foundation
DESCRIPTION:Learn how you can feel better and build community by joining a Pedaling for Parkinson’s class in your community! Learn more about the class here.
URL:https://pdde.org/event/brandywine-ymca-pedaling-for-parkinsons-powered-by-the-davis-phinney-foundation/2025-12-15/
LOCATION:Brandywine YMCA\, 3 Mt Lebanon Rd\, Wilmington\, DE\, 19803\, United States
ATTACH;FMTTYPE=image/png:https://pdde.org/wp-content/uploads/2024/09/Pedaling-for-Parkinsons-logo-transp-300x300-1.png
ORGANIZER;CN="Davis Phinney Foundation":MAILTO:healthyliving@ymcade.org
END:VEVENT
BEGIN:VEVENT
DTSTART;TZID=UTC:20251215T123000
DTEND;TZID=UTC:20251215T133000
DTSTAMP:20260423T225345
CREATED:20240919T185517Z
LAST-MODIFIED:20240919T185517Z
UID:10002613-1765801800-1765805400@pdde.org
SUMMARY:Dover YMCA - Pedaling for Parkinson's Powered by the Davis Phinney Foundation
DESCRIPTION:Learn how you can feel better and build community by joining a Pedaling for Parkinson’s class in your community! Learn more about the class here.
URL:https://pdde.org/event/dover-ymca-pedaling-for-parkinsons-powered-by-the-davis-phinney-foundation/2025-12-15/
LOCATION:Dover YMCA\, 1137 S. State St\, Dover\, DE\, 19901\, United States
ATTACH;FMTTYPE=image/png:https://pdde.org/wp-content/uploads/2024/09/Pedaling-for-Parkinsons-logo-transp-300x300-1.png
ORGANIZER;CN="Davis Phinney Foundation":MAILTO:healthyliving@ymcade.org
END:VEVENT
BEGIN:VEVENT
DTSTART;TZID=UTC:20251215T110000
DTEND;TZID=UTC:20251215T120000
DTSTAMP:20260423T225345
CREATED:20240919T185452Z
LAST-MODIFIED:20240919T185452Z
UID:10001830-1765796400-1765800000@pdde.org
SUMMARY:Middletown YMCA - Pedaling for Parkinson's Powered by the Davis Phinney Foundation
DESCRIPTION:Learn how you can feel better and build community by joining a Pedaling for Parkinson’s class in your community! Learn more about the class here.
URL:https://pdde.org/event/middletown-ymca-pedaling-for-parkinsons-powered-by-the-davis-phinney-foundation/2025-12-15/
LOCATION:Middletown YMCA\, 202 E Cochbran St\, Middletown\, DE\, 19709\, United States
ATTACH;FMTTYPE=image/png:https://pdde.org/wp-content/uploads/2024/09/Pedaling-for-Parkinsons-logo-transp-300x300-1.png
ORGANIZER;CN="Davis Phinney Foundation":MAILTO:healthyliving@ymcade.org
END:VEVENT
BEGIN:VEVENT
DTSTART;TZID=UTC:20251212T123000
DTEND;TZID=UTC:20251212T133000
DTSTAMP:20260423T225345
CREATED:20240919T185517Z
LAST-MODIFIED:20240919T185517Z
UID:10002612-1765542600-1765546200@pdde.org
SUMMARY:Dover YMCA - Pedaling for Parkinson's Powered by the Davis Phinney Foundation
DESCRIPTION:Learn how you can feel better and build community by joining a Pedaling for Parkinson’s class in your community! Learn more about the class here.
URL:https://pdde.org/event/dover-ymca-pedaling-for-parkinsons-powered-by-the-davis-phinney-foundation/2025-12-12/
LOCATION:Dover YMCA\, 1137 S. State St\, Dover\, DE\, 19901\, United States
ATTACH;FMTTYPE=image/png:https://pdde.org/wp-content/uploads/2024/09/Pedaling-for-Parkinsons-logo-transp-300x300-1.png
ORGANIZER;CN="Davis Phinney Foundation":MAILTO:healthyliving@ymcade.org
END:VEVENT
BEGIN:VEVENT
DTSTART;TZID=UTC:20251212T110000
DTEND;TZID=UTC:20251212T120000
DTSTAMP:20260423T225345
CREATED:20240919T185452Z
LAST-MODIFIED:20240919T185452Z
UID:10001829-1765537200-1765540800@pdde.org
SUMMARY:Middletown YMCA - Pedaling for Parkinson's Powered by the Davis Phinney Foundation
DESCRIPTION:Learn how you can feel better and build community by joining a Pedaling for Parkinson’s class in your community! Learn more about the class here.
URL:https://pdde.org/event/middletown-ymca-pedaling-for-parkinsons-powered-by-the-davis-phinney-foundation/2025-12-12/
LOCATION:Middletown YMCA\, 202 E Cochbran St\, Middletown\, DE\, 19709\, United States
ATTACH;FMTTYPE=image/png:https://pdde.org/wp-content/uploads/2024/09/Pedaling-for-Parkinsons-logo-transp-300x300-1.png
ORGANIZER;CN="Davis Phinney Foundation":MAILTO:healthyliving@ymcade.org
END:VEVENT
BEGIN:VEVENT
DTSTART;TZID=UTC:20251211T191500
DTEND;TZID=UTC:20251211T201500
DTSTAMP:20260423T225345
CREATED:20240919T185547Z
LAST-MODIFIED:20240919T185547Z
UID:10003395-1765480500-1765484100@pdde.org
SUMMARY:Brandywine YMCA - Pedaling for Parkinson's Powered by the Davis Phinney Foundation
DESCRIPTION:Learn how you can feel better and build community by joining a Pedaling for Parkinson’s class in your community! Learn more about the class here.
URL:https://pdde.org/event/brandywine-ymca-pedaling-for-parkinsons-powered-by-the-davis-phinney-foundation/2025-12-11/
LOCATION:Brandywine YMCA\, 3 Mt Lebanon Rd\, Wilmington\, DE\, 19803\, United States
ATTACH;FMTTYPE=image/png:https://pdde.org/wp-content/uploads/2024/09/Pedaling-for-Parkinsons-logo-transp-300x300-1.png
ORGANIZER;CN="Davis Phinney Foundation":MAILTO:healthyliving@ymcade.org
END:VEVENT
BEGIN:VEVENT
DTSTART;TZID=UTC:20251210T191500
DTEND;TZID=UTC:20251210T201500
DTSTAMP:20260423T225345
CREATED:20240919T185547Z
LAST-MODIFIED:20240919T185547Z
UID:10003394-1765394100-1765397700@pdde.org
SUMMARY:Brandywine YMCA - Pedaling for Parkinson's Powered by the Davis Phinney Foundation
DESCRIPTION:Learn how you can feel better and build community by joining a Pedaling for Parkinson’s class in your community! Learn more about the class here.
URL:https://pdde.org/event/brandywine-ymca-pedaling-for-parkinsons-powered-by-the-davis-phinney-foundation/2025-12-10/
LOCATION:Brandywine YMCA\, 3 Mt Lebanon Rd\, Wilmington\, DE\, 19803\, United States
ATTACH;FMTTYPE=image/png:https://pdde.org/wp-content/uploads/2024/09/Pedaling-for-Parkinsons-logo-transp-300x300-1.png
ORGANIZER;CN="Davis Phinney Foundation":MAILTO:healthyliving@ymcade.org
END:VEVENT
BEGIN:VEVENT
DTSTART;TZID=UTC:20251210T123000
DTEND;TZID=UTC:20251210T133000
DTSTAMP:20260423T225345
CREATED:20240919T185517Z
LAST-MODIFIED:20240919T185517Z
UID:10002611-1765369800-1765373400@pdde.org
SUMMARY:Dover YMCA - Pedaling for Parkinson's Powered by the Davis Phinney Foundation
DESCRIPTION:Learn how you can feel better and build community by joining a Pedaling for Parkinson’s class in your community! Learn more about the class here.
URL:https://pdde.org/event/dover-ymca-pedaling-for-parkinsons-powered-by-the-davis-phinney-foundation/2025-12-10/
LOCATION:Dover YMCA\, 1137 S. State St\, Dover\, DE\, 19901\, United States
ATTACH;FMTTYPE=image/png:https://pdde.org/wp-content/uploads/2024/09/Pedaling-for-Parkinsons-logo-transp-300x300-1.png
ORGANIZER;CN="Davis Phinney Foundation":MAILTO:healthyliving@ymcade.org
END:VEVENT
BEGIN:VEVENT
DTSTART;TZID=UTC:20251210T110000
DTEND;TZID=UTC:20251210T120000
DTSTAMP:20260423T225345
CREATED:20240919T185452Z
LAST-MODIFIED:20240919T185452Z
UID:10001828-1765364400-1765368000@pdde.org
SUMMARY:Middletown YMCA - Pedaling for Parkinson's Powered by the Davis Phinney Foundation
DESCRIPTION:Learn how you can feel better and build community by joining a Pedaling for Parkinson’s class in your community! Learn more about the class here.
URL:https://pdde.org/event/middletown-ymca-pedaling-for-parkinsons-powered-by-the-davis-phinney-foundation/2025-12-10/
LOCATION:Middletown YMCA\, 202 E Cochbran St\, Middletown\, DE\, 19709\, United States
ATTACH;FMTTYPE=image/png:https://pdde.org/wp-content/uploads/2024/09/Pedaling-for-Parkinsons-logo-transp-300x300-1.png
ORGANIZER;CN="Davis Phinney Foundation":MAILTO:healthyliving@ymcade.org
END:VEVENT
BEGIN:VEVENT
DTSTART;TZID=UTC:20251208T191500
DTEND;TZID=UTC:20251208T201500
DTSTAMP:20260423T225345
CREATED:20240919T185547Z
LAST-MODIFIED:20240919T185547Z
UID:10003393-1765221300-1765224900@pdde.org
SUMMARY:Brandywine YMCA - Pedaling for Parkinson's Powered by the Davis Phinney Foundation
DESCRIPTION:Learn how you can feel better and build community by joining a Pedaling for Parkinson’s class in your community! Learn more about the class here.
URL:https://pdde.org/event/brandywine-ymca-pedaling-for-parkinsons-powered-by-the-davis-phinney-foundation/2025-12-08/
LOCATION:Brandywine YMCA\, 3 Mt Lebanon Rd\, Wilmington\, DE\, 19803\, United States
ATTACH;FMTTYPE=image/png:https://pdde.org/wp-content/uploads/2024/09/Pedaling-for-Parkinsons-logo-transp-300x300-1.png
ORGANIZER;CN="Davis Phinney Foundation":MAILTO:healthyliving@ymcade.org
END:VEVENT
BEGIN:VEVENT
DTSTART;TZID=UTC:20251208T123000
DTEND;TZID=UTC:20251208T133000
DTSTAMP:20260423T225345
CREATED:20240919T185517Z
LAST-MODIFIED:20240919T185517Z
UID:10002610-1765197000-1765200600@pdde.org
SUMMARY:Dover YMCA - Pedaling for Parkinson's Powered by the Davis Phinney Foundation
DESCRIPTION:Learn how you can feel better and build community by joining a Pedaling for Parkinson’s class in your community! Learn more about the class here.
URL:https://pdde.org/event/dover-ymca-pedaling-for-parkinsons-powered-by-the-davis-phinney-foundation/2025-12-08/
LOCATION:Dover YMCA\, 1137 S. State St\, Dover\, DE\, 19901\, United States
ATTACH;FMTTYPE=image/png:https://pdde.org/wp-content/uploads/2024/09/Pedaling-for-Parkinsons-logo-transp-300x300-1.png
ORGANIZER;CN="Davis Phinney Foundation":MAILTO:healthyliving@ymcade.org
END:VEVENT
BEGIN:VEVENT
DTSTART;TZID=UTC:20251208T110000
DTEND;TZID=UTC:20251208T120000
DTSTAMP:20260423T225345
CREATED:20240919T185452Z
LAST-MODIFIED:20240919T185452Z
UID:10001827-1765191600-1765195200@pdde.org
SUMMARY:Middletown YMCA - Pedaling for Parkinson's Powered by the Davis Phinney Foundation
DESCRIPTION:Learn how you can feel better and build community by joining a Pedaling for Parkinson’s class in your community! Learn more about the class here.
URL:https://pdde.org/event/middletown-ymca-pedaling-for-parkinsons-powered-by-the-davis-phinney-foundation/2025-12-08/
LOCATION:Middletown YMCA\, 202 E Cochbran St\, Middletown\, DE\, 19709\, United States
ATTACH;FMTTYPE=image/png:https://pdde.org/wp-content/uploads/2024/09/Pedaling-for-Parkinsons-logo-transp-300x300-1.png
ORGANIZER;CN="Davis Phinney Foundation":MAILTO:healthyliving@ymcade.org
END:VEVENT
BEGIN:VEVENT
DTSTART;TZID=UTC:20251205T123000
DTEND;TZID=UTC:20251205T133000
DTSTAMP:20260423T225345
CREATED:20240919T185517Z
LAST-MODIFIED:20240919T185517Z
UID:10002609-1764937800-1764941400@pdde.org
SUMMARY:Dover YMCA - Pedaling for Parkinson's Powered by the Davis Phinney Foundation
DESCRIPTION:Learn how you can feel better and build community by joining a Pedaling for Parkinson’s class in your community! Learn more about the class here.
URL:https://pdde.org/event/dover-ymca-pedaling-for-parkinsons-powered-by-the-davis-phinney-foundation/2025-12-05/
LOCATION:Dover YMCA\, 1137 S. State St\, Dover\, DE\, 19901\, United States
ATTACH;FMTTYPE=image/png:https://pdde.org/wp-content/uploads/2024/09/Pedaling-for-Parkinsons-logo-transp-300x300-1.png
ORGANIZER;CN="Davis Phinney Foundation":MAILTO:healthyliving@ymcade.org
END:VEVENT
BEGIN:VEVENT
DTSTART;TZID=UTC:20251205T110000
DTEND;TZID=UTC:20251205T120000
DTSTAMP:20260423T225345
CREATED:20240919T185452Z
LAST-MODIFIED:20240919T185452Z
UID:10001826-1764932400-1764936000@pdde.org
SUMMARY:Middletown YMCA - Pedaling for Parkinson's Powered by the Davis Phinney Foundation
DESCRIPTION:Learn how you can feel better and build community by joining a Pedaling for Parkinson’s class in your community! Learn more about the class here.
URL:https://pdde.org/event/middletown-ymca-pedaling-for-parkinsons-powered-by-the-davis-phinney-foundation/2025-12-05/
LOCATION:Middletown YMCA\, 202 E Cochbran St\, Middletown\, DE\, 19709\, United States
ATTACH;FMTTYPE=image/png:https://pdde.org/wp-content/uploads/2024/09/Pedaling-for-Parkinsons-logo-transp-300x300-1.png
ORGANIZER;CN="Davis Phinney Foundation":MAILTO:healthyliving@ymcade.org
END:VEVENT
BEGIN:VEVENT
DTSTART;TZID=UTC:20251204T191500
DTEND;TZID=UTC:20251204T201500
DTSTAMP:20260423T225345
CREATED:20240919T185547Z
LAST-MODIFIED:20240919T185547Z
UID:10003392-1764875700-1764879300@pdde.org
SUMMARY:Brandywine YMCA - Pedaling for Parkinson's Powered by the Davis Phinney Foundation
DESCRIPTION:Learn how you can feel better and build community by joining a Pedaling for Parkinson’s class in your community! Learn more about the class here.
URL:https://pdde.org/event/brandywine-ymca-pedaling-for-parkinsons-powered-by-the-davis-phinney-foundation/2025-12-04/
LOCATION:Brandywine YMCA\, 3 Mt Lebanon Rd\, Wilmington\, DE\, 19803\, United States
ATTACH;FMTTYPE=image/png:https://pdde.org/wp-content/uploads/2024/09/Pedaling-for-Parkinsons-logo-transp-300x300-1.png
ORGANIZER;CN="Davis Phinney Foundation":MAILTO:healthyliving@ymcade.org
END:VEVENT
BEGIN:VEVENT
DTSTART;TZID=UTC:20251203T191500
DTEND;TZID=UTC:20251203T201500
DTSTAMP:20260423T225345
CREATED:20240919T185547Z
LAST-MODIFIED:20240919T185547Z
UID:10003391-1764789300-1764792900@pdde.org
SUMMARY:Brandywine YMCA - Pedaling for Parkinson's Powered by the Davis Phinney Foundation
DESCRIPTION:Learn how you can feel better and build community by joining a Pedaling for Parkinson’s class in your community! Learn more about the class here.
URL:https://pdde.org/event/brandywine-ymca-pedaling-for-parkinsons-powered-by-the-davis-phinney-foundation/2025-12-03/
LOCATION:Brandywine YMCA\, 3 Mt Lebanon Rd\, Wilmington\, DE\, 19803\, United States
ATTACH;FMTTYPE=image/png:https://pdde.org/wp-content/uploads/2024/09/Pedaling-for-Parkinsons-logo-transp-300x300-1.png
ORGANIZER;CN="Davis Phinney Foundation":MAILTO:healthyliving@ymcade.org
END:VEVENT
BEGIN:VEVENT
DTSTART;TZID=UTC:20251203T123000
DTEND;TZID=UTC:20251203T133000
DTSTAMP:20260423T225345
CREATED:20240919T185517Z
LAST-MODIFIED:20240919T185517Z
UID:10002608-1764765000-1764768600@pdde.org
SUMMARY:Dover YMCA - Pedaling for Parkinson's Powered by the Davis Phinney Foundation
DESCRIPTION:Learn how you can feel better and build community by joining a Pedaling for Parkinson’s class in your community! Learn more about the class here.
URL:https://pdde.org/event/dover-ymca-pedaling-for-parkinsons-powered-by-the-davis-phinney-foundation/2025-12-03/
LOCATION:Dover YMCA\, 1137 S. State St\, Dover\, DE\, 19901\, United States
ATTACH;FMTTYPE=image/png:https://pdde.org/wp-content/uploads/2024/09/Pedaling-for-Parkinsons-logo-transp-300x300-1.png
ORGANIZER;CN="Davis Phinney Foundation":MAILTO:healthyliving@ymcade.org
END:VEVENT
BEGIN:VEVENT
DTSTART;TZID=UTC:20251203T110000
DTEND;TZID=UTC:20251203T120000
DTSTAMP:20260423T225345
CREATED:20240919T185452Z
LAST-MODIFIED:20240919T185452Z
UID:10001825-1764759600-1764763200@pdde.org
SUMMARY:Middletown YMCA - Pedaling for Parkinson's Powered by the Davis Phinney Foundation
DESCRIPTION:Learn how you can feel better and build community by joining a Pedaling for Parkinson’s class in your community! Learn more about the class here.
URL:https://pdde.org/event/middletown-ymca-pedaling-for-parkinsons-powered-by-the-davis-phinney-foundation/2025-12-03/
LOCATION:Middletown YMCA\, 202 E Cochbran St\, Middletown\, DE\, 19709\, United States
ATTACH;FMTTYPE=image/png:https://pdde.org/wp-content/uploads/2024/09/Pedaling-for-Parkinsons-logo-transp-300x300-1.png
ORGANIZER;CN="Davis Phinney Foundation":MAILTO:healthyliving@ymcade.org
END:VEVENT
BEGIN:VEVENT
DTSTART;TZID=UTC:20251201T191500
DTEND;TZID=UTC:20251201T201500
DTSTAMP:20260423T225345
CREATED:20240919T185547Z
LAST-MODIFIED:20240919T185547Z
UID:10003390-1764616500-1764620100@pdde.org
SUMMARY:Brandywine YMCA - Pedaling for Parkinson's Powered by the Davis Phinney Foundation
DESCRIPTION:Learn how you can feel better and build community by joining a Pedaling for Parkinson’s class in your community! Learn more about the class here.
URL:https://pdde.org/event/brandywine-ymca-pedaling-for-parkinsons-powered-by-the-davis-phinney-foundation/2025-12-01/
LOCATION:Brandywine YMCA\, 3 Mt Lebanon Rd\, Wilmington\, DE\, 19803\, United States
ATTACH;FMTTYPE=image/png:https://pdde.org/wp-content/uploads/2024/09/Pedaling-for-Parkinsons-logo-transp-300x300-1.png
ORGANIZER;CN="Davis Phinney Foundation":MAILTO:healthyliving@ymcade.org
END:VEVENT
BEGIN:VEVENT
DTSTART;TZID=UTC:20251201T123000
DTEND;TZID=UTC:20251201T133000
DTSTAMP:20260423T225345
CREATED:20240919T185517Z
LAST-MODIFIED:20240919T185517Z
UID:10002607-1764592200-1764595800@pdde.org
SUMMARY:Dover YMCA - Pedaling for Parkinson's Powered by the Davis Phinney Foundation
DESCRIPTION:Learn how you can feel better and build community by joining a Pedaling for Parkinson’s class in your community! Learn more about the class here.
URL:https://pdde.org/event/dover-ymca-pedaling-for-parkinsons-powered-by-the-davis-phinney-foundation/2025-12-01/
LOCATION:Dover YMCA\, 1137 S. State St\, Dover\, DE\, 19901\, United States
ATTACH;FMTTYPE=image/png:https://pdde.org/wp-content/uploads/2024/09/Pedaling-for-Parkinsons-logo-transp-300x300-1.png
ORGANIZER;CN="Davis Phinney Foundation":MAILTO:healthyliving@ymcade.org
END:VEVENT
END:VCALENDAR