BEGIN:VCALENDAR
VERSION:2.0
PRODID:-//PDDE - ECPv6.15.20//NONSGML v1.0//EN
CALSCALE:GREGORIAN
METHOD:PUBLISH
X-WR-CALNAME:PDDE
X-ORIGINAL-URL:https://pdde.org
X-WR-CALDESC:Events for PDDE
REFRESH-INTERVAL;VALUE=DURATION:PT1H
X-Robots-Tag:noindex
X-PUBLISHED-TTL:PT1H
BEGIN:VTIMEZONE
TZID:UTC
BEGIN:STANDARD
TZOFFSETFROM:+0000
TZOFFSETTO:+0000
TZNAME:UTC
DTSTART:20250101T000000
END:STANDARD
END:VTIMEZONE
BEGIN:VEVENT
DTSTART;TZID=UTC:20260521T140000
DTEND;TZID=UTC:20260521T150000
DTSTAMP:20260422T204834
CREATED:20240508T202518Z
LAST-MODIFIED:20240531T205548Z
UID:10000807-1779372000-1779375600@pdde.org
SUMMARY:Milford Small Group
DESCRIPTION:
URL:https://pdde.org/event/milford-small-group/2026-05-21/
LOCATION:Enlivant Milford Place Assisted Living and Memory Care Community\, Dupont Boulevard\, Milford\, DE\, United States
CATEGORIES:Patients
ATTACH;FMTTYPE=image/jpeg:https://pdde.org/wp-content/uploads/2024/05/Support-Group.jpg
END:VEVENT
BEGIN:VEVENT
DTSTART;TZID=UTC:20260618T140000
DTEND;TZID=UTC:20260618T150000
DTSTAMP:20260422T204834
CREATED:20240508T202518Z
LAST-MODIFIED:20240531T205548Z
UID:10000808-1781791200-1781794800@pdde.org
SUMMARY:Milford Small Group
DESCRIPTION:
URL:https://pdde.org/event/milford-small-group/2026-06-18/
LOCATION:Enlivant Milford Place Assisted Living and Memory Care Community\, Dupont Boulevard\, Milford\, DE\, United States
CATEGORIES:Patients
ATTACH;FMTTYPE=image/jpeg:https://pdde.org/wp-content/uploads/2024/05/Support-Group.jpg
END:VEVENT
BEGIN:VEVENT
DTSTART;TZID=UTC:20260716T140000
DTEND;TZID=UTC:20260716T150000
DTSTAMP:20260422T204834
CREATED:20240508T202518Z
LAST-MODIFIED:20240531T205548Z
UID:10000809-1784210400-1784214000@pdde.org
SUMMARY:Milford Small Group
DESCRIPTION:
URL:https://pdde.org/event/milford-small-group/2026-07-16/
LOCATION:Enlivant Milford Place Assisted Living and Memory Care Community\, Dupont Boulevard\, Milford\, DE\, United States
CATEGORIES:Patients
ATTACH;FMTTYPE=image/jpeg:https://pdde.org/wp-content/uploads/2024/05/Support-Group.jpg
END:VEVENT
BEGIN:VEVENT
DTSTART;TZID=UTC:20260820T140000
DTEND;TZID=UTC:20260820T150000
DTSTAMP:20260422T204834
CREATED:20240508T202518Z
LAST-MODIFIED:20240531T205548Z
UID:10000810-1787234400-1787238000@pdde.org
SUMMARY:Milford Small Group
DESCRIPTION:
URL:https://pdde.org/event/milford-small-group/2026-08-20/
LOCATION:Enlivant Milford Place Assisted Living and Memory Care Community\, Dupont Boulevard\, Milford\, DE\, United States
CATEGORIES:Patients
ATTACH;FMTTYPE=image/jpeg:https://pdde.org/wp-content/uploads/2024/05/Support-Group.jpg
END:VEVENT
BEGIN:VEVENT
DTSTART;TZID=UTC:20260917T140000
DTEND;TZID=UTC:20260917T150000
DTSTAMP:20260422T204834
CREATED:20240508T202518Z
LAST-MODIFIED:20240531T205548Z
UID:10000811-1789653600-1789657200@pdde.org
SUMMARY:Milford Small Group
DESCRIPTION:
URL:https://pdde.org/event/milford-small-group/2026-09-17/
LOCATION:Enlivant Milford Place Assisted Living and Memory Care Community\, Dupont Boulevard\, Milford\, DE\, United States
CATEGORIES:Patients
ATTACH;FMTTYPE=image/jpeg:https://pdde.org/wp-content/uploads/2024/05/Support-Group.jpg
END:VEVENT
BEGIN:VEVENT
DTSTART;TZID=UTC:20261015T140000
DTEND;TZID=UTC:20261015T150000
DTSTAMP:20260422T204834
CREATED:20240508T202518Z
LAST-MODIFIED:20240531T205548Z
UID:10000812-1792072800-1792076400@pdde.org
SUMMARY:Milford Small Group
DESCRIPTION:
URL:https://pdde.org/event/milford-small-group/2026-10-15/
LOCATION:Enlivant Milford Place Assisted Living and Memory Care Community\, Dupont Boulevard\, Milford\, DE\, United States
CATEGORIES:Patients
ATTACH;FMTTYPE=image/jpeg:https://pdde.org/wp-content/uploads/2024/05/Support-Group.jpg
END:VEVENT
BEGIN:VEVENT
DTSTART;TZID=UTC:20261119T140000
DTEND;TZID=UTC:20261119T150000
DTSTAMP:20260422T204834
CREATED:20240508T202518Z
LAST-MODIFIED:20240531T205548Z
UID:10000813-1795096800-1795100400@pdde.org
SUMMARY:Milford Small Group
DESCRIPTION:
URL:https://pdde.org/event/milford-small-group/2026-11-19/
LOCATION:Enlivant Milford Place Assisted Living and Memory Care Community\, Dupont Boulevard\, Milford\, DE\, United States
CATEGORIES:Patients
ATTACH;FMTTYPE=image/jpeg:https://pdde.org/wp-content/uploads/2024/05/Support-Group.jpg
END:VEVENT
BEGIN:VEVENT
DTSTART;TZID=UTC:20261217T140000
DTEND;TZID=UTC:20261217T150000
DTSTAMP:20260422T204834
CREATED:20240508T202518Z
LAST-MODIFIED:20240531T205548Z
UID:10000814-1797516000-1797519600@pdde.org
SUMMARY:Milford Small Group
DESCRIPTION:
URL:https://pdde.org/event/milford-small-group/2026-12-17/
LOCATION:Enlivant Milford Place Assisted Living and Memory Care Community\, Dupont Boulevard\, Milford\, DE\, United States
CATEGORIES:Patients
ATTACH;FMTTYPE=image/jpeg:https://pdde.org/wp-content/uploads/2024/05/Support-Group.jpg
END:VEVENT
BEGIN:VEVENT
DTSTART;TZID=UTC:20270121T140000
DTEND;TZID=UTC:20270121T150000
DTSTAMP:20260422T204834
CREATED:20240508T202518Z
LAST-MODIFIED:20240531T205548Z
UID:10000815-1800540000-1800543600@pdde.org
SUMMARY:Milford Small Group
DESCRIPTION:
URL:https://pdde.org/event/milford-small-group/2027-01-21/
LOCATION:Enlivant Milford Place Assisted Living and Memory Care Community\, Dupont Boulevard\, Milford\, DE\, United States
CATEGORIES:Patients
ATTACH;FMTTYPE=image/jpeg:https://pdde.org/wp-content/uploads/2024/05/Support-Group.jpg
END:VEVENT
BEGIN:VEVENT
DTSTART;TZID=UTC:20270218T140000
DTEND;TZID=UTC:20270218T150000
DTSTAMP:20260422T204834
CREATED:20240508T202518Z
LAST-MODIFIED:20240531T205548Z
UID:10000816-1802959200-1802962800@pdde.org
SUMMARY:Milford Small Group
DESCRIPTION:
URL:https://pdde.org/event/milford-small-group/2027-02-18/
LOCATION:Enlivant Milford Place Assisted Living and Memory Care Community\, Dupont Boulevard\, Milford\, DE\, United States
CATEGORIES:Patients
ATTACH;FMTTYPE=image/jpeg:https://pdde.org/wp-content/uploads/2024/05/Support-Group.jpg
END:VEVENT
BEGIN:VEVENT
DTSTART;TZID=UTC:20270318T140000
DTEND;TZID=UTC:20270318T150000
DTSTAMP:20260422T204834
CREATED:20240508T202518Z
LAST-MODIFIED:20240531T205548Z
UID:10000817-1805378400-1805382000@pdde.org
SUMMARY:Milford Small Group
DESCRIPTION:
URL:https://pdde.org/event/milford-small-group/2027-03-18/
LOCATION:Enlivant Milford Place Assisted Living and Memory Care Community\, Dupont Boulevard\, Milford\, DE\, United States
CATEGORIES:Patients
ATTACH;FMTTYPE=image/jpeg:https://pdde.org/wp-content/uploads/2024/05/Support-Group.jpg
END:VEVENT
BEGIN:VEVENT
DTSTART;TZID=UTC:20270415T140000
DTEND;TZID=UTC:20270415T150000
DTSTAMP:20260422T204834
CREATED:20240508T202518Z
LAST-MODIFIED:20240531T205548Z
UID:10000818-1807797600-1807801200@pdde.org
SUMMARY:Milford Small Group
DESCRIPTION:
URL:https://pdde.org/event/milford-small-group/2027-04-15/
LOCATION:Enlivant Milford Place Assisted Living and Memory Care Community\, Dupont Boulevard\, Milford\, DE\, United States
CATEGORIES:Patients
ATTACH;FMTTYPE=image/jpeg:https://pdde.org/wp-content/uploads/2024/05/Support-Group.jpg
END:VEVENT
BEGIN:VEVENT
DTSTART;TZID=UTC:20270520T140000
DTEND;TZID=UTC:20270520T150000
DTSTAMP:20260422T204834
CREATED:20240508T202518Z
LAST-MODIFIED:20240531T205548Z
UID:10000819-1810821600-1810825200@pdde.org
SUMMARY:Milford Small Group
DESCRIPTION:
URL:https://pdde.org/event/milford-small-group/2027-05-20/
LOCATION:Enlivant Milford Place Assisted Living and Memory Care Community\, Dupont Boulevard\, Milford\, DE\, United States
CATEGORIES:Patients
ATTACH;FMTTYPE=image/jpeg:https://pdde.org/wp-content/uploads/2024/05/Support-Group.jpg
END:VEVENT
BEGIN:VEVENT
DTSTART;TZID=UTC:20270617T140000
DTEND;TZID=UTC:20270617T150000
DTSTAMP:20260422T204834
CREATED:20240508T202518Z
LAST-MODIFIED:20240531T205548Z
UID:10000820-1813240800-1813244400@pdde.org
SUMMARY:Milford Small Group
DESCRIPTION:
URL:https://pdde.org/event/milford-small-group/2027-06-17/
LOCATION:Enlivant Milford Place Assisted Living and Memory Care Community\, Dupont Boulevard\, Milford\, DE\, United States
CATEGORIES:Patients
ATTACH;FMTTYPE=image/jpeg:https://pdde.org/wp-content/uploads/2024/05/Support-Group.jpg
END:VEVENT
BEGIN:VEVENT
DTSTART;TZID=UTC:20270715T140000
DTEND;TZID=UTC:20270715T150000
DTSTAMP:20260422T204834
CREATED:20240508T202518Z
LAST-MODIFIED:20240531T205548Z
UID:10000821-1815660000-1815663600@pdde.org
SUMMARY:Milford Small Group
DESCRIPTION:
URL:https://pdde.org/event/milford-small-group/2027-07-15/
LOCATION:Enlivant Milford Place Assisted Living and Memory Care Community\, Dupont Boulevard\, Milford\, DE\, United States
CATEGORIES:Patients
ATTACH;FMTTYPE=image/jpeg:https://pdde.org/wp-content/uploads/2024/05/Support-Group.jpg
END:VEVENT
BEGIN:VEVENT
DTSTART;TZID=UTC:20270819T140000
DTEND;TZID=UTC:20270819T150000
DTSTAMP:20260422T204834
CREATED:20240508T202518Z
LAST-MODIFIED:20240531T205548Z
UID:10000822-1818684000-1818687600@pdde.org
SUMMARY:Milford Small Group
DESCRIPTION:
URL:https://pdde.org/event/milford-small-group/2027-08-19/
LOCATION:Enlivant Milford Place Assisted Living and Memory Care Community\, Dupont Boulevard\, Milford\, DE\, United States
CATEGORIES:Patients
ATTACH;FMTTYPE=image/jpeg:https://pdde.org/wp-content/uploads/2024/05/Support-Group.jpg
END:VEVENT
BEGIN:VEVENT
DTSTART;TZID=UTC:20270916T140000
DTEND;TZID=UTC:20270916T150000
DTSTAMP:20260422T204834
CREATED:20240508T202518Z
LAST-MODIFIED:20240531T205548Z
UID:10000823-1821103200-1821106800@pdde.org
SUMMARY:Milford Small Group
DESCRIPTION:
URL:https://pdde.org/event/milford-small-group/2027-09-16/
LOCATION:Enlivant Milford Place Assisted Living and Memory Care Community\, Dupont Boulevard\, Milford\, DE\, United States
CATEGORIES:Patients
ATTACH;FMTTYPE=image/jpeg:https://pdde.org/wp-content/uploads/2024/05/Support-Group.jpg
END:VEVENT
BEGIN:VEVENT
DTSTART;TZID=UTC:20271021T140000
DTEND;TZID=UTC:20271021T150000
DTSTAMP:20260422T204834
CREATED:20240508T202518Z
LAST-MODIFIED:20240531T205548Z
UID:10000824-1824127200-1824130800@pdde.org
SUMMARY:Milford Small Group
DESCRIPTION:
URL:https://pdde.org/event/milford-small-group/2027-10-21/
LOCATION:Enlivant Milford Place Assisted Living and Memory Care Community\, Dupont Boulevard\, Milford\, DE\, United States
CATEGORIES:Patients
ATTACH;FMTTYPE=image/jpeg:https://pdde.org/wp-content/uploads/2024/05/Support-Group.jpg
END:VEVENT
BEGIN:VEVENT
DTSTART;TZID=UTC:20271118T140000
DTEND;TZID=UTC:20271118T150000
DTSTAMP:20260422T204834
CREATED:20240508T202518Z
LAST-MODIFIED:20240531T205548Z
UID:10000825-1826546400-1826550000@pdde.org
SUMMARY:Milford Small Group
DESCRIPTION:
URL:https://pdde.org/event/milford-small-group/2027-11-18/
LOCATION:Enlivant Milford Place Assisted Living and Memory Care Community\, Dupont Boulevard\, Milford\, DE\, United States
CATEGORIES:Patients
ATTACH;FMTTYPE=image/jpeg:https://pdde.org/wp-content/uploads/2024/05/Support-Group.jpg
END:VEVENT
BEGIN:VEVENT
DTSTART;TZID=UTC:20271216T140000
DTEND;TZID=UTC:20271216T150000
DTSTAMP:20260422T204834
CREATED:20240508T202518Z
LAST-MODIFIED:20240531T205548Z
UID:10000826-1828965600-1828969200@pdde.org
SUMMARY:Milford Small Group
DESCRIPTION:
URL:https://pdde.org/event/milford-small-group/2027-12-16/
LOCATION:Enlivant Milford Place Assisted Living and Memory Care Community\, Dupont Boulevard\, Milford\, DE\, United States
CATEGORIES:Patients
ATTACH;FMTTYPE=image/jpeg:https://pdde.org/wp-content/uploads/2024/05/Support-Group.jpg
END:VEVENT
BEGIN:VEVENT
DTSTART;TZID=UTC:20280120T140000
DTEND;TZID=UTC:20280120T150000
DTSTAMP:20260422T204834
CREATED:20240508T202518Z
LAST-MODIFIED:20240531T205548Z
UID:10000827-1831989600-1831993200@pdde.org
SUMMARY:Milford Small Group
DESCRIPTION:
URL:https://pdde.org/event/milford-small-group/2028-01-20/
LOCATION:Enlivant Milford Place Assisted Living and Memory Care Community\, Dupont Boulevard\, Milford\, DE\, United States
CATEGORIES:Patients
ATTACH;FMTTYPE=image/jpeg:https://pdde.org/wp-content/uploads/2024/05/Support-Group.jpg
END:VEVENT
BEGIN:VEVENT
DTSTART;TZID=UTC:20280217T140000
DTEND;TZID=UTC:20280217T150000
DTSTAMP:20260422T204834
CREATED:20240508T202518Z
LAST-MODIFIED:20240531T205548Z
UID:10000828-1834408800-1834412400@pdde.org
SUMMARY:Milford Small Group
DESCRIPTION:
URL:https://pdde.org/event/milford-small-group/2028-02-17/
LOCATION:Enlivant Milford Place Assisted Living and Memory Care Community\, Dupont Boulevard\, Milford\, DE\, United States
CATEGORIES:Patients
ATTACH;FMTTYPE=image/jpeg:https://pdde.org/wp-content/uploads/2024/05/Support-Group.jpg
END:VEVENT
BEGIN:VEVENT
DTSTART;TZID=UTC:20280316T140000
DTEND;TZID=UTC:20280316T150000
DTSTAMP:20260422T204834
CREATED:20240508T202518Z
LAST-MODIFIED:20240531T205548Z
UID:10000829-1836828000-1836831600@pdde.org
SUMMARY:Milford Small Group
DESCRIPTION:
URL:https://pdde.org/event/milford-small-group/2028-03-16/
LOCATION:Enlivant Milford Place Assisted Living and Memory Care Community\, Dupont Boulevard\, Milford\, DE\, United States
CATEGORIES:Patients
ATTACH;FMTTYPE=image/jpeg:https://pdde.org/wp-content/uploads/2024/05/Support-Group.jpg
END:VEVENT
BEGIN:VEVENT
DTSTART;TZID=UTC:20280420T140000
DTEND;TZID=UTC:20280420T150000
DTSTAMP:20260422T204834
CREATED:20240508T202518Z
LAST-MODIFIED:20240531T205548Z
UID:10000830-1839852000-1839855600@pdde.org
SUMMARY:Milford Small Group
DESCRIPTION:
URL:https://pdde.org/event/milford-small-group/2028-04-20/
LOCATION:Enlivant Milford Place Assisted Living and Memory Care Community\, Dupont Boulevard\, Milford\, DE\, United States
CATEGORIES:Patients
ATTACH;FMTTYPE=image/jpeg:https://pdde.org/wp-content/uploads/2024/05/Support-Group.jpg
END:VEVENT
BEGIN:VEVENT
DTSTART;TZID=UTC:20280518T140000
DTEND;TZID=UTC:20280518T150000
DTSTAMP:20260422T204834
CREATED:20240508T202518Z
LAST-MODIFIED:20240531T205548Z
UID:10000831-1842271200-1842274800@pdde.org
SUMMARY:Milford Small Group
DESCRIPTION:
URL:https://pdde.org/event/milford-small-group/2028-05-18/
LOCATION:Enlivant Milford Place Assisted Living and Memory Care Community\, Dupont Boulevard\, Milford\, DE\, United States
CATEGORIES:Patients
ATTACH;FMTTYPE=image/jpeg:https://pdde.org/wp-content/uploads/2024/05/Support-Group.jpg
END:VEVENT
BEGIN:VEVENT
DTSTART;TZID=UTC:20280615T140000
DTEND;TZID=UTC:20280615T150000
DTSTAMP:20260422T204834
CREATED:20240508T202518Z
LAST-MODIFIED:20240531T205548Z
UID:10000832-1844690400-1844694000@pdde.org
SUMMARY:Milford Small Group
DESCRIPTION:
URL:https://pdde.org/event/milford-small-group/2028-06-15/
LOCATION:Enlivant Milford Place Assisted Living and Memory Care Community\, Dupont Boulevard\, Milford\, DE\, United States
CATEGORIES:Patients
ATTACH;FMTTYPE=image/jpeg:https://pdde.org/wp-content/uploads/2024/05/Support-Group.jpg
END:VEVENT
BEGIN:VEVENT
DTSTART;TZID=UTC:20280720T140000
DTEND;TZID=UTC:20280720T150000
DTSTAMP:20260422T204834
CREATED:20240508T202518Z
LAST-MODIFIED:20240531T205548Z
UID:10000833-1847714400-1847718000@pdde.org
SUMMARY:Milford Small Group
DESCRIPTION:
URL:https://pdde.org/event/milford-small-group/2028-07-20/
LOCATION:Enlivant Milford Place Assisted Living and Memory Care Community\, Dupont Boulevard\, Milford\, DE\, United States
CATEGORIES:Patients
ATTACH;FMTTYPE=image/jpeg:https://pdde.org/wp-content/uploads/2024/05/Support-Group.jpg
END:VEVENT
BEGIN:VEVENT
DTSTART;TZID=UTC:20280817T140000
DTEND;TZID=UTC:20280817T150000
DTSTAMP:20260422T204834
CREATED:20240508T202518Z
LAST-MODIFIED:20240531T205548Z
UID:10000834-1850133600-1850137200@pdde.org
SUMMARY:Milford Small Group
DESCRIPTION:
URL:https://pdde.org/event/milford-small-group/2028-08-17/
LOCATION:Enlivant Milford Place Assisted Living and Memory Care Community\, Dupont Boulevard\, Milford\, DE\, United States
CATEGORIES:Patients
ATTACH;FMTTYPE=image/jpeg:https://pdde.org/wp-content/uploads/2024/05/Support-Group.jpg
END:VEVENT
BEGIN:VEVENT
DTSTART;TZID=UTC:20280921T140000
DTEND;TZID=UTC:20280921T150000
DTSTAMP:20260422T204834
CREATED:20240508T202518Z
LAST-MODIFIED:20240531T205548Z
UID:10000835-1853157600-1853161200@pdde.org
SUMMARY:Milford Small Group
DESCRIPTION:
URL:https://pdde.org/event/milford-small-group/2028-09-21/
LOCATION:Enlivant Milford Place Assisted Living and Memory Care Community\, Dupont Boulevard\, Milford\, DE\, United States
CATEGORIES:Patients
ATTACH;FMTTYPE=image/jpeg:https://pdde.org/wp-content/uploads/2024/05/Support-Group.jpg
END:VEVENT
BEGIN:VEVENT
DTSTART;TZID=UTC:20281019T140000
DTEND;TZID=UTC:20281019T150000
DTSTAMP:20260422T204834
CREATED:20240508T202518Z
LAST-MODIFIED:20240531T205548Z
UID:10000836-1855576800-1855580400@pdde.org
SUMMARY:Milford Small Group
DESCRIPTION:
URL:https://pdde.org/event/milford-small-group/2028-10-19/
LOCATION:Enlivant Milford Place Assisted Living and Memory Care Community\, Dupont Boulevard\, Milford\, DE\, United States
CATEGORIES:Patients
ATTACH;FMTTYPE=image/jpeg:https://pdde.org/wp-content/uploads/2024/05/Support-Group.jpg
END:VEVENT
END:VCALENDAR