BEGIN:VCALENDAR
VERSION:2.0
PRODID:-//PDDE - ECPv6.15.20//NONSGML v1.0//EN
CALSCALE:GREGORIAN
METHOD:PUBLISH
X-WR-CALNAME:PDDE
X-ORIGINAL-URL:https://pdde.org
X-WR-CALDESC:Events for PDDE
REFRESH-INTERVAL;VALUE=DURATION:PT1H
X-Robots-Tag:noindex
X-PUBLISHED-TTL:PT1H
BEGIN:VTIMEZONE
TZID:UTC
BEGIN:STANDARD
TZOFFSETFROM:+0000
TZOFFSETTO:+0000
TZNAME:UTC
DTSTART:20230101T000000
END:STANDARD
END:VTIMEZONE
BEGIN:VEVENT
DTSTART;TZID=UTC:20240711T183000
DTEND;TZID=UTC:20240711T193000
DTSTAMP:20260420T020430
CREATED:20240508T202626Z
LAST-MODIFIED:20240531T204728Z
UID:10000425-1720722600-1720726200@pdde.org
SUMMARY:PD Carepartners
DESCRIPTION:
URL:https://pdde.org/event/pd-carepartners/2024-07-11/
CATEGORIES:Caregivers
ATTACH;FMTTYPE=image/jpeg:https://pdde.org/wp-content/uploads/2024/05/Support-Group.jpg
ORGANIZER;CN="Marge Fleming-Smith":MAILTO:mflemingsmith@yahoo.com
END:VEVENT
BEGIN:VEVENT
DTSTART;TZID=UTC:20240718T140000
DTEND;TZID=UTC:20240718T150000
DTSTAMP:20260420T020430
CREATED:20240604T231134Z
LAST-MODIFIED:20240606T173959Z
UID:10001304-1721311200-1721314800@pdde.org
SUMMARY:Acts Country House Parkinsons Support Groups For Patients Partners & Caregivers
DESCRIPTION:Two support groups\, one for People with Parkinson’s Disease (PwPD) and another for Partners/Caregivers\, meet on the third Thursday of each month at 2 p.m. Each group welcomes the public\, as well as members of the ACTS communities.
URL:https://pdde.org/event/acts-country-house-parkinsons-support-groups-for-patients-2/2024-07-18/
LOCATION:Acts Country House\, 4830 Kennett Pike\, Wilmington\, DE\, 19807\, United States
CATEGORIES:Caregivers,Patients
ATTACH;FMTTYPE=image/jpeg:https://pdde.org/wp-content/uploads/2024/05/Support-Group.jpg
ORGANIZER;CN="Kathi Sanders":MAILTO:kathisanders@gmail.com
END:VEVENT
BEGIN:VEVENT
DTSTART;TZID=UTC:20240718T140000
DTEND;TZID=UTC:20240718T170000
DTSTAMP:20260420T020430
CREATED:20240507T231321Z
LAST-MODIFIED:20240531T210034Z
UID:10000005-1721311200-1721322000@pdde.org
SUMMARY:Patient Support Group & Care Partners Group
DESCRIPTION:
URL:https://pdde.org/event/patient-support-group-care-partners-group/2024-07-18/
LOCATION:Acts Country House\, 4830 Kennett Pike\, Wilmington\, DE\, 19807\, United States
CATEGORIES:Caregivers,Patients
ATTACH;FMTTYPE=image/jpeg:https://pdde.org/wp-content/uploads/2024/05/Support-Group.jpg
ORGANIZER;CN="Joann Helmeczi":MAILTO:helmeczihc@gmail.com
END:VEVENT
BEGIN:VEVENT
DTSTART;TZID=UTC:20240723T100000
DTEND;TZID=UTC:20240723T110000
DTSTAMP:20260420T020430
CREATED:20240508T202315Z
LAST-MODIFIED:20240531T205704Z
UID:10000845-1721728800-1721732400@pdde.org
SUMMARY:Caregivers Discussion Group
DESCRIPTION:
URL:https://pdde.org/event/caregivers-discussion-group/2024-07-23/
LOCATION:Harbor Lights Cheer Center\, Woods Edge Road\, Lewes\, DE\, United States
CATEGORIES:Caregivers
ATTACH;FMTTYPE=image/jpeg:https://pdde.org/wp-content/uploads/2024/05/Support-Group.jpg
END:VEVENT
BEGIN:VEVENT
DTSTART;TZID=UTC:20240808T183000
DTEND;TZID=UTC:20240808T193000
DTSTAMP:20260420T020430
CREATED:20240508T202626Z
LAST-MODIFIED:20240531T204728Z
UID:10000426-1723141800-1723145400@pdde.org
SUMMARY:PD Carepartners
DESCRIPTION:
URL:https://pdde.org/event/pd-carepartners/2024-08-08/
CATEGORIES:Caregivers
ATTACH;FMTTYPE=image/jpeg:https://pdde.org/wp-content/uploads/2024/05/Support-Group.jpg
ORGANIZER;CN="Marge Fleming-Smith":MAILTO:mflemingsmith@yahoo.com
END:VEVENT
BEGIN:VEVENT
DTSTART;TZID=UTC:20240815T140000
DTEND;TZID=UTC:20240815T150000
DTSTAMP:20260420T020430
CREATED:20240604T231134Z
LAST-MODIFIED:20240606T173959Z
UID:10001305-1723730400-1723734000@pdde.org
SUMMARY:Acts Country House Parkinsons Support Groups For Patients Partners & Caregivers
DESCRIPTION:Two support groups\, one for People with Parkinson’s Disease (PwPD) and another for Partners/Caregivers\, meet on the third Thursday of each month at 2 p.m. Each group welcomes the public\, as well as members of the ACTS communities.
URL:https://pdde.org/event/acts-country-house-parkinsons-support-groups-for-patients-2/2024-08-15/
LOCATION:Acts Country House\, 4830 Kennett Pike\, Wilmington\, DE\, 19807\, United States
CATEGORIES:Caregivers,Patients
ATTACH;FMTTYPE=image/jpeg:https://pdde.org/wp-content/uploads/2024/05/Support-Group.jpg
ORGANIZER;CN="Kathi Sanders":MAILTO:kathisanders@gmail.com
END:VEVENT
BEGIN:VEVENT
DTSTART;TZID=UTC:20240815T140000
DTEND;TZID=UTC:20240815T170000
DTSTAMP:20260420T020430
CREATED:20240507T231321Z
LAST-MODIFIED:20240531T210034Z
UID:10000006-1723730400-1723741200@pdde.org
SUMMARY:Patient Support Group & Care Partners Group
DESCRIPTION:
URL:https://pdde.org/event/patient-support-group-care-partners-group/2024-08-15/
LOCATION:Acts Country House\, 4830 Kennett Pike\, Wilmington\, DE\, 19807\, United States
CATEGORIES:Caregivers,Patients
ATTACH;FMTTYPE=image/jpeg:https://pdde.org/wp-content/uploads/2024/05/Support-Group.jpg
ORGANIZER;CN="Joann Helmeczi":MAILTO:helmeczihc@gmail.com
END:VEVENT
BEGIN:VEVENT
DTSTART;TZID=UTC:20240827T100000
DTEND;TZID=UTC:20240827T110000
DTSTAMP:20260420T020430
CREATED:20240508T202315Z
LAST-MODIFIED:20240531T205704Z
UID:10000846-1724752800-1724756400@pdde.org
SUMMARY:Caregivers Discussion Group
DESCRIPTION:
URL:https://pdde.org/event/caregivers-discussion-group/2024-08-27/
LOCATION:Harbor Lights Cheer Center\, Woods Edge Road\, Lewes\, DE\, United States
CATEGORIES:Caregivers
ATTACH;FMTTYPE=image/jpeg:https://pdde.org/wp-content/uploads/2024/05/Support-Group.jpg
END:VEVENT
BEGIN:VEVENT
DTSTART;TZID=UTC:20240912T183000
DTEND;TZID=UTC:20240912T193000
DTSTAMP:20260420T020430
CREATED:20240809T181501Z
LAST-MODIFIED:20240809T181624Z
UID:10000427-1726165800-1726169400@pdde.org
SUMMARY:PD Carepartners
DESCRIPTION:
URL:https://pdde.org/event/pd-carepartners-2/2024-09-12/
CATEGORIES:Caregivers
ATTACH;FMTTYPE=image/jpeg:https://pdde.org/wp-content/uploads/2024/05/Support-Group.jpg
ORGANIZER;CN="Marge Fleming-Smith":MAILTO:mflemingsmith@yahoo.com
END:VEVENT
BEGIN:VEVENT
DTSTART;TZID=UTC:20240919T140000
DTEND;TZID=UTC:20240919T150000
DTSTAMP:20260420T020430
CREATED:20240604T231134Z
LAST-MODIFIED:20240606T173959Z
UID:10001306-1726754400-1726758000@pdde.org
SUMMARY:Acts Country House Parkinsons Support Groups For Patients Partners & Caregivers
DESCRIPTION:Two support groups\, one for People with Parkinson’s Disease (PwPD) and another for Partners/Caregivers\, meet on the third Thursday of each month at 2 p.m. Each group welcomes the public\, as well as members of the ACTS communities.
URL:https://pdde.org/event/acts-country-house-parkinsons-support-groups-for-patients-2/2024-09-19/
LOCATION:Acts Country House\, 4830 Kennett Pike\, Wilmington\, DE\, 19807\, United States
CATEGORIES:Caregivers,Patients
ATTACH;FMTTYPE=image/jpeg:https://pdde.org/wp-content/uploads/2024/05/Support-Group.jpg
ORGANIZER;CN="Kathi Sanders":MAILTO:kathisanders@gmail.com
END:VEVENT
BEGIN:VEVENT
DTSTART;TZID=UTC:20240919T140000
DTEND;TZID=UTC:20240919T170000
DTSTAMP:20260420T020430
CREATED:20240507T231321Z
LAST-MODIFIED:20240531T210034Z
UID:10000007-1726754400-1726765200@pdde.org
SUMMARY:Patient Support Group & Care Partners Group
DESCRIPTION:
URL:https://pdde.org/event/patient-support-group-care-partners-group/2024-09-19/
LOCATION:Acts Country House\, 4830 Kennett Pike\, Wilmington\, DE\, 19807\, United States
CATEGORIES:Caregivers,Patients
ATTACH;FMTTYPE=image/jpeg:https://pdde.org/wp-content/uploads/2024/05/Support-Group.jpg
ORGANIZER;CN="Joann Helmeczi":MAILTO:helmeczihc@gmail.com
END:VEVENT
BEGIN:VEVENT
DTSTART;TZID=UTC:20240924T100000
DTEND;TZID=UTC:20240924T110000
DTSTAMP:20260420T020430
CREATED:20240508T202315Z
LAST-MODIFIED:20240531T205704Z
UID:10000847-1727172000-1727175600@pdde.org
SUMMARY:Caregivers Discussion Group
DESCRIPTION:
URL:https://pdde.org/event/caregivers-discussion-group/2024-09-24/
LOCATION:Harbor Lights Cheer Center\, Woods Edge Road\, Lewes\, DE\, United States
CATEGORIES:Caregivers
ATTACH;FMTTYPE=image/jpeg:https://pdde.org/wp-content/uploads/2024/05/Support-Group.jpg
END:VEVENT
BEGIN:VEVENT
DTSTART;TZID=UTC:20241010T183000
DTEND;TZID=UTC:20241010T193000
DTSTAMP:20260420T020430
CREATED:20240809T181501Z
LAST-MODIFIED:20240809T181624Z
UID:10000428-1728585000-1728588600@pdde.org
SUMMARY:PD Carepartners
DESCRIPTION:
URL:https://pdde.org/event/pd-carepartners-2/2024-10-10/
CATEGORIES:Caregivers
ATTACH;FMTTYPE=image/jpeg:https://pdde.org/wp-content/uploads/2024/05/Support-Group.jpg
ORGANIZER;CN="Marge Fleming-Smith":MAILTO:mflemingsmith@yahoo.com
END:VEVENT
BEGIN:VEVENT
DTSTART;TZID=UTC:20241017T140000
DTEND;TZID=UTC:20241017T150000
DTSTAMP:20260420T020430
CREATED:20240604T231134Z
LAST-MODIFIED:20240606T173959Z
UID:10001307-1729173600-1729177200@pdde.org
SUMMARY:Acts Country House Parkinsons Support Groups For Patients Partners & Caregivers
DESCRIPTION:Two support groups\, one for People with Parkinson’s Disease (PwPD) and another for Partners/Caregivers\, meet on the third Thursday of each month at 2 p.m. Each group welcomes the public\, as well as members of the ACTS communities.
URL:https://pdde.org/event/acts-country-house-parkinsons-support-groups-for-patients-2/2024-10-17/
LOCATION:Acts Country House\, 4830 Kennett Pike\, Wilmington\, DE\, 19807\, United States
CATEGORIES:Caregivers,Patients
ATTACH;FMTTYPE=image/jpeg:https://pdde.org/wp-content/uploads/2024/05/Support-Group.jpg
ORGANIZER;CN="Kathi Sanders":MAILTO:kathisanders@gmail.com
END:VEVENT
BEGIN:VEVENT
DTSTART;TZID=UTC:20241017T140000
DTEND;TZID=UTC:20241017T170000
DTSTAMP:20260420T020430
CREATED:20240507T231321Z
LAST-MODIFIED:20240531T210034Z
UID:10000008-1729173600-1729184400@pdde.org
SUMMARY:Patient Support Group & Care Partners Group
DESCRIPTION:
URL:https://pdde.org/event/patient-support-group-care-partners-group/2024-10-17/
LOCATION:Acts Country House\, 4830 Kennett Pike\, Wilmington\, DE\, 19807\, United States
CATEGORIES:Caregivers,Patients
ATTACH;FMTTYPE=image/jpeg:https://pdde.org/wp-content/uploads/2024/05/Support-Group.jpg
ORGANIZER;CN="Joann Helmeczi":MAILTO:helmeczihc@gmail.com
END:VEVENT
BEGIN:VEVENT
DTSTART;TZID=UTC:20241022T100000
DTEND;TZID=UTC:20241022T110000
DTSTAMP:20260420T020430
CREATED:20240508T202315Z
LAST-MODIFIED:20240531T205704Z
UID:10000848-1729591200-1729594800@pdde.org
SUMMARY:Caregivers Discussion Group
DESCRIPTION:
URL:https://pdde.org/event/caregivers-discussion-group/2024-10-22/
LOCATION:Harbor Lights Cheer Center\, Woods Edge Road\, Lewes\, DE\, United States
CATEGORIES:Caregivers
ATTACH;FMTTYPE=image/jpeg:https://pdde.org/wp-content/uploads/2024/05/Support-Group.jpg
END:VEVENT
BEGIN:VEVENT
DTSTART;TZID=UTC:20241114T183000
DTEND;TZID=UTC:20241114T193000
DTSTAMP:20260420T020430
CREATED:20240809T181501Z
LAST-MODIFIED:20240809T181624Z
UID:10000429-1731609000-1731612600@pdde.org
SUMMARY:PD Carepartners
DESCRIPTION:
URL:https://pdde.org/event/pd-carepartners-2/2024-11-14/
CATEGORIES:Caregivers
ATTACH;FMTTYPE=image/jpeg:https://pdde.org/wp-content/uploads/2024/05/Support-Group.jpg
ORGANIZER;CN="Marge Fleming-Smith":MAILTO:mflemingsmith@yahoo.com
END:VEVENT
BEGIN:VEVENT
DTSTART;TZID=UTC:20241121T140000
DTEND;TZID=UTC:20241121T150000
DTSTAMP:20260420T020430
CREATED:20240604T231134Z
LAST-MODIFIED:20240606T173959Z
UID:10001308-1732197600-1732201200@pdde.org
SUMMARY:Acts Country House Parkinsons Support Groups For Patients Partners & Caregivers
DESCRIPTION:Two support groups\, one for People with Parkinson’s Disease (PwPD) and another for Partners/Caregivers\, meet on the third Thursday of each month at 2 p.m. Each group welcomes the public\, as well as members of the ACTS communities.
URL:https://pdde.org/event/acts-country-house-parkinsons-support-groups-for-patients-2/2024-11-21/
LOCATION:Acts Country House\, 4830 Kennett Pike\, Wilmington\, DE\, 19807\, United States
CATEGORIES:Caregivers,Patients
ATTACH;FMTTYPE=image/jpeg:https://pdde.org/wp-content/uploads/2024/05/Support-Group.jpg
ORGANIZER;CN="Kathi Sanders":MAILTO:kathisanders@gmail.com
END:VEVENT
BEGIN:VEVENT
DTSTART;TZID=UTC:20241121T140000
DTEND;TZID=UTC:20241121T170000
DTSTAMP:20260420T020430
CREATED:20240507T231321Z
LAST-MODIFIED:20240531T210034Z
UID:10000009-1732197600-1732208400@pdde.org
SUMMARY:Patient Support Group & Care Partners Group
DESCRIPTION:
URL:https://pdde.org/event/patient-support-group-care-partners-group/2024-11-21/
LOCATION:Acts Country House\, 4830 Kennett Pike\, Wilmington\, DE\, 19807\, United States
CATEGORIES:Caregivers,Patients
ATTACH;FMTTYPE=image/jpeg:https://pdde.org/wp-content/uploads/2024/05/Support-Group.jpg
ORGANIZER;CN="Joann Helmeczi":MAILTO:helmeczihc@gmail.com
END:VEVENT
BEGIN:VEVENT
DTSTART;TZID=UTC:20241126T100000
DTEND;TZID=UTC:20241126T110000
DTSTAMP:20260420T020430
CREATED:20240508T202315Z
LAST-MODIFIED:20240531T205704Z
UID:10000849-1732615200-1732618800@pdde.org
SUMMARY:Caregivers Discussion Group
DESCRIPTION:
URL:https://pdde.org/event/caregivers-discussion-group/2024-11-26/
LOCATION:Harbor Lights Cheer Center\, Woods Edge Road\, Lewes\, DE\, United States
CATEGORIES:Caregivers
ATTACH;FMTTYPE=image/jpeg:https://pdde.org/wp-content/uploads/2024/05/Support-Group.jpg
END:VEVENT
BEGIN:VEVENT
DTSTART;TZID=UTC:20241212T183000
DTEND;TZID=UTC:20241212T193000
DTSTAMP:20260420T020430
CREATED:20240809T181501Z
LAST-MODIFIED:20240809T181624Z
UID:10000430-1734028200-1734031800@pdde.org
SUMMARY:PD Carepartners
DESCRIPTION:
URL:https://pdde.org/event/pd-carepartners-2/2024-12-12/
CATEGORIES:Caregivers
ATTACH;FMTTYPE=image/jpeg:https://pdde.org/wp-content/uploads/2024/05/Support-Group.jpg
ORGANIZER;CN="Marge Fleming-Smith":MAILTO:mflemingsmith@yahoo.com
END:VEVENT
BEGIN:VEVENT
DTSTART;TZID=UTC:20241219T140000
DTEND;TZID=UTC:20241219T150000
DTSTAMP:20260420T020430
CREATED:20240604T231134Z
LAST-MODIFIED:20240606T173959Z
UID:10001309-1734616800-1734620400@pdde.org
SUMMARY:Acts Country House Parkinsons Support Groups For Patients Partners & Caregivers
DESCRIPTION:Two support groups\, one for People with Parkinson’s Disease (PwPD) and another for Partners/Caregivers\, meet on the third Thursday of each month at 2 p.m. Each group welcomes the public\, as well as members of the ACTS communities.
URL:https://pdde.org/event/acts-country-house-parkinsons-support-groups-for-patients-2/2024-12-19/
LOCATION:Acts Country House\, 4830 Kennett Pike\, Wilmington\, DE\, 19807\, United States
CATEGORIES:Caregivers,Patients
ATTACH;FMTTYPE=image/jpeg:https://pdde.org/wp-content/uploads/2024/05/Support-Group.jpg
ORGANIZER;CN="Kathi Sanders":MAILTO:kathisanders@gmail.com
END:VEVENT
BEGIN:VEVENT
DTSTART;TZID=UTC:20241219T140000
DTEND;TZID=UTC:20241219T170000
DTSTAMP:20260420T020430
CREATED:20240507T231321Z
LAST-MODIFIED:20240531T210034Z
UID:10000010-1734616800-1734627600@pdde.org
SUMMARY:Patient Support Group & Care Partners Group
DESCRIPTION:
URL:https://pdde.org/event/patient-support-group-care-partners-group/2024-12-19/
LOCATION:Acts Country House\, 4830 Kennett Pike\, Wilmington\, DE\, 19807\, United States
CATEGORIES:Caregivers,Patients
ATTACH;FMTTYPE=image/jpeg:https://pdde.org/wp-content/uploads/2024/05/Support-Group.jpg
ORGANIZER;CN="Joann Helmeczi":MAILTO:helmeczihc@gmail.com
END:VEVENT
BEGIN:VEVENT
DTSTART;TZID=UTC:20241224T100000
DTEND;TZID=UTC:20241224T110000
DTSTAMP:20260420T020430
CREATED:20240508T202315Z
LAST-MODIFIED:20240531T205704Z
UID:10000850-1735034400-1735038000@pdde.org
SUMMARY:Caregivers Discussion Group
DESCRIPTION:
URL:https://pdde.org/event/caregivers-discussion-group/2024-12-24/
LOCATION:Harbor Lights Cheer Center\, Woods Edge Road\, Lewes\, DE\, United States
CATEGORIES:Caregivers
ATTACH;FMTTYPE=image/jpeg:https://pdde.org/wp-content/uploads/2024/05/Support-Group.jpg
END:VEVENT
BEGIN:VEVENT
DTSTART;TZID=UTC:20250109T183000
DTEND;TZID=UTC:20250109T193000
DTSTAMP:20260420T020430
CREATED:20240809T181501Z
LAST-MODIFIED:20240809T181624Z
UID:10000431-1736447400-1736451000@pdde.org
SUMMARY:PD Carepartners
DESCRIPTION:
URL:https://pdde.org/event/pd-carepartners-2/2025-01-09/
CATEGORIES:Caregivers
ATTACH;FMTTYPE=image/jpeg:https://pdde.org/wp-content/uploads/2024/05/Support-Group.jpg
ORGANIZER;CN="Marge Fleming-Smith":MAILTO:mflemingsmith@yahoo.com
END:VEVENT
BEGIN:VEVENT
DTSTART;TZID=UTC:20250116T140000
DTEND;TZID=UTC:20250116T150000
DTSTAMP:20260420T020430
CREATED:20240604T231134Z
LAST-MODIFIED:20240606T173959Z
UID:10001310-1737036000-1737039600@pdde.org
SUMMARY:Acts Country House Parkinsons Support Groups For Patients Partners & Caregivers
DESCRIPTION:Two support groups\, one for People with Parkinson’s Disease (PwPD) and another for Partners/Caregivers\, meet on the third Thursday of each month at 2 p.m. Each group welcomes the public\, as well as members of the ACTS communities.
URL:https://pdde.org/event/acts-country-house-parkinsons-support-groups-for-patients-2/2025-01-16/
LOCATION:Acts Country House\, 4830 Kennett Pike\, Wilmington\, DE\, 19807\, United States
CATEGORIES:Caregivers,Patients
ATTACH;FMTTYPE=image/jpeg:https://pdde.org/wp-content/uploads/2024/05/Support-Group.jpg
ORGANIZER;CN="Kathi Sanders":MAILTO:kathisanders@gmail.com
END:VEVENT
BEGIN:VEVENT
DTSTART;TZID=UTC:20250116T140000
DTEND;TZID=UTC:20250116T170000
DTSTAMP:20260420T020430
CREATED:20240507T231321Z
LAST-MODIFIED:20240531T210034Z
UID:10000011-1737036000-1737046800@pdde.org
SUMMARY:Patient Support Group & Care Partners Group
DESCRIPTION:
URL:https://pdde.org/event/patient-support-group-care-partners-group/2025-01-16/
LOCATION:Acts Country House\, 4830 Kennett Pike\, Wilmington\, DE\, 19807\, United States
CATEGORIES:Caregivers,Patients
ATTACH;FMTTYPE=image/jpeg:https://pdde.org/wp-content/uploads/2024/05/Support-Group.jpg
ORGANIZER;CN="Joann Helmeczi":MAILTO:helmeczihc@gmail.com
END:VEVENT
BEGIN:VEVENT
DTSTART;TZID=UTC:20250128T100000
DTEND;TZID=UTC:20250128T110000
DTSTAMP:20260420T020430
CREATED:20240508T202315Z
LAST-MODIFIED:20240531T205704Z
UID:10000851-1738058400-1738062000@pdde.org
SUMMARY:Caregivers Discussion Group
DESCRIPTION:
URL:https://pdde.org/event/caregivers-discussion-group/2025-01-28/
LOCATION:Harbor Lights Cheer Center\, Woods Edge Road\, Lewes\, DE\, United States
CATEGORIES:Caregivers
ATTACH;FMTTYPE=image/jpeg:https://pdde.org/wp-content/uploads/2024/05/Support-Group.jpg
END:VEVENT
BEGIN:VEVENT
DTSTART;TZID=UTC:20250213T183000
DTEND;TZID=UTC:20250213T193000
DTSTAMP:20260420T020430
CREATED:20240809T181501Z
LAST-MODIFIED:20240809T181624Z
UID:10000432-1739471400-1739475000@pdde.org
SUMMARY:PD Carepartners
DESCRIPTION:
URL:https://pdde.org/event/pd-carepartners-2/2025-02-13/
CATEGORIES:Caregivers
ATTACH;FMTTYPE=image/jpeg:https://pdde.org/wp-content/uploads/2024/05/Support-Group.jpg
ORGANIZER;CN="Marge Fleming-Smith":MAILTO:mflemingsmith@yahoo.com
END:VEVENT
BEGIN:VEVENT
DTSTART;TZID=UTC:20250220T140000
DTEND;TZID=UTC:20250220T150000
DTSTAMP:20260420T020430
CREATED:20240604T231134Z
LAST-MODIFIED:20240606T173959Z
UID:10001311-1740060000-1740063600@pdde.org
SUMMARY:Acts Country House Parkinsons Support Groups For Patients Partners & Caregivers
DESCRIPTION:Two support groups\, one for People with Parkinson’s Disease (PwPD) and another for Partners/Caregivers\, meet on the third Thursday of each month at 2 p.m. Each group welcomes the public\, as well as members of the ACTS communities.
URL:https://pdde.org/event/acts-country-house-parkinsons-support-groups-for-patients-2/2025-02-20/
LOCATION:Acts Country House\, 4830 Kennett Pike\, Wilmington\, DE\, 19807\, United States
CATEGORIES:Caregivers,Patients
ATTACH;FMTTYPE=image/jpeg:https://pdde.org/wp-content/uploads/2024/05/Support-Group.jpg
ORGANIZER;CN="Kathi Sanders":MAILTO:kathisanders@gmail.com
END:VEVENT
END:VCALENDAR