BEGIN:VCALENDAR
VERSION:2.0
PRODID:-//PDDE - ECPv6.15.20//NONSGML v1.0//EN
CALSCALE:GREGORIAN
METHOD:PUBLISH
X-ORIGINAL-URL:https://pdde.org
X-WR-CALDESC:Events for PDDE
REFRESH-INTERVAL;VALUE=DURATION:PT1H
X-Robots-Tag:noindex
X-PUBLISHED-TTL:PT1H
BEGIN:VTIMEZONE
TZID:UTC
BEGIN:STANDARD
TZOFFSETFROM:+0000
TZOFFSETTO:+0000
TZNAME:UTC
DTSTART:20230101T000000
END:STANDARD
END:VTIMEZONE
BEGIN:VEVENT
DTSTART;TZID=UTC:20240418T140000
DTEND;TZID=UTC:20240418T170000
DTSTAMP:20260422T140801
CREATED:20240507T231321Z
LAST-MODIFIED:20240531T210034Z
UID:10000002-1713448800-1713459600@pdde.org
SUMMARY:Patient Support Group & Care Partners Group
DESCRIPTION:
URL:https://pdde.org/event/patient-support-group-care-partners-group/2024-04-18/
LOCATION:Acts Country House\, 4830 Kennett Pike\, Wilmington\, DE\, 19807\, United States
CATEGORIES:Caregivers,Patients
ATTACH;FMTTYPE=image/jpeg:https://pdde.org/wp-content/uploads/2024/05/Support-Group.jpg
ORGANIZER;CN="Joann Helmeczi":MAILTO:helmeczihc@gmail.com
END:VEVENT
END:VCALENDAR